BEGIN:VCALENDAR
VERSION:2.0
PRODID:-//DANCE SOUL 舞魂街舞學校 - ECPv6.15.18//NONSGML v1.0//EN
CALSCALE:GREGORIAN
METHOD:PUBLISH
X-WR-CALNAME:DANCE SOUL 舞魂街舞學校
X-ORIGINAL-URL:https://www.dancesoul.com.tw
X-WR-CALDESC:Events for DANCE SOUL 舞魂街舞學校
REFRESH-INTERVAL;VALUE=DURATION:PT1H
X-Robots-Tag:noindex
X-PUBLISHED-TTL:PT1H
BEGIN:VTIMEZONE
TZID:Asia/Shanghai
BEGIN:STANDARD
TZOFFSETFROM:+0800
TZOFFSETTO:+0800
TZNAME:CST
DTSTART:20260101T000000
END:STANDARD
END:VTIMEZONE
BEGIN:VEVENT
DTSTART;TZID=Asia/Shanghai:20270302T213500
DTEND;TZID=Asia/Shanghai:20270302T223500
DTSTAMP:20260426T035836
CREATED:20260327T081822Z
LAST-MODIFIED:20260327T081932Z
UID:10032159-1804023300-1804026900@www.dancesoul.com.tw
SUMMARY:Hip Hop-承翰
DESCRIPTION:
URL:https://www.dancesoul.com.tw/schedule/hip-hop-%e6%89%bf%e7%bf%b0-2-3/2027-03-02/
CATEGORIES:Hip Hop,常態課_一般,課程
END:VEVENT
BEGIN:VEVENT
DTSTART;TZID=Asia/Shanghai:20270304T182000
DTEND;TZID=Asia/Shanghai:20270304T192000
DTSTAMP:20260426T035836
CREATED:20251202T055643Z
LAST-MODIFIED:20251202T055645Z
UID:10025519-1804184400-1804188000@www.dancesoul.com.tw
SUMMARY:Street Jazz-羊羊
DESCRIPTION:
URL:https://www.dancesoul.com.tw/schedule/hip-hop-%e4%bd%90%e4%bd%90-2-2/2027-03-04/
CATEGORIES:Hip Hop,常態課_一般,課程
END:VEVENT
BEGIN:VEVENT
DTSTART;TZID=Asia/Shanghai:20270307T192500
DTEND;TZID=Asia/Shanghai:20270307T202500
DTSTAMP:20260426T035836
CREATED:20260327T081608Z
LAST-MODIFIED:20260327T081608Z
UID:10030211-1804447500-1804451100@www.dancesoul.com.tw
SUMMARY:Hip Hop-ROD
DESCRIPTION:
URL:https://www.dancesoul.com.tw/schedule/hip-hop-%e6%89%bf%e7%bf%b0-2-2/2027-03-07/
CATEGORIES:Hip Hop,常態課_一般,課程
END:VEVENT
BEGIN:VEVENT
DTSTART;TZID=Asia/Shanghai:20270309T213500
DTEND;TZID=Asia/Shanghai:20270309T223500
DTSTAMP:20260426T035836
CREATED:20260327T081822Z
LAST-MODIFIED:20260327T081932Z
UID:10032160-1804628100-1804631700@www.dancesoul.com.tw
SUMMARY:Hip Hop-承翰
DESCRIPTION:
URL:https://www.dancesoul.com.tw/schedule/hip-hop-%e6%89%bf%e7%bf%b0-2-3/2027-03-09/
CATEGORIES:Hip Hop,常態課_一般,課程
END:VEVENT
BEGIN:VEVENT
DTSTART;TZID=Asia/Shanghai:20270311T182000
DTEND;TZID=Asia/Shanghai:20270311T192000
DTSTAMP:20260426T035836
CREATED:20251202T055643Z
LAST-MODIFIED:20251202T055645Z
UID:10025520-1804789200-1804792800@www.dancesoul.com.tw
SUMMARY:Street Jazz-羊羊
DESCRIPTION:
URL:https://www.dancesoul.com.tw/schedule/hip-hop-%e4%bd%90%e4%bd%90-2-2/2027-03-11/
CATEGORIES:Hip Hop,常態課_一般,課程
END:VEVENT
BEGIN:VEVENT
DTSTART;TZID=Asia/Shanghai:20270314T192500
DTEND;TZID=Asia/Shanghai:20270314T202500
DTSTAMP:20260426T035836
CREATED:20260327T081608Z
LAST-MODIFIED:20260327T081608Z
UID:10030212-1805052300-1805055900@www.dancesoul.com.tw
SUMMARY:Hip Hop-ROD
DESCRIPTION:
URL:https://www.dancesoul.com.tw/schedule/hip-hop-%e6%89%bf%e7%bf%b0-2-2/2027-03-14/
CATEGORIES:Hip Hop,常態課_一般,課程
END:VEVENT
BEGIN:VEVENT
DTSTART;TZID=Asia/Shanghai:20270316T213500
DTEND;TZID=Asia/Shanghai:20270316T223500
DTSTAMP:20260426T035836
CREATED:20260327T081822Z
LAST-MODIFIED:20260327T081932Z
UID:10032161-1805232900-1805236500@www.dancesoul.com.tw
SUMMARY:Hip Hop-承翰
DESCRIPTION:
URL:https://www.dancesoul.com.tw/schedule/hip-hop-%e6%89%bf%e7%bf%b0-2-3/2027-03-16/
CATEGORIES:Hip Hop,常態課_一般,課程
END:VEVENT
BEGIN:VEVENT
DTSTART;TZID=Asia/Shanghai:20270318T182000
DTEND;TZID=Asia/Shanghai:20270318T192000
DTSTAMP:20260426T035836
CREATED:20251202T055643Z
LAST-MODIFIED:20251202T055645Z
UID:10025521-1805394000-1805397600@www.dancesoul.com.tw
SUMMARY:Street Jazz-羊羊
DESCRIPTION:
URL:https://www.dancesoul.com.tw/schedule/hip-hop-%e4%bd%90%e4%bd%90-2-2/2027-03-18/
CATEGORIES:Hip Hop,常態課_一般,課程
END:VEVENT
BEGIN:VEVENT
DTSTART;TZID=Asia/Shanghai:20270321T192500
DTEND;TZID=Asia/Shanghai:20270321T202500
DTSTAMP:20260426T035836
CREATED:20260327T081608Z
LAST-MODIFIED:20260327T081608Z
UID:10030213-1805657100-1805660700@www.dancesoul.com.tw
SUMMARY:Hip Hop-ROD
DESCRIPTION:
URL:https://www.dancesoul.com.tw/schedule/hip-hop-%e6%89%bf%e7%bf%b0-2-2/2027-03-21/
CATEGORIES:Hip Hop,常態課_一般,課程
END:VEVENT
BEGIN:VEVENT
DTSTART;TZID=Asia/Shanghai:20270323T213500
DTEND;TZID=Asia/Shanghai:20270323T223500
DTSTAMP:20260426T035836
CREATED:20260327T081822Z
LAST-MODIFIED:20260327T081932Z
UID:10032162-1805837700-1805841300@www.dancesoul.com.tw
SUMMARY:Hip Hop-承翰
DESCRIPTION:
URL:https://www.dancesoul.com.tw/schedule/hip-hop-%e6%89%bf%e7%bf%b0-2-3/2027-03-23/
CATEGORIES:Hip Hop,常態課_一般,課程
END:VEVENT
BEGIN:VEVENT
DTSTART;TZID=Asia/Shanghai:20270325T182000
DTEND;TZID=Asia/Shanghai:20270325T192000
DTSTAMP:20260426T035836
CREATED:20251202T055643Z
LAST-MODIFIED:20251202T055645Z
UID:10025522-1805998800-1806002400@www.dancesoul.com.tw
SUMMARY:Street Jazz-羊羊
DESCRIPTION:
URL:https://www.dancesoul.com.tw/schedule/hip-hop-%e4%bd%90%e4%bd%90-2-2/2027-03-25/
CATEGORIES:Hip Hop,常態課_一般,課程
END:VEVENT
BEGIN:VEVENT
DTSTART;TZID=Asia/Shanghai:20270328T192500
DTEND;TZID=Asia/Shanghai:20270328T202500
DTSTAMP:20260426T035836
CREATED:20260327T081608Z
LAST-MODIFIED:20260327T081608Z
UID:10030214-1806261900-1806265500@www.dancesoul.com.tw
SUMMARY:Hip Hop-ROD
DESCRIPTION:
URL:https://www.dancesoul.com.tw/schedule/hip-hop-%e6%89%bf%e7%bf%b0-2-2/2027-03-28/
CATEGORIES:Hip Hop,常態課_一般,課程
END:VEVENT
BEGIN:VEVENT
DTSTART;TZID=Asia/Shanghai:20270330T213500
DTEND;TZID=Asia/Shanghai:20270330T223500
DTSTAMP:20260426T035836
CREATED:20260327T081822Z
LAST-MODIFIED:20260327T081932Z
UID:10032163-1806442500-1806446100@www.dancesoul.com.tw
SUMMARY:Hip Hop-承翰
DESCRIPTION:
URL:https://www.dancesoul.com.tw/schedule/hip-hop-%e6%89%bf%e7%bf%b0-2-3/2027-03-30/
CATEGORIES:Hip Hop,常態課_一般,課程
END:VEVENT
END:VCALENDAR