BEGIN:VCALENDAR
VERSION:2.0
PRODID:-//DANCE SOUL 舞魂街舞學校 - ECPv6.15.18//NONSGML v1.0//EN
CALSCALE:GREGORIAN
METHOD:PUBLISH
X-ORIGINAL-URL:https://www.dancesoul.com.tw
X-WR-CALDESC:Events for DANCE SOUL 舞魂街舞學校
REFRESH-INTERVAL;VALUE=DURATION:PT1H
X-Robots-Tag:noindex
X-PUBLISHED-TTL:PT1H
BEGIN:VTIMEZONE
TZID:Asia/Shanghai
BEGIN:STANDARD
TZOFFSETFROM:+0800
TZOFFSETTO:+0800
TZNAME:CST
DTSTART:20260101T000000
END:STANDARD
END:VTIMEZONE
BEGIN:VEVENT
DTSTART;TZID=Asia/Shanghai:20270615T213500
DTEND;TZID=Asia/Shanghai:20270615T223500
DTSTAMP:20260421T191941
CREATED:20260327T081822Z
LAST-MODIFIED:20260327T081932Z
UID:10032174-1813095300-1813098900@www.dancesoul.com.tw
SUMMARY:Hip Hop-承翰
DESCRIPTION:
URL:https://www.dancesoul.com.tw/schedule/hip-hop-%e6%89%bf%e7%bf%b0-2-3/2027-06-15/
CATEGORIES:Hip Hop,常態課_一般,課程
END:VEVENT
BEGIN:VEVENT
DTSTART;TZID=Asia/Shanghai:20270617T182000
DTEND;TZID=Asia/Shanghai:20270617T192000
DTSTAMP:20260421T191941
CREATED:20251202T055643Z
LAST-MODIFIED:20251202T055645Z
UID:10025534-1813256400-1813260000@www.dancesoul.com.tw
SUMMARY:Street Jazz-羊羊
DESCRIPTION:
URL:https://www.dancesoul.com.tw/schedule/hip-hop-%e4%bd%90%e4%bd%90-2-2/2027-06-17/
CATEGORIES:Hip Hop,常態課_一般,課程
END:VEVENT
BEGIN:VEVENT
DTSTART;TZID=Asia/Shanghai:20270620T192500
DTEND;TZID=Asia/Shanghai:20270620T202500
DTSTAMP:20260421T191941
CREATED:20260327T081608Z
LAST-MODIFIED:20260327T081608Z
UID:10030226-1813519500-1813523100@www.dancesoul.com.tw
SUMMARY:Hip Hop-ROD
DESCRIPTION:
URL:https://www.dancesoul.com.tw/schedule/hip-hop-%e6%89%bf%e7%bf%b0-2-2/2027-06-20/
CATEGORIES:Hip Hop,常態課_一般,課程
END:VEVENT
BEGIN:VEVENT
DTSTART;TZID=Asia/Shanghai:20270622T213500
DTEND;TZID=Asia/Shanghai:20270622T223500
DTSTAMP:20260421T191941
CREATED:20260327T081822Z
LAST-MODIFIED:20260327T081932Z
UID:10032175-1813700100-1813703700@www.dancesoul.com.tw
SUMMARY:Hip Hop-承翰
DESCRIPTION:
URL:https://www.dancesoul.com.tw/schedule/hip-hop-%e6%89%bf%e7%bf%b0-2-3/2027-06-22/
CATEGORIES:Hip Hop,常態課_一般,課程
END:VEVENT
BEGIN:VEVENT
DTSTART;TZID=Asia/Shanghai:20270624T182000
DTEND;TZID=Asia/Shanghai:20270624T192000
DTSTAMP:20260421T191941
CREATED:20251202T055643Z
LAST-MODIFIED:20251202T055645Z
UID:10025535-1813861200-1813864800@www.dancesoul.com.tw
SUMMARY:Street Jazz-羊羊
DESCRIPTION:
URL:https://www.dancesoul.com.tw/schedule/hip-hop-%e4%bd%90%e4%bd%90-2-2/2027-06-24/
CATEGORIES:Hip Hop,常態課_一般,課程
END:VEVENT
BEGIN:VEVENT
DTSTART;TZID=Asia/Shanghai:20270627T192500
DTEND;TZID=Asia/Shanghai:20270627T202500
DTSTAMP:20260421T191941
CREATED:20260327T081608Z
LAST-MODIFIED:20260327T081608Z
UID:10030227-1814124300-1814127900@www.dancesoul.com.tw
SUMMARY:Hip Hop-ROD
DESCRIPTION:
URL:https://www.dancesoul.com.tw/schedule/hip-hop-%e6%89%bf%e7%bf%b0-2-2/2027-06-27/
CATEGORIES:Hip Hop,常態課_一般,課程
END:VEVENT
BEGIN:VEVENT
DTSTART;TZID=Asia/Shanghai:20270629T213500
DTEND;TZID=Asia/Shanghai:20270629T223500
DTSTAMP:20260421T191941
CREATED:20260327T081822Z
LAST-MODIFIED:20260327T081932Z
UID:10032176-1814304900-1814308500@www.dancesoul.com.tw
SUMMARY:Hip Hop-承翰
DESCRIPTION:
URL:https://www.dancesoul.com.tw/schedule/hip-hop-%e6%89%bf%e7%bf%b0-2-3/2027-06-29/
CATEGORIES:Hip Hop,常態課_一般,課程
END:VEVENT
BEGIN:VEVENT
DTSTART;TZID=Asia/Shanghai:20270701T182000
DTEND;TZID=Asia/Shanghai:20270701T192000
DTSTAMP:20260421T191942
CREATED:20251202T055643Z
LAST-MODIFIED:20251202T055645Z
UID:10025536-1814466000-1814469600@www.dancesoul.com.tw
SUMMARY:Street Jazz-羊羊
DESCRIPTION:
URL:https://www.dancesoul.com.tw/schedule/hip-hop-%e4%bd%90%e4%bd%90-2-2/2027-07-01/
CATEGORIES:Hip Hop,常態課_一般,課程
END:VEVENT
BEGIN:VEVENT
DTSTART;TZID=Asia/Shanghai:20270704T192500
DTEND;TZID=Asia/Shanghai:20270704T202500
DTSTAMP:20260421T191942
CREATED:20260327T081608Z
LAST-MODIFIED:20260327T081608Z
UID:10030228-1814729100-1814732700@www.dancesoul.com.tw
SUMMARY:Hip Hop-ROD
DESCRIPTION:
URL:https://www.dancesoul.com.tw/schedule/hip-hop-%e6%89%bf%e7%bf%b0-2-2/2027-07-04/
CATEGORIES:Hip Hop,常態課_一般,課程
END:VEVENT
BEGIN:VEVENT
DTSTART;TZID=Asia/Shanghai:20270706T213500
DTEND;TZID=Asia/Shanghai:20270706T223500
DTSTAMP:20260421T191942
CREATED:20260327T081822Z
LAST-MODIFIED:20260327T081932Z
UID:10032177-1814909700-1814913300@www.dancesoul.com.tw
SUMMARY:Hip Hop-承翰
DESCRIPTION:
URL:https://www.dancesoul.com.tw/schedule/hip-hop-%e6%89%bf%e7%bf%b0-2-3/2027-07-06/
CATEGORIES:Hip Hop,常態課_一般,課程
END:VEVENT
BEGIN:VEVENT
DTSTART;TZID=Asia/Shanghai:20270708T182000
DTEND;TZID=Asia/Shanghai:20270708T192000
DTSTAMP:20260421T191942
CREATED:20251202T055643Z
LAST-MODIFIED:20251202T055645Z
UID:10025537-1815070800-1815074400@www.dancesoul.com.tw
SUMMARY:Street Jazz-羊羊
DESCRIPTION:
URL:https://www.dancesoul.com.tw/schedule/hip-hop-%e4%bd%90%e4%bd%90-2-2/2027-07-08/
CATEGORIES:Hip Hop,常態課_一般,課程
END:VEVENT
BEGIN:VEVENT
DTSTART;TZID=Asia/Shanghai:20270711T192500
DTEND;TZID=Asia/Shanghai:20270711T202500
DTSTAMP:20260421T191942
CREATED:20260327T081608Z
LAST-MODIFIED:20260327T081608Z
UID:10030229-1815333900-1815337500@www.dancesoul.com.tw
SUMMARY:Hip Hop-ROD
DESCRIPTION:
URL:https://www.dancesoul.com.tw/schedule/hip-hop-%e6%89%bf%e7%bf%b0-2-2/2027-07-11/
CATEGORIES:Hip Hop,常態課_一般,課程
END:VEVENT
BEGIN:VEVENT
DTSTART;TZID=Asia/Shanghai:20270713T213500
DTEND;TZID=Asia/Shanghai:20270713T223500
DTSTAMP:20260421T191942
CREATED:20260327T081822Z
LAST-MODIFIED:20260327T081932Z
UID:10032178-1815514500-1815518100@www.dancesoul.com.tw
SUMMARY:Hip Hop-承翰
DESCRIPTION:
URL:https://www.dancesoul.com.tw/schedule/hip-hop-%e6%89%bf%e7%bf%b0-2-3/2027-07-13/
CATEGORIES:Hip Hop,常態課_一般,課程
END:VEVENT
BEGIN:VEVENT
DTSTART;TZID=Asia/Shanghai:20270715T182000
DTEND;TZID=Asia/Shanghai:20270715T192000
DTSTAMP:20260421T191942
CREATED:20251202T055643Z
LAST-MODIFIED:20251202T055645Z
UID:10025538-1815675600-1815679200@www.dancesoul.com.tw
SUMMARY:Street Jazz-羊羊
DESCRIPTION:
URL:https://www.dancesoul.com.tw/schedule/hip-hop-%e4%bd%90%e4%bd%90-2-2/2027-07-15/
CATEGORIES:Hip Hop,常態課_一般,課程
END:VEVENT
BEGIN:VEVENT
DTSTART;TZID=Asia/Shanghai:20270718T192500
DTEND;TZID=Asia/Shanghai:20270718T202500
DTSTAMP:20260421T191942
CREATED:20260327T081608Z
LAST-MODIFIED:20260327T081608Z
UID:10030230-1815938700-1815942300@www.dancesoul.com.tw
SUMMARY:Hip Hop-ROD
DESCRIPTION:
URL:https://www.dancesoul.com.tw/schedule/hip-hop-%e6%89%bf%e7%bf%b0-2-2/2027-07-18/
CATEGORIES:Hip Hop,常態課_一般,課程
END:VEVENT
BEGIN:VEVENT
DTSTART;TZID=Asia/Shanghai:20270720T213500
DTEND;TZID=Asia/Shanghai:20270720T223500
DTSTAMP:20260421T191942
CREATED:20260327T081822Z
LAST-MODIFIED:20260327T081932Z
UID:10032179-1816119300-1816122900@www.dancesoul.com.tw
SUMMARY:Hip Hop-承翰
DESCRIPTION:
URL:https://www.dancesoul.com.tw/schedule/hip-hop-%e6%89%bf%e7%bf%b0-2-3/2027-07-20/
CATEGORIES:Hip Hop,常態課_一般,課程
END:VEVENT
BEGIN:VEVENT
DTSTART;TZID=Asia/Shanghai:20270722T182000
DTEND;TZID=Asia/Shanghai:20270722T192000
DTSTAMP:20260421T191942
CREATED:20251202T055643Z
LAST-MODIFIED:20251202T055645Z
UID:10025539-1816280400-1816284000@www.dancesoul.com.tw
SUMMARY:Street Jazz-羊羊
DESCRIPTION:
URL:https://www.dancesoul.com.tw/schedule/hip-hop-%e4%bd%90%e4%bd%90-2-2/2027-07-22/
CATEGORIES:Hip Hop,常態課_一般,課程
END:VEVENT
BEGIN:VEVENT
DTSTART;TZID=Asia/Shanghai:20270725T192500
DTEND;TZID=Asia/Shanghai:20270725T202500
DTSTAMP:20260421T191942
CREATED:20260327T081608Z
LAST-MODIFIED:20260327T081608Z
UID:10030231-1816543500-1816547100@www.dancesoul.com.tw
SUMMARY:Hip Hop-ROD
DESCRIPTION:
URL:https://www.dancesoul.com.tw/schedule/hip-hop-%e6%89%bf%e7%bf%b0-2-2/2027-07-25/
CATEGORIES:Hip Hop,常態課_一般,課程
END:VEVENT
BEGIN:VEVENT
DTSTART;TZID=Asia/Shanghai:20270727T213500
DTEND;TZID=Asia/Shanghai:20270727T223500
DTSTAMP:20260421T191942
CREATED:20260327T081822Z
LAST-MODIFIED:20260327T081932Z
UID:10032180-1816724100-1816727700@www.dancesoul.com.tw
SUMMARY:Hip Hop-承翰
DESCRIPTION:
URL:https://www.dancesoul.com.tw/schedule/hip-hop-%e6%89%bf%e7%bf%b0-2-3/2027-07-27/
CATEGORIES:Hip Hop,常態課_一般,課程
END:VEVENT
BEGIN:VEVENT
DTSTART;TZID=Asia/Shanghai:20270729T182000
DTEND;TZID=Asia/Shanghai:20270729T192000
DTSTAMP:20260421T191942
CREATED:20251202T055643Z
LAST-MODIFIED:20251202T055645Z
UID:10025540-1816885200-1816888800@www.dancesoul.com.tw
SUMMARY:Street Jazz-羊羊
DESCRIPTION:
URL:https://www.dancesoul.com.tw/schedule/hip-hop-%e4%bd%90%e4%bd%90-2-2/2027-07-29/
CATEGORIES:Hip Hop,常態課_一般,課程
END:VEVENT
BEGIN:VEVENT
DTSTART;TZID=Asia/Shanghai:20270801T192500
DTEND;TZID=Asia/Shanghai:20270801T202500
DTSTAMP:20260421T191942
CREATED:20260327T081608Z
LAST-MODIFIED:20260327T081608Z
UID:10030232-1817148300-1817151900@www.dancesoul.com.tw
SUMMARY:Hip Hop-ROD
DESCRIPTION:
URL:https://www.dancesoul.com.tw/schedule/hip-hop-%e6%89%bf%e7%bf%b0-2-2/2027-08-01/
CATEGORIES:Hip Hop,常態課_一般,課程
END:VEVENT
BEGIN:VEVENT
DTSTART;TZID=Asia/Shanghai:20270803T213500
DTEND;TZID=Asia/Shanghai:20270803T223500
DTSTAMP:20260421T191942
CREATED:20260327T081822Z
LAST-MODIFIED:20260327T081932Z
UID:10032181-1817328900-1817332500@www.dancesoul.com.tw
SUMMARY:Hip Hop-承翰
DESCRIPTION:
URL:https://www.dancesoul.com.tw/schedule/hip-hop-%e6%89%bf%e7%bf%b0-2-3/2027-08-03/
CATEGORIES:Hip Hop,常態課_一般,課程
END:VEVENT
BEGIN:VEVENT
DTSTART;TZID=Asia/Shanghai:20270805T182000
DTEND;TZID=Asia/Shanghai:20270805T192000
DTSTAMP:20260421T191942
CREATED:20251202T055643Z
LAST-MODIFIED:20251202T055645Z
UID:10025541-1817490000-1817493600@www.dancesoul.com.tw
SUMMARY:Street Jazz-羊羊
DESCRIPTION:
URL:https://www.dancesoul.com.tw/schedule/hip-hop-%e4%bd%90%e4%bd%90-2-2/2027-08-05/
CATEGORIES:Hip Hop,常態課_一般,課程
END:VEVENT
BEGIN:VEVENT
DTSTART;TZID=Asia/Shanghai:20270808T192500
DTEND;TZID=Asia/Shanghai:20270808T202500
DTSTAMP:20260421T191942
CREATED:20260327T081608Z
LAST-MODIFIED:20260327T081608Z
UID:10030233-1817753100-1817756700@www.dancesoul.com.tw
SUMMARY:Hip Hop-ROD
DESCRIPTION:
URL:https://www.dancesoul.com.tw/schedule/hip-hop-%e6%89%bf%e7%bf%b0-2-2/2027-08-08/
CATEGORIES:Hip Hop,常態課_一般,課程
END:VEVENT
BEGIN:VEVENT
DTSTART;TZID=Asia/Shanghai:20270810T213500
DTEND;TZID=Asia/Shanghai:20270810T223500
DTSTAMP:20260421T191942
CREATED:20260327T081822Z
LAST-MODIFIED:20260327T081932Z
UID:10032182-1817933700-1817937300@www.dancesoul.com.tw
SUMMARY:Hip Hop-承翰
DESCRIPTION:
URL:https://www.dancesoul.com.tw/schedule/hip-hop-%e6%89%bf%e7%bf%b0-2-3/2027-08-10/
CATEGORIES:Hip Hop,常態課_一般,課程
END:VEVENT
BEGIN:VEVENT
DTSTART;TZID=Asia/Shanghai:20270812T182000
DTEND;TZID=Asia/Shanghai:20270812T192000
DTSTAMP:20260421T191942
CREATED:20251202T055643Z
LAST-MODIFIED:20251202T055645Z
UID:10025542-1818094800-1818098400@www.dancesoul.com.tw
SUMMARY:Street Jazz-羊羊
DESCRIPTION:
URL:https://www.dancesoul.com.tw/schedule/hip-hop-%e4%bd%90%e4%bd%90-2-2/2027-08-12/
CATEGORIES:Hip Hop,常態課_一般,課程
END:VEVENT
BEGIN:VEVENT
DTSTART;TZID=Asia/Shanghai:20270815T192500
DTEND;TZID=Asia/Shanghai:20270815T202500
DTSTAMP:20260421T191942
CREATED:20260327T081608Z
LAST-MODIFIED:20260327T081608Z
UID:10030234-1818357900-1818361500@www.dancesoul.com.tw
SUMMARY:Hip Hop-ROD
DESCRIPTION:
URL:https://www.dancesoul.com.tw/schedule/hip-hop-%e6%89%bf%e7%bf%b0-2-2/2027-08-15/
CATEGORIES:Hip Hop,常態課_一般,課程
END:VEVENT
BEGIN:VEVENT
DTSTART;TZID=Asia/Shanghai:20270817T213500
DTEND;TZID=Asia/Shanghai:20270817T223500
DTSTAMP:20260421T191942
CREATED:20260327T081822Z
LAST-MODIFIED:20260327T081932Z
UID:10032183-1818538500-1818542100@www.dancesoul.com.tw
SUMMARY:Hip Hop-承翰
DESCRIPTION:
URL:https://www.dancesoul.com.tw/schedule/hip-hop-%e6%89%bf%e7%bf%b0-2-3/2027-08-17/
CATEGORIES:Hip Hop,常態課_一般,課程
END:VEVENT
BEGIN:VEVENT
DTSTART;TZID=Asia/Shanghai:20270819T182000
DTEND;TZID=Asia/Shanghai:20270819T192000
DTSTAMP:20260421T191942
CREATED:20251202T055643Z
LAST-MODIFIED:20251202T055645Z
UID:10025543-1818699600-1818703200@www.dancesoul.com.tw
SUMMARY:Street Jazz-羊羊
DESCRIPTION:
URL:https://www.dancesoul.com.tw/schedule/hip-hop-%e4%bd%90%e4%bd%90-2-2/2027-08-19/
CATEGORIES:Hip Hop,常態課_一般,課程
END:VEVENT
BEGIN:VEVENT
DTSTART;TZID=Asia/Shanghai:20270822T192500
DTEND;TZID=Asia/Shanghai:20270822T202500
DTSTAMP:20260421T191942
CREATED:20260327T081608Z
LAST-MODIFIED:20260327T081608Z
UID:10030235-1818962700-1818966300@www.dancesoul.com.tw
SUMMARY:Hip Hop-ROD
DESCRIPTION:
URL:https://www.dancesoul.com.tw/schedule/hip-hop-%e6%89%bf%e7%bf%b0-2-2/2027-08-22/
CATEGORIES:Hip Hop,常態課_一般,課程
END:VEVENT
END:VCALENDAR