BEGIN:VCALENDAR
VERSION:2.0
PRODID:-//DANCE SOUL 舞魂街舞學校 - ECPv6.15.18//NONSGML v1.0//EN
CALSCALE:GREGORIAN
METHOD:PUBLISH
X-WR-CALNAME:DANCE SOUL 舞魂街舞學校
X-ORIGINAL-URL:https://www.dancesoul.com.tw
X-WR-CALDESC:Events for DANCE SOUL 舞魂街舞學校
REFRESH-INTERVAL;VALUE=DURATION:PT1H
X-Robots-Tag:noindex
X-PUBLISHED-TTL:PT1H
BEGIN:VTIMEZONE
TZID:Asia/Shanghai
BEGIN:STANDARD
TZOFFSETFROM:+0800
TZOFFSETTO:+0800
TZNAME:CST
DTSTART:20260101T000000
END:STANDARD
END:VTIMEZONE
BEGIN:VEVENT
DTSTART;TZID=Asia/Shanghai:20270919T192500
DTEND;TZID=Asia/Shanghai:20270919T202500
DTSTAMP:20260422T054347
CREATED:20260327T081608Z
LAST-MODIFIED:20260327T081608Z
UID:10030239-1821381900-1821385500@www.dancesoul.com.tw
SUMMARY:Hip Hop-ROD
DESCRIPTION:
URL:https://www.dancesoul.com.tw/schedule/hip-hop-%e6%89%bf%e7%bf%b0-2-2/2027-09-19/
CATEGORIES:Hip Hop,常態課_一般,課程
END:VEVENT
BEGIN:VEVENT
DTSTART;TZID=Asia/Shanghai:20270921T213500
DTEND;TZID=Asia/Shanghai:20270921T223500
DTSTAMP:20260422T054347
CREATED:20260327T081822Z
LAST-MODIFIED:20260327T081932Z
UID:10032188-1821562500-1821566100@www.dancesoul.com.tw
SUMMARY:Hip Hop-承翰
DESCRIPTION:
URL:https://www.dancesoul.com.tw/schedule/hip-hop-%e6%89%bf%e7%bf%b0-2-3/2027-09-21/
CATEGORIES:Hip Hop,常態課_一般,課程
END:VEVENT
BEGIN:VEVENT
DTSTART;TZID=Asia/Shanghai:20270923T182000
DTEND;TZID=Asia/Shanghai:20270923T192000
DTSTAMP:20260422T054347
CREATED:20251202T055643Z
LAST-MODIFIED:20251202T055645Z
UID:10025548-1821723600-1821727200@www.dancesoul.com.tw
SUMMARY:Street Jazz-羊羊
DESCRIPTION:
URL:https://www.dancesoul.com.tw/schedule/hip-hop-%e4%bd%90%e4%bd%90-2-2/2027-09-23/
CATEGORIES:Hip Hop,常態課_一般,課程
END:VEVENT
BEGIN:VEVENT
DTSTART;TZID=Asia/Shanghai:20270926T192500
DTEND;TZID=Asia/Shanghai:20270926T202500
DTSTAMP:20260422T054347
CREATED:20260327T081608Z
LAST-MODIFIED:20260327T081608Z
UID:10030240-1821986700-1821990300@www.dancesoul.com.tw
SUMMARY:Hip Hop-ROD
DESCRIPTION:
URL:https://www.dancesoul.com.tw/schedule/hip-hop-%e6%89%bf%e7%bf%b0-2-2/2027-09-26/
CATEGORIES:Hip Hop,常態課_一般,課程
END:VEVENT
BEGIN:VEVENT
DTSTART;TZID=Asia/Shanghai:20270928T213500
DTEND;TZID=Asia/Shanghai:20270928T223500
DTSTAMP:20260422T054347
CREATED:20260327T081822Z
LAST-MODIFIED:20260327T081932Z
UID:10032189-1822167300-1822170900@www.dancesoul.com.tw
SUMMARY:Hip Hop-承翰
DESCRIPTION:
URL:https://www.dancesoul.com.tw/schedule/hip-hop-%e6%89%bf%e7%bf%b0-2-3/2027-09-28/
CATEGORIES:Hip Hop,常態課_一般,課程
END:VEVENT
BEGIN:VEVENT
DTSTART;TZID=Asia/Shanghai:20270930T182000
DTEND;TZID=Asia/Shanghai:20270930T192000
DTSTAMP:20260422T054347
CREATED:20251202T055643Z
LAST-MODIFIED:20251202T055645Z
UID:10025549-1822328400-1822332000@www.dancesoul.com.tw
SUMMARY:Street Jazz-羊羊
DESCRIPTION:
URL:https://www.dancesoul.com.tw/schedule/hip-hop-%e4%bd%90%e4%bd%90-2-2/2027-09-30/
CATEGORIES:Hip Hop,常態課_一般,課程
END:VEVENT
BEGIN:VEVENT
DTSTART;TZID=Asia/Shanghai:20271003T192500
DTEND;TZID=Asia/Shanghai:20271003T202500
DTSTAMP:20260422T054347
CREATED:20260327T081608Z
LAST-MODIFIED:20260327T081608Z
UID:10030241-1822591500-1822595100@www.dancesoul.com.tw
SUMMARY:Hip Hop-ROD
DESCRIPTION:
URL:https://www.dancesoul.com.tw/schedule/hip-hop-%e6%89%bf%e7%bf%b0-2-2/2027-10-03/
CATEGORIES:Hip Hop,常態課_一般,課程
END:VEVENT
BEGIN:VEVENT
DTSTART;TZID=Asia/Shanghai:20271005T213500
DTEND;TZID=Asia/Shanghai:20271005T223500
DTSTAMP:20260422T054347
CREATED:20260327T081822Z
LAST-MODIFIED:20260327T081932Z
UID:10032190-1822772100-1822775700@www.dancesoul.com.tw
SUMMARY:Hip Hop-承翰
DESCRIPTION:
URL:https://www.dancesoul.com.tw/schedule/hip-hop-%e6%89%bf%e7%bf%b0-2-3/2027-10-05/
CATEGORIES:Hip Hop,常態課_一般,課程
END:VEVENT
BEGIN:VEVENT
DTSTART;TZID=Asia/Shanghai:20271007T182000
DTEND;TZID=Asia/Shanghai:20271007T192000
DTSTAMP:20260422T054347
CREATED:20251202T055643Z
LAST-MODIFIED:20251202T055645Z
UID:10025550-1822933200-1822936800@www.dancesoul.com.tw
SUMMARY:Street Jazz-羊羊
DESCRIPTION:
URL:https://www.dancesoul.com.tw/schedule/hip-hop-%e4%bd%90%e4%bd%90-2-2/2027-10-07/
CATEGORIES:Hip Hop,常態課_一般,課程
END:VEVENT
BEGIN:VEVENT
DTSTART;TZID=Asia/Shanghai:20271010T192500
DTEND;TZID=Asia/Shanghai:20271010T202500
DTSTAMP:20260422T054347
CREATED:20260327T081608Z
LAST-MODIFIED:20260327T081608Z
UID:10030242-1823196300-1823199900@www.dancesoul.com.tw
SUMMARY:Hip Hop-ROD
DESCRIPTION:
URL:https://www.dancesoul.com.tw/schedule/hip-hop-%e6%89%bf%e7%bf%b0-2-2/2027-10-10/
CATEGORIES:Hip Hop,常態課_一般,課程
END:VEVENT
BEGIN:VEVENT
DTSTART;TZID=Asia/Shanghai:20271012T213500
DTEND;TZID=Asia/Shanghai:20271012T223500
DTSTAMP:20260422T054347
CREATED:20260327T081822Z
LAST-MODIFIED:20260327T081932Z
UID:10032191-1823376900-1823380500@www.dancesoul.com.tw
SUMMARY:Hip Hop-承翰
DESCRIPTION:
URL:https://www.dancesoul.com.tw/schedule/hip-hop-%e6%89%bf%e7%bf%b0-2-3/2027-10-12/
CATEGORIES:Hip Hop,常態課_一般,課程
END:VEVENT
BEGIN:VEVENT
DTSTART;TZID=Asia/Shanghai:20271014T182000
DTEND;TZID=Asia/Shanghai:20271014T192000
DTSTAMP:20260422T054347
CREATED:20251202T055643Z
LAST-MODIFIED:20251202T055645Z
UID:10025551-1823538000-1823541600@www.dancesoul.com.tw
SUMMARY:Street Jazz-羊羊
DESCRIPTION:
URL:https://www.dancesoul.com.tw/schedule/hip-hop-%e4%bd%90%e4%bd%90-2-2/2027-10-14/
CATEGORIES:Hip Hop,常態課_一般,課程
END:VEVENT
BEGIN:VEVENT
DTSTART;TZID=Asia/Shanghai:20271017T192500
DTEND;TZID=Asia/Shanghai:20271017T202500
DTSTAMP:20260422T054347
CREATED:20260327T081608Z
LAST-MODIFIED:20260327T081608Z
UID:10030243-1823801100-1823804700@www.dancesoul.com.tw
SUMMARY:Hip Hop-ROD
DESCRIPTION:
URL:https://www.dancesoul.com.tw/schedule/hip-hop-%e6%89%bf%e7%bf%b0-2-2/2027-10-17/
CATEGORIES:Hip Hop,常態課_一般,課程
END:VEVENT
BEGIN:VEVENT
DTSTART;TZID=Asia/Shanghai:20271019T213500
DTEND;TZID=Asia/Shanghai:20271019T223500
DTSTAMP:20260422T054347
CREATED:20260327T081822Z
LAST-MODIFIED:20260327T081932Z
UID:10032192-1823981700-1823985300@www.dancesoul.com.tw
SUMMARY:Hip Hop-承翰
DESCRIPTION:
URL:https://www.dancesoul.com.tw/schedule/hip-hop-%e6%89%bf%e7%bf%b0-2-3/2027-10-19/
CATEGORIES:Hip Hop,常態課_一般,課程
END:VEVENT
BEGIN:VEVENT
DTSTART;TZID=Asia/Shanghai:20271021T182000
DTEND;TZID=Asia/Shanghai:20271021T192000
DTSTAMP:20260422T054347
CREATED:20251202T055643Z
LAST-MODIFIED:20251202T055645Z
UID:10025552-1824142800-1824146400@www.dancesoul.com.tw
SUMMARY:Street Jazz-羊羊
DESCRIPTION:
URL:https://www.dancesoul.com.tw/schedule/hip-hop-%e4%bd%90%e4%bd%90-2-2/2027-10-21/
CATEGORIES:Hip Hop,常態課_一般,課程
END:VEVENT
BEGIN:VEVENT
DTSTART;TZID=Asia/Shanghai:20271024T192500
DTEND;TZID=Asia/Shanghai:20271024T202500
DTSTAMP:20260422T054347
CREATED:20260327T081608Z
LAST-MODIFIED:20260327T081608Z
UID:10030244-1824405900-1824409500@www.dancesoul.com.tw
SUMMARY:Hip Hop-ROD
DESCRIPTION:
URL:https://www.dancesoul.com.tw/schedule/hip-hop-%e6%89%bf%e7%bf%b0-2-2/2027-10-24/
CATEGORIES:Hip Hop,常態課_一般,課程
END:VEVENT
BEGIN:VEVENT
DTSTART;TZID=Asia/Shanghai:20271026T213500
DTEND;TZID=Asia/Shanghai:20271026T223500
DTSTAMP:20260422T054347
CREATED:20260327T081822Z
LAST-MODIFIED:20260327T081932Z
UID:10032193-1824586500-1824590100@www.dancesoul.com.tw
SUMMARY:Hip Hop-承翰
DESCRIPTION:
URL:https://www.dancesoul.com.tw/schedule/hip-hop-%e6%89%bf%e7%bf%b0-2-3/2027-10-26/
CATEGORIES:Hip Hop,常態課_一般,課程
END:VEVENT
BEGIN:VEVENT
DTSTART;TZID=Asia/Shanghai:20271028T182000
DTEND;TZID=Asia/Shanghai:20271028T192000
DTSTAMP:20260422T054347
CREATED:20251202T055643Z
LAST-MODIFIED:20251202T055645Z
UID:10025553-1824747600-1824751200@www.dancesoul.com.tw
SUMMARY:Street Jazz-羊羊
DESCRIPTION:
URL:https://www.dancesoul.com.tw/schedule/hip-hop-%e4%bd%90%e4%bd%90-2-2/2027-10-28/
CATEGORIES:Hip Hop,常態課_一般,課程
END:VEVENT
BEGIN:VEVENT
DTSTART;TZID=Asia/Shanghai:20271031T192500
DTEND;TZID=Asia/Shanghai:20271031T202500
DTSTAMP:20260422T054347
CREATED:20260327T081608Z
LAST-MODIFIED:20260327T081608Z
UID:10030245-1825010700-1825014300@www.dancesoul.com.tw
SUMMARY:Hip Hop-ROD
DESCRIPTION:
URL:https://www.dancesoul.com.tw/schedule/hip-hop-%e6%89%bf%e7%bf%b0-2-2/2027-10-31/
CATEGORIES:Hip Hop,常態課_一般,課程
END:VEVENT
BEGIN:VEVENT
DTSTART;TZID=Asia/Shanghai:20271102T213500
DTEND;TZID=Asia/Shanghai:20271102T223500
DTSTAMP:20260422T054347
CREATED:20260327T081822Z
LAST-MODIFIED:20260327T081932Z
UID:10032194-1825191300-1825194900@www.dancesoul.com.tw
SUMMARY:Hip Hop-承翰
DESCRIPTION:
URL:https://www.dancesoul.com.tw/schedule/hip-hop-%e6%89%bf%e7%bf%b0-2-3/2027-11-02/
CATEGORIES:Hip Hop,常態課_一般,課程
END:VEVENT
BEGIN:VEVENT
DTSTART;TZID=Asia/Shanghai:20271104T182000
DTEND;TZID=Asia/Shanghai:20271104T192000
DTSTAMP:20260422T054347
CREATED:20251202T055643Z
LAST-MODIFIED:20251202T055645Z
UID:10025554-1825352400-1825356000@www.dancesoul.com.tw
SUMMARY:Street Jazz-羊羊
DESCRIPTION:
URL:https://www.dancesoul.com.tw/schedule/hip-hop-%e4%bd%90%e4%bd%90-2-2/2027-11-04/
CATEGORIES:Hip Hop,常態課_一般,課程
END:VEVENT
BEGIN:VEVENT
DTSTART;TZID=Asia/Shanghai:20271107T192500
DTEND;TZID=Asia/Shanghai:20271107T202500
DTSTAMP:20260422T054347
CREATED:20260327T081608Z
LAST-MODIFIED:20260327T081608Z
UID:10030246-1825615500-1825619100@www.dancesoul.com.tw
SUMMARY:Hip Hop-ROD
DESCRIPTION:
URL:https://www.dancesoul.com.tw/schedule/hip-hop-%e6%89%bf%e7%bf%b0-2-2/2027-11-07/
CATEGORIES:Hip Hop,常態課_一般,課程
END:VEVENT
BEGIN:VEVENT
DTSTART;TZID=Asia/Shanghai:20271109T213500
DTEND;TZID=Asia/Shanghai:20271109T223500
DTSTAMP:20260422T054347
CREATED:20260327T081822Z
LAST-MODIFIED:20260327T081932Z
UID:10032195-1825796100-1825799700@www.dancesoul.com.tw
SUMMARY:Hip Hop-承翰
DESCRIPTION:
URL:https://www.dancesoul.com.tw/schedule/hip-hop-%e6%89%bf%e7%bf%b0-2-3/2027-11-09/
CATEGORIES:Hip Hop,常態課_一般,課程
END:VEVENT
BEGIN:VEVENT
DTSTART;TZID=Asia/Shanghai:20271111T182000
DTEND;TZID=Asia/Shanghai:20271111T192000
DTSTAMP:20260422T054347
CREATED:20251202T055643Z
LAST-MODIFIED:20251202T055645Z
UID:10025555-1825957200-1825960800@www.dancesoul.com.tw
SUMMARY:Street Jazz-羊羊
DESCRIPTION:
URL:https://www.dancesoul.com.tw/schedule/hip-hop-%e4%bd%90%e4%bd%90-2-2/2027-11-11/
CATEGORIES:Hip Hop,常態課_一般,課程
END:VEVENT
BEGIN:VEVENT
DTSTART;TZID=Asia/Shanghai:20271114T192500
DTEND;TZID=Asia/Shanghai:20271114T202500
DTSTAMP:20260422T054347
CREATED:20260327T081608Z
LAST-MODIFIED:20260327T081608Z
UID:10030247-1826220300-1826223900@www.dancesoul.com.tw
SUMMARY:Hip Hop-ROD
DESCRIPTION:
URL:https://www.dancesoul.com.tw/schedule/hip-hop-%e6%89%bf%e7%bf%b0-2-2/2027-11-14/
CATEGORIES:Hip Hop,常態課_一般,課程
END:VEVENT
BEGIN:VEVENT
DTSTART;TZID=Asia/Shanghai:20271116T213500
DTEND;TZID=Asia/Shanghai:20271116T223500
DTSTAMP:20260422T054347
CREATED:20260327T081822Z
LAST-MODIFIED:20260327T081932Z
UID:10032196-1826400900-1826404500@www.dancesoul.com.tw
SUMMARY:Hip Hop-承翰
DESCRIPTION:
URL:https://www.dancesoul.com.tw/schedule/hip-hop-%e6%89%bf%e7%bf%b0-2-3/2027-11-16/
CATEGORIES:Hip Hop,常態課_一般,課程
END:VEVENT
BEGIN:VEVENT
DTSTART;TZID=Asia/Shanghai:20271118T182000
DTEND;TZID=Asia/Shanghai:20271118T192000
DTSTAMP:20260422T054347
CREATED:20251202T055643Z
LAST-MODIFIED:20251202T055645Z
UID:10025556-1826562000-1826565600@www.dancesoul.com.tw
SUMMARY:Street Jazz-羊羊
DESCRIPTION:
URL:https://www.dancesoul.com.tw/schedule/hip-hop-%e4%bd%90%e4%bd%90-2-2/2027-11-18/
CATEGORIES:Hip Hop,常態課_一般,課程
END:VEVENT
BEGIN:VEVENT
DTSTART;TZID=Asia/Shanghai:20271121T192500
DTEND;TZID=Asia/Shanghai:20271121T202500
DTSTAMP:20260422T054347
CREATED:20260327T081608Z
LAST-MODIFIED:20260327T081608Z
UID:10030248-1826825100-1826828700@www.dancesoul.com.tw
SUMMARY:Hip Hop-ROD
DESCRIPTION:
URL:https://www.dancesoul.com.tw/schedule/hip-hop-%e6%89%bf%e7%bf%b0-2-2/2027-11-21/
CATEGORIES:Hip Hop,常態課_一般,課程
END:VEVENT
BEGIN:VEVENT
DTSTART;TZID=Asia/Shanghai:20271123T213500
DTEND;TZID=Asia/Shanghai:20271123T223500
DTSTAMP:20260422T054347
CREATED:20260327T081822Z
LAST-MODIFIED:20260327T081932Z
UID:10032197-1827005700-1827009300@www.dancesoul.com.tw
SUMMARY:Hip Hop-承翰
DESCRIPTION:
URL:https://www.dancesoul.com.tw/schedule/hip-hop-%e6%89%bf%e7%bf%b0-2-3/2027-11-23/
CATEGORIES:Hip Hop,常態課_一般,課程
END:VEVENT
BEGIN:VEVENT
DTSTART;TZID=Asia/Shanghai:20271125T182000
DTEND;TZID=Asia/Shanghai:20271125T192000
DTSTAMP:20260422T054347
CREATED:20251202T055643Z
LAST-MODIFIED:20251202T055645Z
UID:10025557-1827166800-1827170400@www.dancesoul.com.tw
SUMMARY:Street Jazz-羊羊
DESCRIPTION:
URL:https://www.dancesoul.com.tw/schedule/hip-hop-%e4%bd%90%e4%bd%90-2-2/2027-11-25/
CATEGORIES:Hip Hop,常態課_一般,課程
END:VEVENT
END:VCALENDAR