BEGIN:VCALENDAR
VERSION:2.0
PRODID:-//DANCE SOUL 舞魂街舞學校 - ECPv6.15.18//NONSGML v1.0//EN
CALSCALE:GREGORIAN
METHOD:PUBLISH
X-WR-CALNAME:DANCE SOUL 舞魂街舞學校
X-ORIGINAL-URL:https://www.dancesoul.com.tw
X-WR-CALDESC:Events for DANCE SOUL 舞魂街舞學校
REFRESH-INTERVAL;VALUE=DURATION:PT1H
X-Robots-Tag:noindex
X-PUBLISHED-TTL:PT1H
BEGIN:VTIMEZONE
TZID:Asia/Shanghai
BEGIN:STANDARD
TZOFFSETFROM:+0800
TZOFFSETTO:+0800
TZNAME:CST
DTSTART:20260101T000000
END:STANDARD
END:VTIMEZONE
BEGIN:VEVENT
DTSTART;TZID=Asia/Shanghai:20271104T182000
DTEND;TZID=Asia/Shanghai:20271104T192000
DTSTAMP:20260423T021808
CREATED:20251202T055643Z
LAST-MODIFIED:20251202T055645Z
UID:10025554-1825352400-1825356000@www.dancesoul.com.tw
SUMMARY:Street Jazz-羊羊
DESCRIPTION:
URL:https://www.dancesoul.com.tw/schedule/hip-hop-%e4%bd%90%e4%bd%90-2-2/2027-11-04/
CATEGORIES:Hip Hop,常態課_一般,課程
END:VEVENT
BEGIN:VEVENT
DTSTART;TZID=Asia/Shanghai:20271107T192500
DTEND;TZID=Asia/Shanghai:20271107T202500
DTSTAMP:20260423T021808
CREATED:20260327T081608Z
LAST-MODIFIED:20260327T081608Z
UID:10030246-1825615500-1825619100@www.dancesoul.com.tw
SUMMARY:Hip Hop-ROD
DESCRIPTION:
URL:https://www.dancesoul.com.tw/schedule/hip-hop-%e6%89%bf%e7%bf%b0-2-2/2027-11-07/
CATEGORIES:Hip Hop,常態課_一般,課程
END:VEVENT
BEGIN:VEVENT
DTSTART;TZID=Asia/Shanghai:20271109T213500
DTEND;TZID=Asia/Shanghai:20271109T223500
DTSTAMP:20260423T021808
CREATED:20260327T081822Z
LAST-MODIFIED:20260327T081932Z
UID:10032195-1825796100-1825799700@www.dancesoul.com.tw
SUMMARY:Hip Hop-承翰
DESCRIPTION:
URL:https://www.dancesoul.com.tw/schedule/hip-hop-%e6%89%bf%e7%bf%b0-2-3/2027-11-09/
CATEGORIES:Hip Hop,常態課_一般,課程
END:VEVENT
BEGIN:VEVENT
DTSTART;TZID=Asia/Shanghai:20271111T182000
DTEND;TZID=Asia/Shanghai:20271111T192000
DTSTAMP:20260423T021808
CREATED:20251202T055643Z
LAST-MODIFIED:20251202T055645Z
UID:10025555-1825957200-1825960800@www.dancesoul.com.tw
SUMMARY:Street Jazz-羊羊
DESCRIPTION:
URL:https://www.dancesoul.com.tw/schedule/hip-hop-%e4%bd%90%e4%bd%90-2-2/2027-11-11/
CATEGORIES:Hip Hop,常態課_一般,課程
END:VEVENT
BEGIN:VEVENT
DTSTART;TZID=Asia/Shanghai:20271114T192500
DTEND;TZID=Asia/Shanghai:20271114T202500
DTSTAMP:20260423T021808
CREATED:20260327T081608Z
LAST-MODIFIED:20260327T081608Z
UID:10030247-1826220300-1826223900@www.dancesoul.com.tw
SUMMARY:Hip Hop-ROD
DESCRIPTION:
URL:https://www.dancesoul.com.tw/schedule/hip-hop-%e6%89%bf%e7%bf%b0-2-2/2027-11-14/
CATEGORIES:Hip Hop,常態課_一般,課程
END:VEVENT
BEGIN:VEVENT
DTSTART;TZID=Asia/Shanghai:20271116T213500
DTEND;TZID=Asia/Shanghai:20271116T223500
DTSTAMP:20260423T021808
CREATED:20260327T081822Z
LAST-MODIFIED:20260327T081932Z
UID:10032196-1826400900-1826404500@www.dancesoul.com.tw
SUMMARY:Hip Hop-承翰
DESCRIPTION:
URL:https://www.dancesoul.com.tw/schedule/hip-hop-%e6%89%bf%e7%bf%b0-2-3/2027-11-16/
CATEGORIES:Hip Hop,常態課_一般,課程
END:VEVENT
BEGIN:VEVENT
DTSTART;TZID=Asia/Shanghai:20271118T182000
DTEND;TZID=Asia/Shanghai:20271118T192000
DTSTAMP:20260423T021808
CREATED:20251202T055643Z
LAST-MODIFIED:20251202T055645Z
UID:10025556-1826562000-1826565600@www.dancesoul.com.tw
SUMMARY:Street Jazz-羊羊
DESCRIPTION:
URL:https://www.dancesoul.com.tw/schedule/hip-hop-%e4%bd%90%e4%bd%90-2-2/2027-11-18/
CATEGORIES:Hip Hop,常態課_一般,課程
END:VEVENT
BEGIN:VEVENT
DTSTART;TZID=Asia/Shanghai:20271121T192500
DTEND;TZID=Asia/Shanghai:20271121T202500
DTSTAMP:20260423T021808
CREATED:20260327T081608Z
LAST-MODIFIED:20260327T081608Z
UID:10030248-1826825100-1826828700@www.dancesoul.com.tw
SUMMARY:Hip Hop-ROD
DESCRIPTION:
URL:https://www.dancesoul.com.tw/schedule/hip-hop-%e6%89%bf%e7%bf%b0-2-2/2027-11-21/
CATEGORIES:Hip Hop,常態課_一般,課程
END:VEVENT
BEGIN:VEVENT
DTSTART;TZID=Asia/Shanghai:20271123T213500
DTEND;TZID=Asia/Shanghai:20271123T223500
DTSTAMP:20260423T021808
CREATED:20260327T081822Z
LAST-MODIFIED:20260327T081932Z
UID:10032197-1827005700-1827009300@www.dancesoul.com.tw
SUMMARY:Hip Hop-承翰
DESCRIPTION:
URL:https://www.dancesoul.com.tw/schedule/hip-hop-%e6%89%bf%e7%bf%b0-2-3/2027-11-23/
CATEGORIES:Hip Hop,常態課_一般,課程
END:VEVENT
BEGIN:VEVENT
DTSTART;TZID=Asia/Shanghai:20271125T182000
DTEND;TZID=Asia/Shanghai:20271125T192000
DTSTAMP:20260423T021808
CREATED:20251202T055643Z
LAST-MODIFIED:20251202T055645Z
UID:10025557-1827166800-1827170400@www.dancesoul.com.tw
SUMMARY:Street Jazz-羊羊
DESCRIPTION:
URL:https://www.dancesoul.com.tw/schedule/hip-hop-%e4%bd%90%e4%bd%90-2-2/2027-11-25/
CATEGORIES:Hip Hop,常態課_一般,課程
END:VEVENT
BEGIN:VEVENT
DTSTART;TZID=Asia/Shanghai:20271128T192500
DTEND;TZID=Asia/Shanghai:20271128T202500
DTSTAMP:20260423T021808
CREATED:20260327T081608Z
LAST-MODIFIED:20260327T081608Z
UID:10030249-1827429900-1827433500@www.dancesoul.com.tw
SUMMARY:Hip Hop-ROD
DESCRIPTION:
URL:https://www.dancesoul.com.tw/schedule/hip-hop-%e6%89%bf%e7%bf%b0-2-2/2027-11-28/
CATEGORIES:Hip Hop,常態課_一般,課程
END:VEVENT
BEGIN:VEVENT
DTSTART;TZID=Asia/Shanghai:20271130T213500
DTEND;TZID=Asia/Shanghai:20271130T223500
DTSTAMP:20260423T021808
CREATED:20260327T081822Z
LAST-MODIFIED:20260327T081932Z
UID:10032198-1827610500-1827614100@www.dancesoul.com.tw
SUMMARY:Hip Hop-承翰
DESCRIPTION:
URL:https://www.dancesoul.com.tw/schedule/hip-hop-%e6%89%bf%e7%bf%b0-2-3/2027-11-30/
CATEGORIES:Hip Hop,常態課_一般,課程
END:VEVENT
BEGIN:VEVENT
DTSTART;TZID=Asia/Shanghai:20271202T182000
DTEND;TZID=Asia/Shanghai:20271202T192000
DTSTAMP:20260423T021808
CREATED:20251202T055643Z
LAST-MODIFIED:20251202T055645Z
UID:10025558-1827771600-1827775200@www.dancesoul.com.tw
SUMMARY:Street Jazz-羊羊
DESCRIPTION:
URL:https://www.dancesoul.com.tw/schedule/hip-hop-%e4%bd%90%e4%bd%90-2-2/2027-12-02/
CATEGORIES:Hip Hop,常態課_一般,課程
END:VEVENT
BEGIN:VEVENT
DTSTART;TZID=Asia/Shanghai:20271205T192500
DTEND;TZID=Asia/Shanghai:20271205T202500
DTSTAMP:20260423T021808
CREATED:20260327T081608Z
LAST-MODIFIED:20260327T081608Z
UID:10030250-1828034700-1828038300@www.dancesoul.com.tw
SUMMARY:Hip Hop-ROD
DESCRIPTION:
URL:https://www.dancesoul.com.tw/schedule/hip-hop-%e6%89%bf%e7%bf%b0-2-2/2027-12-05/
CATEGORIES:Hip Hop,常態課_一般,課程
END:VEVENT
BEGIN:VEVENT
DTSTART;TZID=Asia/Shanghai:20271207T213500
DTEND;TZID=Asia/Shanghai:20271207T223500
DTSTAMP:20260423T021808
CREATED:20260327T081822Z
LAST-MODIFIED:20260327T081932Z
UID:10032199-1828215300-1828218900@www.dancesoul.com.tw
SUMMARY:Hip Hop-承翰
DESCRIPTION:
URL:https://www.dancesoul.com.tw/schedule/hip-hop-%e6%89%bf%e7%bf%b0-2-3/2027-12-07/
CATEGORIES:Hip Hop,常態課_一般,課程
END:VEVENT
BEGIN:VEVENT
DTSTART;TZID=Asia/Shanghai:20271209T182000
DTEND;TZID=Asia/Shanghai:20271209T192000
DTSTAMP:20260423T021808
CREATED:20251202T055643Z
LAST-MODIFIED:20251202T055645Z
UID:10025559-1828376400-1828380000@www.dancesoul.com.tw
SUMMARY:Street Jazz-羊羊
DESCRIPTION:
URL:https://www.dancesoul.com.tw/schedule/hip-hop-%e4%bd%90%e4%bd%90-2-2/2027-12-09/
CATEGORIES:Hip Hop,常態課_一般,課程
END:VEVENT
BEGIN:VEVENT
DTSTART;TZID=Asia/Shanghai:20271212T192500
DTEND;TZID=Asia/Shanghai:20271212T202500
DTSTAMP:20260423T021808
CREATED:20260327T081608Z
LAST-MODIFIED:20260327T081608Z
UID:10030251-1828639500-1828643100@www.dancesoul.com.tw
SUMMARY:Hip Hop-ROD
DESCRIPTION:
URL:https://www.dancesoul.com.tw/schedule/hip-hop-%e6%89%bf%e7%bf%b0-2-2/2027-12-12/
CATEGORIES:Hip Hop,常態課_一般,課程
END:VEVENT
BEGIN:VEVENT
DTSTART;TZID=Asia/Shanghai:20271214T213500
DTEND;TZID=Asia/Shanghai:20271214T223500
DTSTAMP:20260423T021808
CREATED:20260327T081822Z
LAST-MODIFIED:20260327T081932Z
UID:10032200-1828820100-1828823700@www.dancesoul.com.tw
SUMMARY:Hip Hop-承翰
DESCRIPTION:
URL:https://www.dancesoul.com.tw/schedule/hip-hop-%e6%89%bf%e7%bf%b0-2-3/2027-12-14/
CATEGORIES:Hip Hop,常態課_一般,課程
END:VEVENT
BEGIN:VEVENT
DTSTART;TZID=Asia/Shanghai:20271216T182000
DTEND;TZID=Asia/Shanghai:20271216T192000
DTSTAMP:20260423T021808
CREATED:20251202T055643Z
LAST-MODIFIED:20251202T055645Z
UID:10025560-1828981200-1828984800@www.dancesoul.com.tw
SUMMARY:Street Jazz-羊羊
DESCRIPTION:
URL:https://www.dancesoul.com.tw/schedule/hip-hop-%e4%bd%90%e4%bd%90-2-2/2027-12-16/
CATEGORIES:Hip Hop,常態課_一般,課程
END:VEVENT
BEGIN:VEVENT
DTSTART;TZID=Asia/Shanghai:20271219T192500
DTEND;TZID=Asia/Shanghai:20271219T202500
DTSTAMP:20260423T021808
CREATED:20260327T081608Z
LAST-MODIFIED:20260327T081608Z
UID:10030252-1829244300-1829247900@www.dancesoul.com.tw
SUMMARY:Hip Hop-ROD
DESCRIPTION:
URL:https://www.dancesoul.com.tw/schedule/hip-hop-%e6%89%bf%e7%bf%b0-2-2/2027-12-19/
CATEGORIES:Hip Hop,常態課_一般,課程
END:VEVENT
BEGIN:VEVENT
DTSTART;TZID=Asia/Shanghai:20271221T213500
DTEND;TZID=Asia/Shanghai:20271221T223500
DTSTAMP:20260423T021808
CREATED:20260327T081822Z
LAST-MODIFIED:20260327T081932Z
UID:10032201-1829424900-1829428500@www.dancesoul.com.tw
SUMMARY:Hip Hop-承翰
DESCRIPTION:
URL:https://www.dancesoul.com.tw/schedule/hip-hop-%e6%89%bf%e7%bf%b0-2-3/2027-12-21/
CATEGORIES:Hip Hop,常態課_一般,課程
END:VEVENT
BEGIN:VEVENT
DTSTART;TZID=Asia/Shanghai:20271223T182000
DTEND;TZID=Asia/Shanghai:20271223T192000
DTSTAMP:20260423T021808
CREATED:20251202T055643Z
LAST-MODIFIED:20251202T055645Z
UID:10025561-1829586000-1829589600@www.dancesoul.com.tw
SUMMARY:Street Jazz-羊羊
DESCRIPTION:
URL:https://www.dancesoul.com.tw/schedule/hip-hop-%e4%bd%90%e4%bd%90-2-2/2027-12-23/
CATEGORIES:Hip Hop,常態課_一般,課程
END:VEVENT
BEGIN:VEVENT
DTSTART;TZID=Asia/Shanghai:20271226T192500
DTEND;TZID=Asia/Shanghai:20271226T202500
DTSTAMP:20260423T021808
CREATED:20260327T081608Z
LAST-MODIFIED:20260327T081608Z
UID:10030253-1829849100-1829852700@www.dancesoul.com.tw
SUMMARY:Hip Hop-ROD
DESCRIPTION:
URL:https://www.dancesoul.com.tw/schedule/hip-hop-%e6%89%bf%e7%bf%b0-2-2/2027-12-26/
CATEGORIES:Hip Hop,常態課_一般,課程
END:VEVENT
BEGIN:VEVENT
DTSTART;TZID=Asia/Shanghai:20271228T213500
DTEND;TZID=Asia/Shanghai:20271228T223500
DTSTAMP:20260423T021808
CREATED:20260327T081822Z
LAST-MODIFIED:20260327T081932Z
UID:10032202-1830029700-1830033300@www.dancesoul.com.tw
SUMMARY:Hip Hop-承翰
DESCRIPTION:
URL:https://www.dancesoul.com.tw/schedule/hip-hop-%e6%89%bf%e7%bf%b0-2-3/2027-12-28/
CATEGORIES:Hip Hop,常態課_一般,課程
END:VEVENT
BEGIN:VEVENT
DTSTART;TZID=Asia/Shanghai:20271230T182000
DTEND;TZID=Asia/Shanghai:20271230T192000
DTSTAMP:20260423T021808
CREATED:20251202T055643Z
LAST-MODIFIED:20251202T055645Z
UID:10025562-1830190800-1830194400@www.dancesoul.com.tw
SUMMARY:Street Jazz-羊羊
DESCRIPTION:
URL:https://www.dancesoul.com.tw/schedule/hip-hop-%e4%bd%90%e4%bd%90-2-2/2027-12-30/
CATEGORIES:Hip Hop,常態課_一般,課程
END:VEVENT
BEGIN:VEVENT
DTSTART;TZID=Asia/Shanghai:20280102T192500
DTEND;TZID=Asia/Shanghai:20280102T202500
DTSTAMP:20260423T021808
CREATED:20260327T081608Z
LAST-MODIFIED:20260327T081608Z
UID:10030254-1830453900-1830457500@www.dancesoul.com.tw
SUMMARY:Hip Hop-ROD
DESCRIPTION:
URL:https://www.dancesoul.com.tw/schedule/hip-hop-%e6%89%bf%e7%bf%b0-2-2/2028-01-02/
CATEGORIES:Hip Hop,常態課_一般,課程
END:VEVENT
BEGIN:VEVENT
DTSTART;TZID=Asia/Shanghai:20280104T213500
DTEND;TZID=Asia/Shanghai:20280104T223500
DTSTAMP:20260423T021808
CREATED:20260327T081822Z
LAST-MODIFIED:20260327T081932Z
UID:10032203-1830634500-1830638100@www.dancesoul.com.tw
SUMMARY:Hip Hop-承翰
DESCRIPTION:
URL:https://www.dancesoul.com.tw/schedule/hip-hop-%e6%89%bf%e7%bf%b0-2-3/2028-01-04/
CATEGORIES:Hip Hop,常態課_一般,課程
END:VEVENT
BEGIN:VEVENT
DTSTART;TZID=Asia/Shanghai:20280106T182000
DTEND;TZID=Asia/Shanghai:20280106T192000
DTSTAMP:20260423T021808
CREATED:20251202T055643Z
LAST-MODIFIED:20251202T055645Z
UID:10025563-1830795600-1830799200@www.dancesoul.com.tw
SUMMARY:Street Jazz-羊羊
DESCRIPTION:
URL:https://www.dancesoul.com.tw/schedule/hip-hop-%e4%bd%90%e4%bd%90-2-2/2028-01-06/
CATEGORIES:Hip Hop,常態課_一般,課程
END:VEVENT
BEGIN:VEVENT
DTSTART;TZID=Asia/Shanghai:20280109T192500
DTEND;TZID=Asia/Shanghai:20280109T202500
DTSTAMP:20260423T021808
CREATED:20260327T081608Z
LAST-MODIFIED:20260327T081608Z
UID:10030255-1831058700-1831062300@www.dancesoul.com.tw
SUMMARY:Hip Hop-ROD
DESCRIPTION:
URL:https://www.dancesoul.com.tw/schedule/hip-hop-%e6%89%bf%e7%bf%b0-2-2/2028-01-09/
CATEGORIES:Hip Hop,常態課_一般,課程
END:VEVENT
BEGIN:VEVENT
DTSTART;TZID=Asia/Shanghai:20280111T213500
DTEND;TZID=Asia/Shanghai:20280111T223500
DTSTAMP:20260423T021808
CREATED:20260327T081822Z
LAST-MODIFIED:20260327T081932Z
UID:10032204-1831239300-1831242900@www.dancesoul.com.tw
SUMMARY:Hip Hop-承翰
DESCRIPTION:
URL:https://www.dancesoul.com.tw/schedule/hip-hop-%e6%89%bf%e7%bf%b0-2-3/2028-01-11/
CATEGORIES:Hip Hop,常態課_一般,課程
END:VEVENT
END:VCALENDAR