BEGIN:VCALENDAR
VERSION:2.0
PRODID:-//DANCE SOUL 舞魂街舞學校 - ECPv6.15.18//NONSGML v1.0//EN
CALSCALE:GREGORIAN
METHOD:PUBLISH
X-WR-CALNAME:DANCE SOUL 舞魂街舞學校
X-ORIGINAL-URL:https://www.dancesoul.com.tw
X-WR-CALDESC:Events for DANCE SOUL 舞魂街舞學校
REFRESH-INTERVAL;VALUE=DURATION:PT1H
X-Robots-Tag:noindex
X-PUBLISHED-TTL:PT1H
BEGIN:VTIMEZONE
TZID:Asia/Shanghai
BEGIN:STANDARD
TZOFFSETFROM:+0800
TZOFFSETTO:+0800
TZNAME:CST
DTSTART:20250101T000000
END:STANDARD
END:VTIMEZONE
BEGIN:VEVENT
DTSTART;TZID=Asia/Shanghai:20260607T192500
DTEND;TZID=Asia/Shanghai:20260607T202500
DTSTAMP:20260420T222430
CREATED:20260327T081608Z
LAST-MODIFIED:20260327T081608Z
UID:10030172-1780860300-1780863900@www.dancesoul.com.tw
SUMMARY:Hip Hop-ROD
DESCRIPTION:
URL:https://www.dancesoul.com.tw/schedule/hip-hop-%e6%89%bf%e7%bf%b0-2-2/2026-06-07/
CATEGORIES:Hip Hop,常態課_一般,課程
END:VEVENT
BEGIN:VEVENT
DTSTART;TZID=Asia/Shanghai:20260609T213500
DTEND;TZID=Asia/Shanghai:20260609T223500
DTSTAMP:20260420T222430
CREATED:20260327T081822Z
LAST-MODIFIED:20260327T081932Z
UID:10032121-1781040900-1781044500@www.dancesoul.com.tw
SUMMARY:Hip Hop-承翰
DESCRIPTION:
URL:https://www.dancesoul.com.tw/schedule/hip-hop-%e6%89%bf%e7%bf%b0-2-3/2026-06-09/
CATEGORIES:Hip Hop,常態課_一般,課程
END:VEVENT
BEGIN:VEVENT
DTSTART;TZID=Asia/Shanghai:20260611T182000
DTEND;TZID=Asia/Shanghai:20260611T192000
DTSTAMP:20260420T222430
CREATED:20251202T055643Z
LAST-MODIFIED:20251202T055645Z
UID:10025481-1781202000-1781205600@www.dancesoul.com.tw
SUMMARY:Street Jazz-羊羊
DESCRIPTION:
URL:https://www.dancesoul.com.tw/schedule/hip-hop-%e4%bd%90%e4%bd%90-2-2/2026-06-11/
CATEGORIES:Hip Hop,常態課_一般,課程
END:VEVENT
BEGIN:VEVENT
DTSTART;TZID=Asia/Shanghai:20260614T192500
DTEND;TZID=Asia/Shanghai:20260614T202500
DTSTAMP:20260420T222430
CREATED:20260327T081608Z
LAST-MODIFIED:20260327T081608Z
UID:10030173-1781465100-1781468700@www.dancesoul.com.tw
SUMMARY:Hip Hop-ROD
DESCRIPTION:
URL:https://www.dancesoul.com.tw/schedule/hip-hop-%e6%89%bf%e7%bf%b0-2-2/2026-06-14/
CATEGORIES:Hip Hop,常態課_一般,課程
END:VEVENT
BEGIN:VEVENT
DTSTART;TZID=Asia/Shanghai:20260616T213500
DTEND;TZID=Asia/Shanghai:20260616T223500
DTSTAMP:20260420T222430
CREATED:20260327T081822Z
LAST-MODIFIED:20260327T081932Z
UID:10032122-1781645700-1781649300@www.dancesoul.com.tw
SUMMARY:Hip Hop-承翰
DESCRIPTION:
URL:https://www.dancesoul.com.tw/schedule/hip-hop-%e6%89%bf%e7%bf%b0-2-3/2026-06-16/
CATEGORIES:Hip Hop,常態課_一般,課程
END:VEVENT
BEGIN:VEVENT
DTSTART;TZID=Asia/Shanghai:20260618T182000
DTEND;TZID=Asia/Shanghai:20260618T192000
DTSTAMP:20260420T222430
CREATED:20251202T055643Z
LAST-MODIFIED:20251202T055645Z
UID:10025482-1781806800-1781810400@www.dancesoul.com.tw
SUMMARY:Street Jazz-羊羊
DESCRIPTION:
URL:https://www.dancesoul.com.tw/schedule/hip-hop-%e4%bd%90%e4%bd%90-2-2/2026-06-18/
CATEGORIES:Hip Hop,常態課_一般,課程
END:VEVENT
BEGIN:VEVENT
DTSTART;TZID=Asia/Shanghai:20260621T192500
DTEND;TZID=Asia/Shanghai:20260621T202500
DTSTAMP:20260420T222430
CREATED:20260327T081608Z
LAST-MODIFIED:20260327T081608Z
UID:10030174-1782069900-1782073500@www.dancesoul.com.tw
SUMMARY:Hip Hop-ROD
DESCRIPTION:
URL:https://www.dancesoul.com.tw/schedule/hip-hop-%e6%89%bf%e7%bf%b0-2-2/2026-06-21/
CATEGORIES:Hip Hop,常態課_一般,課程
END:VEVENT
BEGIN:VEVENT
DTSTART;TZID=Asia/Shanghai:20260623T213500
DTEND;TZID=Asia/Shanghai:20260623T223500
DTSTAMP:20260420T222430
CREATED:20260327T081822Z
LAST-MODIFIED:20260327T081932Z
UID:10032123-1782250500-1782254100@www.dancesoul.com.tw
SUMMARY:Hip Hop-承翰
DESCRIPTION:
URL:https://www.dancesoul.com.tw/schedule/hip-hop-%e6%89%bf%e7%bf%b0-2-3/2026-06-23/
CATEGORIES:Hip Hop,常態課_一般,課程
END:VEVENT
BEGIN:VEVENT
DTSTART;TZID=Asia/Shanghai:20260625T182000
DTEND;TZID=Asia/Shanghai:20260625T192000
DTSTAMP:20260420T222430
CREATED:20251202T055643Z
LAST-MODIFIED:20251202T055645Z
UID:10025483-1782411600-1782415200@www.dancesoul.com.tw
SUMMARY:Street Jazz-羊羊
DESCRIPTION:
URL:https://www.dancesoul.com.tw/schedule/hip-hop-%e4%bd%90%e4%bd%90-2-2/2026-06-25/
CATEGORIES:Hip Hop,常態課_一般,課程
END:VEVENT
BEGIN:VEVENT
DTSTART;TZID=Asia/Shanghai:20260628T192500
DTEND;TZID=Asia/Shanghai:20260628T202500
DTSTAMP:20260420T222430
CREATED:20260327T081608Z
LAST-MODIFIED:20260327T081608Z
UID:10030175-1782674700-1782678300@www.dancesoul.com.tw
SUMMARY:Hip Hop-ROD
DESCRIPTION:
URL:https://www.dancesoul.com.tw/schedule/hip-hop-%e6%89%bf%e7%bf%b0-2-2/2026-06-28/
CATEGORIES:Hip Hop,常態課_一般,課程
END:VEVENT
BEGIN:VEVENT
DTSTART;TZID=Asia/Shanghai:20260630T213500
DTEND;TZID=Asia/Shanghai:20260630T223500
DTSTAMP:20260420T222430
CREATED:20260327T081822Z
LAST-MODIFIED:20260327T081932Z
UID:10032124-1782855300-1782858900@www.dancesoul.com.tw
SUMMARY:Hip Hop-承翰
DESCRIPTION:
URL:https://www.dancesoul.com.tw/schedule/hip-hop-%e6%89%bf%e7%bf%b0-2-3/2026-06-30/
CATEGORIES:Hip Hop,常態課_一般,課程
END:VEVENT
BEGIN:VEVENT
DTSTART;TZID=Asia/Shanghai:20260702T182000
DTEND;TZID=Asia/Shanghai:20260702T192000
DTSTAMP:20260420T222430
CREATED:20251202T055643Z
LAST-MODIFIED:20251202T055645Z
UID:10025484-1783016400-1783020000@www.dancesoul.com.tw
SUMMARY:Street Jazz-羊羊
DESCRIPTION:
URL:https://www.dancesoul.com.tw/schedule/hip-hop-%e4%bd%90%e4%bd%90-2-2/2026-07-02/
CATEGORIES:Hip Hop,常態課_一般,課程
END:VEVENT
BEGIN:VEVENT
DTSTART;TZID=Asia/Shanghai:20260705T192500
DTEND;TZID=Asia/Shanghai:20260705T202500
DTSTAMP:20260420T222430
CREATED:20260327T081608Z
LAST-MODIFIED:20260327T081608Z
UID:10030176-1783279500-1783283100@www.dancesoul.com.tw
SUMMARY:Hip Hop-ROD
DESCRIPTION:
URL:https://www.dancesoul.com.tw/schedule/hip-hop-%e6%89%bf%e7%bf%b0-2-2/2026-07-05/
CATEGORIES:Hip Hop,常態課_一般,課程
END:VEVENT
BEGIN:VEVENT
DTSTART;TZID=Asia/Shanghai:20260707T213500
DTEND;TZID=Asia/Shanghai:20260707T223500
DTSTAMP:20260420T222430
CREATED:20260327T081822Z
LAST-MODIFIED:20260327T081932Z
UID:10032125-1783460100-1783463700@www.dancesoul.com.tw
SUMMARY:Hip Hop-承翰
DESCRIPTION:
URL:https://www.dancesoul.com.tw/schedule/hip-hop-%e6%89%bf%e7%bf%b0-2-3/2026-07-07/
CATEGORIES:Hip Hop,常態課_一般,課程
END:VEVENT
BEGIN:VEVENT
DTSTART;TZID=Asia/Shanghai:20260709T182000
DTEND;TZID=Asia/Shanghai:20260709T192000
DTSTAMP:20260420T222430
CREATED:20251202T055643Z
LAST-MODIFIED:20251202T055645Z
UID:10025485-1783621200-1783624800@www.dancesoul.com.tw
SUMMARY:Street Jazz-羊羊
DESCRIPTION:
URL:https://www.dancesoul.com.tw/schedule/hip-hop-%e4%bd%90%e4%bd%90-2-2/2026-07-09/
CATEGORIES:Hip Hop,常態課_一般,課程
END:VEVENT
BEGIN:VEVENT
DTSTART;TZID=Asia/Shanghai:20260712T192500
DTEND;TZID=Asia/Shanghai:20260712T202500
DTSTAMP:20260420T222430
CREATED:20260327T081608Z
LAST-MODIFIED:20260327T081608Z
UID:10030177-1783884300-1783887900@www.dancesoul.com.tw
SUMMARY:Hip Hop-ROD
DESCRIPTION:
URL:https://www.dancesoul.com.tw/schedule/hip-hop-%e6%89%bf%e7%bf%b0-2-2/2026-07-12/
CATEGORIES:Hip Hop,常態課_一般,課程
END:VEVENT
BEGIN:VEVENT
DTSTART;TZID=Asia/Shanghai:20260714T213500
DTEND;TZID=Asia/Shanghai:20260714T223500
DTSTAMP:20260420T222430
CREATED:20260327T081822Z
LAST-MODIFIED:20260327T081932Z
UID:10032126-1784064900-1784068500@www.dancesoul.com.tw
SUMMARY:Hip Hop-承翰
DESCRIPTION:
URL:https://www.dancesoul.com.tw/schedule/hip-hop-%e6%89%bf%e7%bf%b0-2-3/2026-07-14/
CATEGORIES:Hip Hop,常態課_一般,課程
END:VEVENT
BEGIN:VEVENT
DTSTART;TZID=Asia/Shanghai:20260716T182000
DTEND;TZID=Asia/Shanghai:20260716T192000
DTSTAMP:20260420T222430
CREATED:20251202T055643Z
LAST-MODIFIED:20251202T055645Z
UID:10025486-1784226000-1784229600@www.dancesoul.com.tw
SUMMARY:Street Jazz-羊羊
DESCRIPTION:
URL:https://www.dancesoul.com.tw/schedule/hip-hop-%e4%bd%90%e4%bd%90-2-2/2026-07-16/
CATEGORIES:Hip Hop,常態課_一般,課程
END:VEVENT
BEGIN:VEVENT
DTSTART;TZID=Asia/Shanghai:20260719T192500
DTEND;TZID=Asia/Shanghai:20260719T202500
DTSTAMP:20260420T222430
CREATED:20260327T081608Z
LAST-MODIFIED:20260327T081608Z
UID:10030178-1784489100-1784492700@www.dancesoul.com.tw
SUMMARY:Hip Hop-ROD
DESCRIPTION:
URL:https://www.dancesoul.com.tw/schedule/hip-hop-%e6%89%bf%e7%bf%b0-2-2/2026-07-19/
CATEGORIES:Hip Hop,常態課_一般,課程
END:VEVENT
BEGIN:VEVENT
DTSTART;TZID=Asia/Shanghai:20260721T213500
DTEND;TZID=Asia/Shanghai:20260721T223500
DTSTAMP:20260420T222430
CREATED:20260327T081822Z
LAST-MODIFIED:20260327T081932Z
UID:10032127-1784669700-1784673300@www.dancesoul.com.tw
SUMMARY:Hip Hop-承翰
DESCRIPTION:
URL:https://www.dancesoul.com.tw/schedule/hip-hop-%e6%89%bf%e7%bf%b0-2-3/2026-07-21/
CATEGORIES:Hip Hop,常態課_一般,課程
END:VEVENT
BEGIN:VEVENT
DTSTART;TZID=Asia/Shanghai:20260723T182000
DTEND;TZID=Asia/Shanghai:20260723T192000
DTSTAMP:20260420T222430
CREATED:20251202T055643Z
LAST-MODIFIED:20251202T055645Z
UID:10025487-1784830800-1784834400@www.dancesoul.com.tw
SUMMARY:Street Jazz-羊羊
DESCRIPTION:
URL:https://www.dancesoul.com.tw/schedule/hip-hop-%e4%bd%90%e4%bd%90-2-2/2026-07-23/
CATEGORIES:Hip Hop,常態課_一般,課程
END:VEVENT
BEGIN:VEVENT
DTSTART;TZID=Asia/Shanghai:20260726T192500
DTEND;TZID=Asia/Shanghai:20260726T202500
DTSTAMP:20260420T222430
CREATED:20260327T081608Z
LAST-MODIFIED:20260327T081608Z
UID:10030179-1785093900-1785097500@www.dancesoul.com.tw
SUMMARY:Hip Hop-ROD
DESCRIPTION:
URL:https://www.dancesoul.com.tw/schedule/hip-hop-%e6%89%bf%e7%bf%b0-2-2/2026-07-26/
CATEGORIES:Hip Hop,常態課_一般,課程
END:VEVENT
BEGIN:VEVENT
DTSTART;TZID=Asia/Shanghai:20260728T213500
DTEND;TZID=Asia/Shanghai:20260728T223500
DTSTAMP:20260420T222430
CREATED:20260327T081822Z
LAST-MODIFIED:20260327T081932Z
UID:10032128-1785274500-1785278100@www.dancesoul.com.tw
SUMMARY:Hip Hop-承翰
DESCRIPTION:
URL:https://www.dancesoul.com.tw/schedule/hip-hop-%e6%89%bf%e7%bf%b0-2-3/2026-07-28/
CATEGORIES:Hip Hop,常態課_一般,課程
END:VEVENT
BEGIN:VEVENT
DTSTART;TZID=Asia/Shanghai:20260730T182000
DTEND;TZID=Asia/Shanghai:20260730T192000
DTSTAMP:20260420T222430
CREATED:20251202T055643Z
LAST-MODIFIED:20251202T055645Z
UID:10025488-1785435600-1785439200@www.dancesoul.com.tw
SUMMARY:Street Jazz-羊羊
DESCRIPTION:
URL:https://www.dancesoul.com.tw/schedule/hip-hop-%e4%bd%90%e4%bd%90-2-2/2026-07-30/
CATEGORIES:Hip Hop,常態課_一般,課程
END:VEVENT
BEGIN:VEVENT
DTSTART;TZID=Asia/Shanghai:20260802T192500
DTEND;TZID=Asia/Shanghai:20260802T202500
DTSTAMP:20260420T222430
CREATED:20260327T081608Z
LAST-MODIFIED:20260327T081608Z
UID:10030180-1785698700-1785702300@www.dancesoul.com.tw
SUMMARY:Hip Hop-ROD
DESCRIPTION:
URL:https://www.dancesoul.com.tw/schedule/hip-hop-%e6%89%bf%e7%bf%b0-2-2/2026-08-02/
CATEGORIES:Hip Hop,常態課_一般,課程
END:VEVENT
BEGIN:VEVENT
DTSTART;TZID=Asia/Shanghai:20260804T213500
DTEND;TZID=Asia/Shanghai:20260804T223500
DTSTAMP:20260420T222430
CREATED:20260327T081822Z
LAST-MODIFIED:20260327T081932Z
UID:10032129-1785879300-1785882900@www.dancesoul.com.tw
SUMMARY:Hip Hop-承翰
DESCRIPTION:
URL:https://www.dancesoul.com.tw/schedule/hip-hop-%e6%89%bf%e7%bf%b0-2-3/2026-08-04/
CATEGORIES:Hip Hop,常態課_一般,課程
END:VEVENT
BEGIN:VEVENT
DTSTART;TZID=Asia/Shanghai:20260806T182000
DTEND;TZID=Asia/Shanghai:20260806T192000
DTSTAMP:20260420T222430
CREATED:20251202T055643Z
LAST-MODIFIED:20251202T055645Z
UID:10025489-1786040400-1786044000@www.dancesoul.com.tw
SUMMARY:Street Jazz-羊羊
DESCRIPTION:
URL:https://www.dancesoul.com.tw/schedule/hip-hop-%e4%bd%90%e4%bd%90-2-2/2026-08-06/
CATEGORIES:Hip Hop,常態課_一般,課程
END:VEVENT
BEGIN:VEVENT
DTSTART;TZID=Asia/Shanghai:20260809T192500
DTEND;TZID=Asia/Shanghai:20260809T202500
DTSTAMP:20260420T222430
CREATED:20260327T081608Z
LAST-MODIFIED:20260327T081608Z
UID:10030181-1786303500-1786307100@www.dancesoul.com.tw
SUMMARY:Hip Hop-ROD
DESCRIPTION:
URL:https://www.dancesoul.com.tw/schedule/hip-hop-%e6%89%bf%e7%bf%b0-2-2/2026-08-09/
CATEGORIES:Hip Hop,常態課_一般,課程
END:VEVENT
BEGIN:VEVENT
DTSTART;TZID=Asia/Shanghai:20260811T213500
DTEND;TZID=Asia/Shanghai:20260811T223500
DTSTAMP:20260420T222430
CREATED:20260327T081822Z
LAST-MODIFIED:20260327T081932Z
UID:10032130-1786484100-1786487700@www.dancesoul.com.tw
SUMMARY:Hip Hop-承翰
DESCRIPTION:
URL:https://www.dancesoul.com.tw/schedule/hip-hop-%e6%89%bf%e7%bf%b0-2-3/2026-08-11/
CATEGORIES:Hip Hop,常態課_一般,課程
END:VEVENT
BEGIN:VEVENT
DTSTART;TZID=Asia/Shanghai:20260813T182000
DTEND;TZID=Asia/Shanghai:20260813T192000
DTSTAMP:20260420T222430
CREATED:20251202T055643Z
LAST-MODIFIED:20251202T055645Z
UID:10025490-1786645200-1786648800@www.dancesoul.com.tw
SUMMARY:Street Jazz-羊羊
DESCRIPTION:
URL:https://www.dancesoul.com.tw/schedule/hip-hop-%e4%bd%90%e4%bd%90-2-2/2026-08-13/
CATEGORIES:Hip Hop,常態課_一般,課程
END:VEVENT
END:VCALENDAR