BEGIN:VCALENDAR
VERSION:2.0
PRODID:-//DANCE SOUL 舞魂街舞學校 - ECPv6.15.18//NONSGML v1.0//EN
CALSCALE:GREGORIAN
METHOD:PUBLISH
X-ORIGINAL-URL:https://www.dancesoul.com.tw
X-WR-CALDESC:Events for DANCE SOUL 舞魂街舞學校
REFRESH-INTERVAL;VALUE=DURATION:PT1H
X-Robots-Tag:noindex
X-PUBLISHED-TTL:PT1H
BEGIN:VTIMEZONE
TZID:Asia/Shanghai
BEGIN:STANDARD
TZOFFSETFROM:+0800
TZOFFSETTO:+0800
TZNAME:CST
DTSTART:20260101T000000
END:STANDARD
END:VTIMEZONE
BEGIN:VEVENT
DTSTART;TZID=Asia/Shanghai:20270314T192500
DTEND;TZID=Asia/Shanghai:20270314T202500
DTSTAMP:20260421T101533
CREATED:20260327T081608Z
LAST-MODIFIED:20260327T081608Z
UID:10030212-1805052300-1805055900@www.dancesoul.com.tw
SUMMARY:Hip Hop-ROD
DESCRIPTION:
URL:https://www.dancesoul.com.tw/schedule/hip-hop-%e6%89%bf%e7%bf%b0-2-2/2027-03-14/
CATEGORIES:Hip Hop,常態課_一般,課程
END:VEVENT
BEGIN:VEVENT
DTSTART;TZID=Asia/Shanghai:20270316T213500
DTEND;TZID=Asia/Shanghai:20270316T223500
DTSTAMP:20260421T101533
CREATED:20260327T081822Z
LAST-MODIFIED:20260327T081932Z
UID:10032161-1805232900-1805236500@www.dancesoul.com.tw
SUMMARY:Hip Hop-承翰
DESCRIPTION:
URL:https://www.dancesoul.com.tw/schedule/hip-hop-%e6%89%bf%e7%bf%b0-2-3/2027-03-16/
CATEGORIES:Hip Hop,常態課_一般,課程
END:VEVENT
BEGIN:VEVENT
DTSTART;TZID=Asia/Shanghai:20270318T182000
DTEND;TZID=Asia/Shanghai:20270318T192000
DTSTAMP:20260421T101533
CREATED:20251202T055643Z
LAST-MODIFIED:20251202T055645Z
UID:10025521-1805394000-1805397600@www.dancesoul.com.tw
SUMMARY:Street Jazz-羊羊
DESCRIPTION:
URL:https://www.dancesoul.com.tw/schedule/hip-hop-%e4%bd%90%e4%bd%90-2-2/2027-03-18/
CATEGORIES:Hip Hop,常態課_一般,課程
END:VEVENT
BEGIN:VEVENT
DTSTART;TZID=Asia/Shanghai:20270321T192500
DTEND;TZID=Asia/Shanghai:20270321T202500
DTSTAMP:20260421T101533
CREATED:20260327T081608Z
LAST-MODIFIED:20260327T081608Z
UID:10030213-1805657100-1805660700@www.dancesoul.com.tw
SUMMARY:Hip Hop-ROD
DESCRIPTION:
URL:https://www.dancesoul.com.tw/schedule/hip-hop-%e6%89%bf%e7%bf%b0-2-2/2027-03-21/
CATEGORIES:Hip Hop,常態課_一般,課程
END:VEVENT
BEGIN:VEVENT
DTSTART;TZID=Asia/Shanghai:20270323T213500
DTEND;TZID=Asia/Shanghai:20270323T223500
DTSTAMP:20260421T101533
CREATED:20260327T081822Z
LAST-MODIFIED:20260327T081932Z
UID:10032162-1805837700-1805841300@www.dancesoul.com.tw
SUMMARY:Hip Hop-承翰
DESCRIPTION:
URL:https://www.dancesoul.com.tw/schedule/hip-hop-%e6%89%bf%e7%bf%b0-2-3/2027-03-23/
CATEGORIES:Hip Hop,常態課_一般,課程
END:VEVENT
BEGIN:VEVENT
DTSTART;TZID=Asia/Shanghai:20270325T182000
DTEND;TZID=Asia/Shanghai:20270325T192000
DTSTAMP:20260421T101533
CREATED:20251202T055643Z
LAST-MODIFIED:20251202T055645Z
UID:10025522-1805998800-1806002400@www.dancesoul.com.tw
SUMMARY:Street Jazz-羊羊
DESCRIPTION:
URL:https://www.dancesoul.com.tw/schedule/hip-hop-%e4%bd%90%e4%bd%90-2-2/2027-03-25/
CATEGORIES:Hip Hop,常態課_一般,課程
END:VEVENT
BEGIN:VEVENT
DTSTART;TZID=Asia/Shanghai:20270328T192500
DTEND;TZID=Asia/Shanghai:20270328T202500
DTSTAMP:20260421T101533
CREATED:20260327T081608Z
LAST-MODIFIED:20260327T081608Z
UID:10030214-1806261900-1806265500@www.dancesoul.com.tw
SUMMARY:Hip Hop-ROD
DESCRIPTION:
URL:https://www.dancesoul.com.tw/schedule/hip-hop-%e6%89%bf%e7%bf%b0-2-2/2027-03-28/
CATEGORIES:Hip Hop,常態課_一般,課程
END:VEVENT
BEGIN:VEVENT
DTSTART;TZID=Asia/Shanghai:20270330T213500
DTEND;TZID=Asia/Shanghai:20270330T223500
DTSTAMP:20260421T101533
CREATED:20260327T081822Z
LAST-MODIFIED:20260327T081932Z
UID:10032163-1806442500-1806446100@www.dancesoul.com.tw
SUMMARY:Hip Hop-承翰
DESCRIPTION:
URL:https://www.dancesoul.com.tw/schedule/hip-hop-%e6%89%bf%e7%bf%b0-2-3/2027-03-30/
CATEGORIES:Hip Hop,常態課_一般,課程
END:VEVENT
BEGIN:VEVENT
DTSTART;TZID=Asia/Shanghai:20270401T182000
DTEND;TZID=Asia/Shanghai:20270401T192000
DTSTAMP:20260421T101533
CREATED:20251202T055643Z
LAST-MODIFIED:20251202T055645Z
UID:10025523-1806603600-1806607200@www.dancesoul.com.tw
SUMMARY:Street Jazz-羊羊
DESCRIPTION:
URL:https://www.dancesoul.com.tw/schedule/hip-hop-%e4%bd%90%e4%bd%90-2-2/2027-04-01/
CATEGORIES:Hip Hop,常態課_一般,課程
END:VEVENT
BEGIN:VEVENT
DTSTART;TZID=Asia/Shanghai:20270404T192500
DTEND;TZID=Asia/Shanghai:20270404T202500
DTSTAMP:20260421T101534
CREATED:20260327T081608Z
LAST-MODIFIED:20260327T081608Z
UID:10030215-1806866700-1806870300@www.dancesoul.com.tw
SUMMARY:Hip Hop-ROD
DESCRIPTION:
URL:https://www.dancesoul.com.tw/schedule/hip-hop-%e6%89%bf%e7%bf%b0-2-2/2027-04-04/
CATEGORIES:Hip Hop,常態課_一般,課程
END:VEVENT
BEGIN:VEVENT
DTSTART;TZID=Asia/Shanghai:20270406T213500
DTEND;TZID=Asia/Shanghai:20270406T223500
DTSTAMP:20260421T101534
CREATED:20260327T081822Z
LAST-MODIFIED:20260327T081932Z
UID:10032164-1807047300-1807050900@www.dancesoul.com.tw
SUMMARY:Hip Hop-承翰
DESCRIPTION:
URL:https://www.dancesoul.com.tw/schedule/hip-hop-%e6%89%bf%e7%bf%b0-2-3/2027-04-06/
CATEGORIES:Hip Hop,常態課_一般,課程
END:VEVENT
BEGIN:VEVENT
DTSTART;TZID=Asia/Shanghai:20270408T182000
DTEND;TZID=Asia/Shanghai:20270408T192000
DTSTAMP:20260421T101534
CREATED:20251202T055643Z
LAST-MODIFIED:20251202T055645Z
UID:10025524-1807208400-1807212000@www.dancesoul.com.tw
SUMMARY:Street Jazz-羊羊
DESCRIPTION:
URL:https://www.dancesoul.com.tw/schedule/hip-hop-%e4%bd%90%e4%bd%90-2-2/2027-04-08/
CATEGORIES:Hip Hop,常態課_一般,課程
END:VEVENT
BEGIN:VEVENT
DTSTART;TZID=Asia/Shanghai:20270411T192500
DTEND;TZID=Asia/Shanghai:20270411T202500
DTSTAMP:20260421T101534
CREATED:20260327T081608Z
LAST-MODIFIED:20260327T081608Z
UID:10030216-1807471500-1807475100@www.dancesoul.com.tw
SUMMARY:Hip Hop-ROD
DESCRIPTION:
URL:https://www.dancesoul.com.tw/schedule/hip-hop-%e6%89%bf%e7%bf%b0-2-2/2027-04-11/
CATEGORIES:Hip Hop,常態課_一般,課程
END:VEVENT
BEGIN:VEVENT
DTSTART;TZID=Asia/Shanghai:20270413T213500
DTEND;TZID=Asia/Shanghai:20270413T223500
DTSTAMP:20260421T101534
CREATED:20260327T081822Z
LAST-MODIFIED:20260327T081932Z
UID:10032165-1807652100-1807655700@www.dancesoul.com.tw
SUMMARY:Hip Hop-承翰
DESCRIPTION:
URL:https://www.dancesoul.com.tw/schedule/hip-hop-%e6%89%bf%e7%bf%b0-2-3/2027-04-13/
CATEGORIES:Hip Hop,常態課_一般,課程
END:VEVENT
BEGIN:VEVENT
DTSTART;TZID=Asia/Shanghai:20270415T182000
DTEND;TZID=Asia/Shanghai:20270415T192000
DTSTAMP:20260421T101534
CREATED:20251202T055643Z
LAST-MODIFIED:20251202T055645Z
UID:10025525-1807813200-1807816800@www.dancesoul.com.tw
SUMMARY:Street Jazz-羊羊
DESCRIPTION:
URL:https://www.dancesoul.com.tw/schedule/hip-hop-%e4%bd%90%e4%bd%90-2-2/2027-04-15/
CATEGORIES:Hip Hop,常態課_一般,課程
END:VEVENT
BEGIN:VEVENT
DTSTART;TZID=Asia/Shanghai:20270418T192500
DTEND;TZID=Asia/Shanghai:20270418T202500
DTSTAMP:20260421T101534
CREATED:20260327T081608Z
LAST-MODIFIED:20260327T081608Z
UID:10030217-1808076300-1808079900@www.dancesoul.com.tw
SUMMARY:Hip Hop-ROD
DESCRIPTION:
URL:https://www.dancesoul.com.tw/schedule/hip-hop-%e6%89%bf%e7%bf%b0-2-2/2027-04-18/
CATEGORIES:Hip Hop,常態課_一般,課程
END:VEVENT
BEGIN:VEVENT
DTSTART;TZID=Asia/Shanghai:20270420T213500
DTEND;TZID=Asia/Shanghai:20270420T223500
DTSTAMP:20260421T101534
CREATED:20260327T081822Z
LAST-MODIFIED:20260327T081932Z
UID:10032166-1808256900-1808260500@www.dancesoul.com.tw
SUMMARY:Hip Hop-承翰
DESCRIPTION:
URL:https://www.dancesoul.com.tw/schedule/hip-hop-%e6%89%bf%e7%bf%b0-2-3/2027-04-20/
CATEGORIES:Hip Hop,常態課_一般,課程
END:VEVENT
BEGIN:VEVENT
DTSTART;TZID=Asia/Shanghai:20270422T182000
DTEND;TZID=Asia/Shanghai:20270422T192000
DTSTAMP:20260421T101534
CREATED:20251202T055643Z
LAST-MODIFIED:20251202T055645Z
UID:10025526-1808418000-1808421600@www.dancesoul.com.tw
SUMMARY:Street Jazz-羊羊
DESCRIPTION:
URL:https://www.dancesoul.com.tw/schedule/hip-hop-%e4%bd%90%e4%bd%90-2-2/2027-04-22/
CATEGORIES:Hip Hop,常態課_一般,課程
END:VEVENT
BEGIN:VEVENT
DTSTART;TZID=Asia/Shanghai:20270425T192500
DTEND;TZID=Asia/Shanghai:20270425T202500
DTSTAMP:20260421T101534
CREATED:20260327T081608Z
LAST-MODIFIED:20260327T081608Z
UID:10030218-1808681100-1808684700@www.dancesoul.com.tw
SUMMARY:Hip Hop-ROD
DESCRIPTION:
URL:https://www.dancesoul.com.tw/schedule/hip-hop-%e6%89%bf%e7%bf%b0-2-2/2027-04-25/
CATEGORIES:Hip Hop,常態課_一般,課程
END:VEVENT
BEGIN:VEVENT
DTSTART;TZID=Asia/Shanghai:20270427T213500
DTEND;TZID=Asia/Shanghai:20270427T223500
DTSTAMP:20260421T101534
CREATED:20260327T081822Z
LAST-MODIFIED:20260327T081932Z
UID:10032167-1808861700-1808865300@www.dancesoul.com.tw
SUMMARY:Hip Hop-承翰
DESCRIPTION:
URL:https://www.dancesoul.com.tw/schedule/hip-hop-%e6%89%bf%e7%bf%b0-2-3/2027-04-27/
CATEGORIES:Hip Hop,常態課_一般,課程
END:VEVENT
BEGIN:VEVENT
DTSTART;TZID=Asia/Shanghai:20270429T182000
DTEND;TZID=Asia/Shanghai:20270429T192000
DTSTAMP:20260421T101534
CREATED:20251202T055643Z
LAST-MODIFIED:20251202T055645Z
UID:10025527-1809022800-1809026400@www.dancesoul.com.tw
SUMMARY:Street Jazz-羊羊
DESCRIPTION:
URL:https://www.dancesoul.com.tw/schedule/hip-hop-%e4%bd%90%e4%bd%90-2-2/2027-04-29/
CATEGORIES:Hip Hop,常態課_一般,課程
END:VEVENT
BEGIN:VEVENT
DTSTART;TZID=Asia/Shanghai:20270502T192500
DTEND;TZID=Asia/Shanghai:20270502T202500
DTSTAMP:20260421T101534
CREATED:20260327T081608Z
LAST-MODIFIED:20260327T081608Z
UID:10030219-1809285900-1809289500@www.dancesoul.com.tw
SUMMARY:Hip Hop-ROD
DESCRIPTION:
URL:https://www.dancesoul.com.tw/schedule/hip-hop-%e6%89%bf%e7%bf%b0-2-2/2027-05-02/
CATEGORIES:Hip Hop,常態課_一般,課程
END:VEVENT
BEGIN:VEVENT
DTSTART;TZID=Asia/Shanghai:20270504T213500
DTEND;TZID=Asia/Shanghai:20270504T223500
DTSTAMP:20260421T101534
CREATED:20260327T081822Z
LAST-MODIFIED:20260327T081932Z
UID:10032168-1809466500-1809470100@www.dancesoul.com.tw
SUMMARY:Hip Hop-承翰
DESCRIPTION:
URL:https://www.dancesoul.com.tw/schedule/hip-hop-%e6%89%bf%e7%bf%b0-2-3/2027-05-04/
CATEGORIES:Hip Hop,常態課_一般,課程
END:VEVENT
BEGIN:VEVENT
DTSTART;TZID=Asia/Shanghai:20270506T182000
DTEND;TZID=Asia/Shanghai:20270506T192000
DTSTAMP:20260421T101534
CREATED:20251202T055643Z
LAST-MODIFIED:20251202T055645Z
UID:10025528-1809627600-1809631200@www.dancesoul.com.tw
SUMMARY:Street Jazz-羊羊
DESCRIPTION:
URL:https://www.dancesoul.com.tw/schedule/hip-hop-%e4%bd%90%e4%bd%90-2-2/2027-05-06/
CATEGORIES:Hip Hop,常態課_一般,課程
END:VEVENT
BEGIN:VEVENT
DTSTART;TZID=Asia/Shanghai:20270509T192500
DTEND;TZID=Asia/Shanghai:20270509T202500
DTSTAMP:20260421T101534
CREATED:20260327T081608Z
LAST-MODIFIED:20260327T081608Z
UID:10030220-1809890700-1809894300@www.dancesoul.com.tw
SUMMARY:Hip Hop-ROD
DESCRIPTION:
URL:https://www.dancesoul.com.tw/schedule/hip-hop-%e6%89%bf%e7%bf%b0-2-2/2027-05-09/
CATEGORIES:Hip Hop,常態課_一般,課程
END:VEVENT
BEGIN:VEVENT
DTSTART;TZID=Asia/Shanghai:20270511T213500
DTEND;TZID=Asia/Shanghai:20270511T223500
DTSTAMP:20260421T101534
CREATED:20260327T081822Z
LAST-MODIFIED:20260327T081932Z
UID:10032169-1810071300-1810074900@www.dancesoul.com.tw
SUMMARY:Hip Hop-承翰
DESCRIPTION:
URL:https://www.dancesoul.com.tw/schedule/hip-hop-%e6%89%bf%e7%bf%b0-2-3/2027-05-11/
CATEGORIES:Hip Hop,常態課_一般,課程
END:VEVENT
BEGIN:VEVENT
DTSTART;TZID=Asia/Shanghai:20270513T182000
DTEND;TZID=Asia/Shanghai:20270513T192000
DTSTAMP:20260421T101534
CREATED:20251202T055643Z
LAST-MODIFIED:20251202T055645Z
UID:10025529-1810232400-1810236000@www.dancesoul.com.tw
SUMMARY:Street Jazz-羊羊
DESCRIPTION:
URL:https://www.dancesoul.com.tw/schedule/hip-hop-%e4%bd%90%e4%bd%90-2-2/2027-05-13/
CATEGORIES:Hip Hop,常態課_一般,課程
END:VEVENT
BEGIN:VEVENT
DTSTART;TZID=Asia/Shanghai:20270516T192500
DTEND;TZID=Asia/Shanghai:20270516T202500
DTSTAMP:20260421T101534
CREATED:20260327T081608Z
LAST-MODIFIED:20260327T081608Z
UID:10030221-1810495500-1810499100@www.dancesoul.com.tw
SUMMARY:Hip Hop-ROD
DESCRIPTION:
URL:https://www.dancesoul.com.tw/schedule/hip-hop-%e6%89%bf%e7%bf%b0-2-2/2027-05-16/
CATEGORIES:Hip Hop,常態課_一般,課程
END:VEVENT
BEGIN:VEVENT
DTSTART;TZID=Asia/Shanghai:20270518T213500
DTEND;TZID=Asia/Shanghai:20270518T223500
DTSTAMP:20260421T101534
CREATED:20260327T081822Z
LAST-MODIFIED:20260327T081932Z
UID:10032170-1810676100-1810679700@www.dancesoul.com.tw
SUMMARY:Hip Hop-承翰
DESCRIPTION:
URL:https://www.dancesoul.com.tw/schedule/hip-hop-%e6%89%bf%e7%bf%b0-2-3/2027-05-18/
CATEGORIES:Hip Hop,常態課_一般,課程
END:VEVENT
BEGIN:VEVENT
DTSTART;TZID=Asia/Shanghai:20270520T182000
DTEND;TZID=Asia/Shanghai:20270520T192000
DTSTAMP:20260421T101534
CREATED:20251202T055643Z
LAST-MODIFIED:20251202T055645Z
UID:10025530-1810837200-1810840800@www.dancesoul.com.tw
SUMMARY:Street Jazz-羊羊
DESCRIPTION:
URL:https://www.dancesoul.com.tw/schedule/hip-hop-%e4%bd%90%e4%bd%90-2-2/2027-05-20/
CATEGORIES:Hip Hop,常態課_一般,課程
END:VEVENT
END:VCALENDAR