BEGIN:VCALENDAR
VERSION:2.0
PRODID:-//DANCE SOUL 舞魂街舞學校 - ECPv6.15.18//NONSGML v1.0//EN
CALSCALE:GREGORIAN
METHOD:PUBLISH
X-ORIGINAL-URL:https://www.dancesoul.com.tw
X-WR-CALDESC:Events for DANCE SOUL 舞魂街舞學校
REFRESH-INTERVAL;VALUE=DURATION:PT1H
X-Robots-Tag:noindex
X-PUBLISHED-TTL:PT1H
BEGIN:VTIMEZONE
TZID:Asia/Shanghai
BEGIN:STANDARD
TZOFFSETFROM:+0800
TZOFFSETTO:+0800
TZNAME:CST
DTSTART:20240101T000000
END:STANDARD
END:VTIMEZONE
BEGIN:VEVENT
DTSTART;TZID=Asia/Shanghai:20250612T203000
DTEND;TZID=Asia/Shanghai:20250612T213000
DTSTAMP:20260423T072307
CREATED:20250417T095336Z
LAST-MODIFIED:20250515T044810Z
UID:10021714-1749760200-1749763800@www.dancesoul.com.tw
SUMMARY:Hip Hop-林彤
DESCRIPTION:
URL:https://www.dancesoul.com.tw/schedule/hip-hop-%e6%9e%97%e5%bd%a4-29/2025-06-12/
CATEGORIES:Hip Hop,常態課_一般,課程
END:VEVENT
BEGIN:VEVENT
DTSTART;TZID=Asia/Shanghai:20250615T192500
DTEND;TZID=Asia/Shanghai:20250615T202500
DTSTAMP:20260423T072307
CREATED:20250515T042639Z
LAST-MODIFIED:20250515T042639Z
UID:10021657-1750015500-1750019100@www.dancesoul.com.tw
SUMMARY:Hip Hop(初)-Rod
DESCRIPTION:
URL:https://www.dancesoul.com.tw/schedule/hip-hop%e5%88%9d-rod-2/2025-06-15/
CATEGORIES:Hip Hop
END:VEVENT
END:VCALENDAR