BEGIN:VCALENDAR
VERSION:2.0
PRODID:-//DANCE SOUL 舞魂街舞學校 - ECPv6.15.18//NONSGML v1.0//EN
CALSCALE:GREGORIAN
METHOD:PUBLISH
X-ORIGINAL-URL:https://www.dancesoul.com.tw
X-WR-CALDESC:Events for DANCE SOUL 舞魂街舞學校
REFRESH-INTERVAL;VALUE=DURATION:PT1H
X-Robots-Tag:noindex
X-PUBLISHED-TTL:PT1H
BEGIN:VTIMEZONE
TZID:Asia/Shanghai
BEGIN:STANDARD
TZOFFSETFROM:+0800
TZOFFSETTO:+0800
TZNAME:CST
DTSTART:20250101T000000
END:STANDARD
END:VTIMEZONE
BEGIN:VEVENT
DTSTART;TZID=Asia/Shanghai:20260907T213500
DTEND;TZID=Asia/Shanghai:20260907T223500
DTSTAMP:20260421T211835
CREATED:20260327T082216Z
LAST-MODIFIED:20260327T082217Z
UID:10032418-1788816900-1788820500@www.dancesoul.com.tw
SUMMARY:Jazz Funk-姿昀
DESCRIPTION:
URL:https://www.dancesoul.com.tw/schedule/jazz-funk-%e5%a7%bf%e6%98%80-15-2/2026-09-07/
CATEGORIES:Jazz Funk,課程
END:VEVENT
BEGIN:VEVENT
DTSTART;TZID=Asia/Shanghai:20260914T213500
DTEND;TZID=Asia/Shanghai:20260914T223500
DTSTAMP:20260421T211835
CREATED:20260327T082216Z
LAST-MODIFIED:20260327T082217Z
UID:10032419-1789421700-1789425300@www.dancesoul.com.tw
SUMMARY:Jazz Funk-姿昀
DESCRIPTION:
URL:https://www.dancesoul.com.tw/schedule/jazz-funk-%e5%a7%bf%e6%98%80-15-2/2026-09-14/
CATEGORIES:Jazz Funk,課程
END:VEVENT
BEGIN:VEVENT
DTSTART;TZID=Asia/Shanghai:20260921T213500
DTEND;TZID=Asia/Shanghai:20260921T223500
DTSTAMP:20260421T211835
CREATED:20260327T082216Z
LAST-MODIFIED:20260327T082217Z
UID:10032420-1790026500-1790030100@www.dancesoul.com.tw
SUMMARY:Jazz Funk-姿昀
DESCRIPTION:
URL:https://www.dancesoul.com.tw/schedule/jazz-funk-%e5%a7%bf%e6%98%80-15-2/2026-09-21/
CATEGORIES:Jazz Funk,課程
END:VEVENT
BEGIN:VEVENT
DTSTART;TZID=Asia/Shanghai:20260928T213500
DTEND;TZID=Asia/Shanghai:20260928T223500
DTSTAMP:20260421T211835
CREATED:20260327T082216Z
LAST-MODIFIED:20260327T082217Z
UID:10032421-1790631300-1790634900@www.dancesoul.com.tw
SUMMARY:Jazz Funk-姿昀
DESCRIPTION:
URL:https://www.dancesoul.com.tw/schedule/jazz-funk-%e5%a7%bf%e6%98%80-15-2/2026-09-28/
CATEGORIES:Jazz Funk,課程
END:VEVENT
END:VCALENDAR