BEGIN:VCALENDAR
VERSION:2.0
PRODID:-//DANCE SOUL 舞魂街舞學校 - ECPv6.15.18//NONSGML v1.0//EN
CALSCALE:GREGORIAN
METHOD:PUBLISH
X-WR-CALNAME:DANCE SOUL 舞魂街舞學校
X-ORIGINAL-URL:https://www.dancesoul.com.tw
X-WR-CALDESC:Events for DANCE SOUL 舞魂街舞學校
REFRESH-INTERVAL;VALUE=DURATION:PT1H
X-Robots-Tag:noindex
X-PUBLISHED-TTL:PT1H
BEGIN:VTIMEZONE
TZID:Asia/Shanghai
BEGIN:STANDARD
TZOFFSETFROM:+0800
TZOFFSETTO:+0800
TZNAME:CST
DTSTART:20240101T000000
END:STANDARD
END:VTIMEZONE
BEGIN:VEVENT
DTSTART;TZID=Asia/Shanghai:20250906T182000
DTEND;TZID=Asia/Shanghai:20250906T192000
DTSTAMP:20260426T080546
CREATED:20250901T055441Z
LAST-MODIFIED:20250901T055457Z
UID:10028045-1757182800-1757186400@www.dancesoul.com.tw
SUMMARY:Popping-紀威
DESCRIPTION:
URL:https://www.dancesoul.com.tw/schedule/popping-%e7%b4%80%e5%a8%81-54/2025-09-06/
CATEGORIES:Poppin,常態課_一般,課程
END:VEVENT
BEGIN:VEVENT
DTSTART;TZID=Asia/Shanghai:20250913T182000
DTEND;TZID=Asia/Shanghai:20250913T192000
DTSTAMP:20260426T080546
CREATED:20250901T055441Z
LAST-MODIFIED:20250901T055457Z
UID:10028046-1757787600-1757791200@www.dancesoul.com.tw
SUMMARY:Popping-紀威
DESCRIPTION:
URL:https://www.dancesoul.com.tw/schedule/popping-%e7%b4%80%e5%a8%81-54/2025-09-13/
CATEGORIES:Poppin,常態課_一般,課程
END:VEVENT
BEGIN:VEVENT
DTSTART;TZID=Asia/Shanghai:20250920T182000
DTEND;TZID=Asia/Shanghai:20250920T192000
DTSTAMP:20260426T080546
CREATED:20250901T055441Z
LAST-MODIFIED:20250901T055457Z
UID:10028047-1758392400-1758396000@www.dancesoul.com.tw
SUMMARY:Popping-紀威
DESCRIPTION:
URL:https://www.dancesoul.com.tw/schedule/popping-%e7%b4%80%e5%a8%81-54/2025-09-20/
CATEGORIES:Poppin,常態課_一般,課程
END:VEVENT
BEGIN:VEVENT
DTSTART;TZID=Asia/Shanghai:20250927T182000
DTEND;TZID=Asia/Shanghai:20250927T192000
DTSTAMP:20260426T080546
CREATED:20250901T055441Z
LAST-MODIFIED:20250901T055457Z
UID:10028048-1758997200-1759000800@www.dancesoul.com.tw
SUMMARY:Popping-紀威
DESCRIPTION:
URL:https://www.dancesoul.com.tw/schedule/popping-%e7%b4%80%e5%a8%81-54/2025-09-27/
CATEGORIES:Poppin,常態課_一般,課程
END:VEVENT
END:VCALENDAR