BEGIN:VCALENDAR
VERSION:2.0
PRODID:-//DANCE SOUL 舞魂街舞學校 - ECPv6.15.18//NONSGML v1.0//EN
CALSCALE:GREGORIAN
METHOD:PUBLISH
X-ORIGINAL-URL:https://www.dancesoul.com.tw
X-WR-CALDESC:Events for DANCE SOUL 舞魂街舞學校
REFRESH-INTERVAL;VALUE=DURATION:PT1H
X-Robots-Tag:noindex
X-PUBLISHED-TTL:PT1H
BEGIN:VTIMEZONE
TZID:Asia/Shanghai
BEGIN:STANDARD
TZOFFSETFROM:+0800
TZOFFSETTO:+0800
TZNAME:CST
DTSTART:20250101T000000
END:STANDARD
END:VTIMEZONE
BEGIN:VEVENT
DTSTART;TZID=Asia/Shanghai:20260307T182000
DTEND;TZID=Asia/Shanghai:20260307T192000
DTSTAMP:20260421T072343
CREATED:20250901T055441Z
LAST-MODIFIED:20250901T055457Z
UID:10028071-1772907600-1772911200@www.dancesoul.com.tw
SUMMARY:Popping-紀威
DESCRIPTION:
URL:https://www.dancesoul.com.tw/schedule/popping-%e7%b4%80%e5%a8%81-54/2026-03-07/
CATEGORIES:Poppin,常態課_一般,課程
END:VEVENT
BEGIN:VEVENT
DTSTART;TZID=Asia/Shanghai:20260314T182000
DTEND;TZID=Asia/Shanghai:20260314T192000
DTSTAMP:20260421T072343
CREATED:20250901T055441Z
LAST-MODIFIED:20250901T055457Z
UID:10028072-1773512400-1773516000@www.dancesoul.com.tw
SUMMARY:Popping-紀威
DESCRIPTION:
URL:https://www.dancesoul.com.tw/schedule/popping-%e7%b4%80%e5%a8%81-54/2026-03-14/
CATEGORIES:Poppin,常態課_一般,課程
END:VEVENT
BEGIN:VEVENT
DTSTART;TZID=Asia/Shanghai:20260321T182000
DTEND;TZID=Asia/Shanghai:20260321T192000
DTSTAMP:20260421T072343
CREATED:20250901T055441Z
LAST-MODIFIED:20250901T055457Z
UID:10028073-1774117200-1774120800@www.dancesoul.com.tw
SUMMARY:Popping-紀威
DESCRIPTION:
URL:https://www.dancesoul.com.tw/schedule/popping-%e7%b4%80%e5%a8%81-54/2026-03-21/
CATEGORIES:Poppin,常態課_一般,課程
END:VEVENT
BEGIN:VEVENT
DTSTART;TZID=Asia/Shanghai:20260328T182000
DTEND;TZID=Asia/Shanghai:20260328T192000
DTSTAMP:20260421T072343
CREATED:20250901T055441Z
LAST-MODIFIED:20250901T055457Z
UID:10028074-1774722000-1774725600@www.dancesoul.com.tw
SUMMARY:Popping-紀威
DESCRIPTION:
URL:https://www.dancesoul.com.tw/schedule/popping-%e7%b4%80%e5%a8%81-54/2026-03-28/
CATEGORIES:Poppin,常態課_一般,課程
END:VEVENT
END:VCALENDAR