BEGIN:VCALENDAR
VERSION:2.0
PRODID:-//DANCE SOUL 舞魂街舞學校 - ECPv6.15.18//NONSGML v1.0//EN
CALSCALE:GREGORIAN
METHOD:PUBLISH
X-WR-CALNAME:DANCE SOUL 舞魂街舞學校
X-ORIGINAL-URL:https://www.dancesoul.com.tw
X-WR-CALDESC:Events for DANCE SOUL 舞魂街舞學校
REFRESH-INTERVAL;VALUE=DURATION:PT1H
X-Robots-Tag:noindex
X-PUBLISHED-TTL:PT1H
BEGIN:VTIMEZONE
TZID:Asia/Shanghai
BEGIN:STANDARD
TZOFFSETFROM:+0800
TZOFFSETTO:+0800
TZNAME:CST
DTSTART:20240101T000000
END:STANDARD
END:VTIMEZONE
BEGIN:VEVENT
DTSTART;TZID=Asia/Shanghai:20250603T192500
DTEND;TZID=Asia/Shanghai:20250603T202500
DTSTAMP:20260421T072127
CREATED:20250417T093453Z
LAST-MODIFIED:20250515T043908Z
UID:10021681-1748978700-1748982300@www.dancesoul.com.tw
SUMMARY:Street Jazz-Denis
DESCRIPTION:
URL:https://www.dancesoul.com.tw/schedule/street-jazz-denis-56/2025-06-03/
CATEGORIES:STREET JAZZ,常態課_一般,課程
END:VEVENT
BEGIN:VEVENT
DTSTART;TZID=Asia/Shanghai:20250604T192500
DTEND;TZID=Asia/Shanghai:20250604T202500
DTSTAMP:20260421T072127
CREATED:20250417T094436Z
LAST-MODIFIED:20250725T075734Z
UID:10021693-1749065100-1749068700@www.dancesoul.com.tw
SUMMARY:Street Jazz-Larry
DESCRIPTION:
URL:https://www.dancesoul.com.tw/schedule/street-jazz-larry-28/2025-06-04/
CATEGORIES:STREET JAZZ,常態課_一般,課程
END:VEVENT
BEGIN:VEVENT
DTSTART;TZID=Asia/Shanghai:20250606T192500
DTEND;TZID=Asia/Shanghai:20250606T202500
DTSTAMP:20260421T072127
CREATED:20250417T095812Z
LAST-MODIFIED:20250515T045216Z
UID:10021721-1749237900-1749241500@www.dancesoul.com.tw
SUMMARY:Street Jazz-邱邱
DESCRIPTION:
URL:https://www.dancesoul.com.tw/schedule/street-jazz-%e9%82%b1%e9%82%b1-3/2025-06-06/
CATEGORIES:STREET JAZZ,常態課_一般,課程
END:VEVENT
BEGIN:VEVENT
DTSTART;TZID=Asia/Shanghai:20250610T192500
DTEND;TZID=Asia/Shanghai:20250610T202500
DTSTAMP:20260421T072127
CREATED:20250417T093453Z
LAST-MODIFIED:20250515T043908Z
UID:10021682-1749583500-1749587100@www.dancesoul.com.tw
SUMMARY:Street Jazz-Denis
DESCRIPTION:
URL:https://www.dancesoul.com.tw/schedule/street-jazz-denis-56/2025-06-10/
CATEGORIES:STREET JAZZ,常態課_一般,課程
END:VEVENT
BEGIN:VEVENT
DTSTART;TZID=Asia/Shanghai:20250611T192500
DTEND;TZID=Asia/Shanghai:20250611T202500
DTSTAMP:20260421T072127
CREATED:20250417T094436Z
LAST-MODIFIED:20250725T075734Z
UID:10021694-1749669900-1749673500@www.dancesoul.com.tw
SUMMARY:Street Jazz-Larry
DESCRIPTION:
URL:https://www.dancesoul.com.tw/schedule/street-jazz-larry-28/2025-06-11/
CATEGORIES:STREET JAZZ,常態課_一般,課程
END:VEVENT
BEGIN:VEVENT
DTSTART;TZID=Asia/Shanghai:20250613T192500
DTEND;TZID=Asia/Shanghai:20250613T202500
DTSTAMP:20260421T072127
CREATED:20250417T095812Z
LAST-MODIFIED:20250515T045216Z
UID:10021722-1749842700-1749846300@www.dancesoul.com.tw
SUMMARY:Street Jazz-邱邱
DESCRIPTION:
URL:https://www.dancesoul.com.tw/schedule/street-jazz-%e9%82%b1%e9%82%b1-3/2025-06-13/
CATEGORIES:STREET JAZZ,常態課_一般,課程
END:VEVENT
BEGIN:VEVENT
DTSTART;TZID=Asia/Shanghai:20250617T192500
DTEND;TZID=Asia/Shanghai:20250617T202500
DTSTAMP:20260421T072127
CREATED:20250417T093453Z
LAST-MODIFIED:20250515T043908Z
UID:10021683-1750188300-1750191900@www.dancesoul.com.tw
SUMMARY:Street Jazz-Denis
DESCRIPTION:
URL:https://www.dancesoul.com.tw/schedule/street-jazz-denis-56/2025-06-17/
CATEGORIES:STREET JAZZ,常態課_一般,課程
END:VEVENT
BEGIN:VEVENT
DTSTART;TZID=Asia/Shanghai:20250618T192500
DTEND;TZID=Asia/Shanghai:20250618T202500
DTSTAMP:20260421T072127
CREATED:20250417T094436Z
LAST-MODIFIED:20250725T075734Z
UID:10021695-1750274700-1750278300@www.dancesoul.com.tw
SUMMARY:Street Jazz-Larry
DESCRIPTION:
URL:https://www.dancesoul.com.tw/schedule/street-jazz-larry-28/2025-06-18/
CATEGORIES:STREET JAZZ,常態課_一般,課程
END:VEVENT
BEGIN:VEVENT
DTSTART;TZID=Asia/Shanghai:20250620T192500
DTEND;TZID=Asia/Shanghai:20250620T202500
DTSTAMP:20260421T072127
CREATED:20250417T095812Z
LAST-MODIFIED:20250515T045216Z
UID:10021723-1750447500-1750451100@www.dancesoul.com.tw
SUMMARY:Street Jazz-邱邱
DESCRIPTION:
URL:https://www.dancesoul.com.tw/schedule/street-jazz-%e9%82%b1%e9%82%b1-3/2025-06-20/
CATEGORIES:STREET JAZZ,常態課_一般,課程
END:VEVENT
BEGIN:VEVENT
DTSTART;TZID=Asia/Shanghai:20250624T192500
DTEND;TZID=Asia/Shanghai:20250624T202500
DTSTAMP:20260421T072127
CREATED:20250417T093453Z
LAST-MODIFIED:20250515T043908Z
UID:10021684-1750793100-1750796700@www.dancesoul.com.tw
SUMMARY:Street Jazz-Denis
DESCRIPTION:
URL:https://www.dancesoul.com.tw/schedule/street-jazz-denis-56/2025-06-24/
CATEGORIES:STREET JAZZ,常態課_一般,課程
END:VEVENT
BEGIN:VEVENT
DTSTART;TZID=Asia/Shanghai:20250625T192500
DTEND;TZID=Asia/Shanghai:20250625T202500
DTSTAMP:20260421T072127
CREATED:20250417T094436Z
LAST-MODIFIED:20250725T075734Z
UID:10021696-1750879500-1750883100@www.dancesoul.com.tw
SUMMARY:Street Jazz-Larry
DESCRIPTION:
URL:https://www.dancesoul.com.tw/schedule/street-jazz-larry-28/2025-06-25/
CATEGORIES:STREET JAZZ,常態課_一般,課程
END:VEVENT
BEGIN:VEVENT
DTSTART;TZID=Asia/Shanghai:20250627T192500
DTEND;TZID=Asia/Shanghai:20250627T202500
DTSTAMP:20260421T072127
CREATED:20250417T095812Z
LAST-MODIFIED:20250515T045216Z
UID:10021724-1751052300-1751055900@www.dancesoul.com.tw
SUMMARY:Street Jazz-邱邱
DESCRIPTION:
URL:https://www.dancesoul.com.tw/schedule/street-jazz-%e9%82%b1%e9%82%b1-3/2025-06-27/
CATEGORIES:STREET JAZZ,常態課_一般,課程
END:VEVENT
END:VCALENDAR