BEGIN:VCALENDAR
VERSION:2.0
PRODID:-//DANCE SOUL 舞魂街舞學校 - ECPv6.15.18//NONSGML v1.0//EN
CALSCALE:GREGORIAN
METHOD:PUBLISH
X-WR-CALNAME:DANCE SOUL 舞魂街舞學校
X-ORIGINAL-URL:https://www.dancesoul.com.tw
X-WR-CALDESC:Events for DANCE SOUL 舞魂街舞學校
REFRESH-INTERVAL;VALUE=DURATION:PT1H
X-Robots-Tag:noindex
X-PUBLISHED-TTL:PT1H
BEGIN:VTIMEZONE
TZID:Asia/Shanghai
BEGIN:STANDARD
TZOFFSETFROM:+0800
TZOFFSETTO:+0800
TZNAME:CST
DTSTART:20240101T000000
END:STANDARD
END:VTIMEZONE
BEGIN:VEVENT
DTSTART;TZID=Asia/Shanghai:20250701T143000
DTEND;TZID=Asia/Shanghai:20250701T153000
DTSTAMP:20260421T181918
CREATED:20250623T120518Z
LAST-MODIFIED:20250725T074800Z
UID:10021841-1751380200-1751383800@www.dancesoul.com.tw
SUMMARY:Street Jazz-Cen妹
DESCRIPTION:
URL:https://www.dancesoul.com.tw/schedule/street-jazz-cen%e5%a6%b9/2025-07-01/
CATEGORIES:STREET JAZZ
END:VEVENT
BEGIN:VEVENT
DTSTART;TZID=Asia/Shanghai:20250701T192500
DTEND;TZID=Asia/Shanghai:20250701T202500
DTSTAMP:20260421T181918
CREATED:20250623T121421Z
LAST-MODIFIED:20250725T075312Z
UID:10021861-1751397900-1751401500@www.dancesoul.com.tw
SUMMARY:Street Jazz-Denis
DESCRIPTION:
URL:https://www.dancesoul.com.tw/schedule/street-jazz-denis-57/2025-07-01/
CATEGORIES:STREET JAZZ
END:VEVENT
BEGIN:VEVENT
DTSTART;TZID=Asia/Shanghai:20250702T192500
DTEND;TZID=Asia/Shanghai:20250702T202500
DTSTAMP:20260421T181918
CREATED:20250417T094436Z
LAST-MODIFIED:20250725T075734Z
UID:10022088-1751484300-1751487900@www.dancesoul.com.tw
SUMMARY:Street Jazz-Larry
DESCRIPTION:
URL:https://www.dancesoul.com.tw/schedule/street-jazz-larry-28/2025-07-02/
CATEGORIES:STREET JAZZ,常態課_一般,課程
END:VEVENT
BEGIN:VEVENT
DTSTART;TZID=Asia/Shanghai:20250702T192500
DTEND;TZID=Asia/Shanghai:20250702T202500
DTSTAMP:20260421T181918
CREATED:20250623T122409Z
LAST-MODIFIED:20250623T122409Z
UID:10021891-1751484300-1751487900@www.dancesoul.com.tw
SUMMARY:Street Jazz-Larry
DESCRIPTION:
URL:https://www.dancesoul.com.tw/schedule/street-jazz-larry-29/2025-07-02/
CATEGORIES:STREET JAZZ
END:VEVENT
BEGIN:VEVENT
DTSTART;TZID=Asia/Shanghai:20250702T203000
DTEND;TZID=Asia/Shanghai:20250702T213000
DTSTAMP:20260421T181918
CREATED:20250623T122515Z
LAST-MODIFIED:20250623T122515Z
UID:10021896-1751488200-1751491800@www.dancesoul.com.tw
SUMMARY:Street Jazz-Kyle
DESCRIPTION:
URL:https://www.dancesoul.com.tw/schedule/street-jazz-kyle-3/2025-07-02/
CATEGORIES:STREET JAZZ
END:VEVENT
BEGIN:VEVENT
DTSTART;TZID=Asia/Shanghai:20250703T154000
DTEND;TZID=Asia/Shanghai:20250703T164000
DTSTAMP:20260421T181918
CREATED:20250623T123015Z
LAST-MODIFIED:20250725T080946Z
UID:10021911-1751557200-1751560800@www.dancesoul.com.tw
SUMMARY:Street Jazz-小翁
DESCRIPTION:
URL:https://www.dancesoul.com.tw/schedule/street-jazz-%e5%b0%8f%e7%bf%81/2025-07-03/
CATEGORIES:STREET JAZZ
END:VEVENT
BEGIN:VEVENT
DTSTART;TZID=Asia/Shanghai:20250704T154000
DTEND;TZID=Asia/Shanghai:20250704T164000
DTSTAMP:20260421T181918
CREATED:20250623T130858Z
LAST-MODIFIED:20250725T082212Z
UID:10021950-1751643600-1751647200@www.dancesoul.com.tw
SUMMARY:Street Jazz-大可
DESCRIPTION:
URL:https://www.dancesoul.com.tw/schedule/street-jazz-%e5%a4%a7%e5%8f%af/2025-07-04/
CATEGORIES:STREET JAZZ
END:VEVENT
BEGIN:VEVENT
DTSTART;TZID=Asia/Shanghai:20250704T182000
DTEND;TZID=Asia/Shanghai:20250704T192000
DTSTAMP:20260421T181918
CREATED:20250623T131317Z
LAST-MODIFIED:20250725T082638Z
UID:10021958-1751653200-1751656800@www.dancesoul.com.tw
SUMMARY:Street Jazz-Cen妹
DESCRIPTION:
URL:https://www.dancesoul.com.tw/schedule/street-jazz-cen%e5%a6%b9-2/2025-07-04/
CATEGORIES:STREET JAZZ
END:VEVENT
BEGIN:VEVENT
DTSTART;TZID=Asia/Shanghai:20250704T192500
DTEND;TZID=Asia/Shanghai:20250704T202500
DTSTAMP:20260421T181918
CREATED:20250623T131637Z
LAST-MODIFIED:20250725T082736Z
UID:10021962-1751657100-1751660700@www.dancesoul.com.tw
SUMMARY:Street Jazz-邱邱
DESCRIPTION:
URL:https://www.dancesoul.com.tw/schedule/street-jazz-%e9%82%b1%e9%82%b1-4/2025-07-04/
CATEGORIES:STREET JAZZ
END:VEVENT
BEGIN:VEVENT
DTSTART;TZID=Asia/Shanghai:20250707T154000
DTEND;TZID=Asia/Shanghai:20250707T164000
DTSTAMP:20260421T181918
CREATED:20250623T105357Z
LAST-MODIFIED:20250725T073854Z
UID:10021817-1751902800-1751906400@www.dancesoul.com.tw
SUMMARY:Street Jazz-羊羊
DESCRIPTION:
URL:https://www.dancesoul.com.tw/schedule/street-jazz-%e7%be%8a%e7%be%8a/2025-07-07/
CATEGORIES:STREET JAZZ
END:VEVENT
BEGIN:VEVENT
DTSTART;TZID=Asia/Shanghai:20250708T143000
DTEND;TZID=Asia/Shanghai:20250708T153000
DTSTAMP:20260421T181918
CREATED:20250623T120518Z
LAST-MODIFIED:20250725T074800Z
UID:10021842-1751985000-1751988600@www.dancesoul.com.tw
SUMMARY:Street Jazz-Cen妹
DESCRIPTION:
URL:https://www.dancesoul.com.tw/schedule/street-jazz-cen%e5%a6%b9/2025-07-08/
CATEGORIES:STREET JAZZ
END:VEVENT
BEGIN:VEVENT
DTSTART;TZID=Asia/Shanghai:20250708T192500
DTEND;TZID=Asia/Shanghai:20250708T202500
DTSTAMP:20260421T181918
CREATED:20250623T121421Z
LAST-MODIFIED:20250725T075312Z
UID:10021862-1752002700-1752006300@www.dancesoul.com.tw
SUMMARY:Street Jazz-Denis
DESCRIPTION:
URL:https://www.dancesoul.com.tw/schedule/street-jazz-denis-57/2025-07-08/
CATEGORIES:STREET JAZZ
END:VEVENT
BEGIN:VEVENT
DTSTART;TZID=Asia/Shanghai:20250709T192500
DTEND;TZID=Asia/Shanghai:20250709T202500
DTSTAMP:20260421T181918
CREATED:20250417T094436Z
LAST-MODIFIED:20250725T075734Z
UID:10022089-1752089100-1752092700@www.dancesoul.com.tw
SUMMARY:Street Jazz-Larry
DESCRIPTION:
URL:https://www.dancesoul.com.tw/schedule/street-jazz-larry-28/2025-07-09/
CATEGORIES:STREET JAZZ,常態課_一般,課程
END:VEVENT
BEGIN:VEVENT
DTSTART;TZID=Asia/Shanghai:20250709T192500
DTEND;TZID=Asia/Shanghai:20250709T202500
DTSTAMP:20260421T181918
CREATED:20250623T122409Z
LAST-MODIFIED:20250623T122409Z
UID:10021892-1752089100-1752092700@www.dancesoul.com.tw
SUMMARY:Street Jazz-Larry
DESCRIPTION:
URL:https://www.dancesoul.com.tw/schedule/street-jazz-larry-29/2025-07-09/
CATEGORIES:STREET JAZZ
END:VEVENT
BEGIN:VEVENT
DTSTART;TZID=Asia/Shanghai:20250709T203000
DTEND;TZID=Asia/Shanghai:20250709T213000
DTSTAMP:20260421T181918
CREATED:20250623T122515Z
LAST-MODIFIED:20250623T122515Z
UID:10021897-1752093000-1752096600@www.dancesoul.com.tw
SUMMARY:Street Jazz-Kyle
DESCRIPTION:
URL:https://www.dancesoul.com.tw/schedule/street-jazz-kyle-3/2025-07-09/
CATEGORIES:STREET JAZZ
END:VEVENT
BEGIN:VEVENT
DTSTART;TZID=Asia/Shanghai:20250710T154000
DTEND;TZID=Asia/Shanghai:20250710T164000
DTSTAMP:20260421T181918
CREATED:20250623T123015Z
LAST-MODIFIED:20250725T080946Z
UID:10021912-1752162000-1752165600@www.dancesoul.com.tw
SUMMARY:Street Jazz-小翁
DESCRIPTION:
URL:https://www.dancesoul.com.tw/schedule/street-jazz-%e5%b0%8f%e7%bf%81/2025-07-10/
CATEGORIES:STREET JAZZ
END:VEVENT
BEGIN:VEVENT
DTSTART;TZID=Asia/Shanghai:20250711T154000
DTEND;TZID=Asia/Shanghai:20250711T164000
DTSTAMP:20260421T181918
CREATED:20250623T130858Z
LAST-MODIFIED:20250725T082212Z
UID:10021951-1752248400-1752252000@www.dancesoul.com.tw
SUMMARY:Street Jazz-大可
DESCRIPTION:
URL:https://www.dancesoul.com.tw/schedule/street-jazz-%e5%a4%a7%e5%8f%af/2025-07-11/
CATEGORIES:STREET JAZZ
END:VEVENT
BEGIN:VEVENT
DTSTART;TZID=Asia/Shanghai:20250711T182000
DTEND;TZID=Asia/Shanghai:20250711T192000
DTSTAMP:20260421T181918
CREATED:20250623T131317Z
LAST-MODIFIED:20250725T082638Z
UID:10021959-1752258000-1752261600@www.dancesoul.com.tw
SUMMARY:Street Jazz-Cen妹
DESCRIPTION:
URL:https://www.dancesoul.com.tw/schedule/street-jazz-cen%e5%a6%b9-2/2025-07-11/
CATEGORIES:STREET JAZZ
END:VEVENT
BEGIN:VEVENT
DTSTART;TZID=Asia/Shanghai:20250711T192500
DTEND;TZID=Asia/Shanghai:20250711T202500
DTSTAMP:20260421T181918
CREATED:20250623T131637Z
LAST-MODIFIED:20250725T082736Z
UID:10021963-1752261900-1752265500@www.dancesoul.com.tw
SUMMARY:Street Jazz-邱邱
DESCRIPTION:
URL:https://www.dancesoul.com.tw/schedule/street-jazz-%e9%82%b1%e9%82%b1-4/2025-07-11/
CATEGORIES:STREET JAZZ
END:VEVENT
BEGIN:VEVENT
DTSTART;TZID=Asia/Shanghai:20250714T154000
DTEND;TZID=Asia/Shanghai:20250714T164000
DTSTAMP:20260421T181918
CREATED:20250623T105357Z
LAST-MODIFIED:20250725T073854Z
UID:10021818-1752507600-1752511200@www.dancesoul.com.tw
SUMMARY:Street Jazz-羊羊
DESCRIPTION:
URL:https://www.dancesoul.com.tw/schedule/street-jazz-%e7%be%8a%e7%be%8a/2025-07-14/
CATEGORIES:STREET JAZZ
END:VEVENT
BEGIN:VEVENT
DTSTART;TZID=Asia/Shanghai:20250715T143000
DTEND;TZID=Asia/Shanghai:20250715T153000
DTSTAMP:20260421T181918
CREATED:20250623T120518Z
LAST-MODIFIED:20250725T074800Z
UID:10021843-1752589800-1752593400@www.dancesoul.com.tw
SUMMARY:Street Jazz-Cen妹
DESCRIPTION:
URL:https://www.dancesoul.com.tw/schedule/street-jazz-cen%e5%a6%b9/2025-07-15/
CATEGORIES:STREET JAZZ
END:VEVENT
BEGIN:VEVENT
DTSTART;TZID=Asia/Shanghai:20250715T192500
DTEND;TZID=Asia/Shanghai:20250715T202500
DTSTAMP:20260421T181918
CREATED:20250623T121421Z
LAST-MODIFIED:20250725T075312Z
UID:10021863-1752607500-1752611100@www.dancesoul.com.tw
SUMMARY:Street Jazz-Denis
DESCRIPTION:
URL:https://www.dancesoul.com.tw/schedule/street-jazz-denis-57/2025-07-15/
CATEGORIES:STREET JAZZ
END:VEVENT
BEGIN:VEVENT
DTSTART;TZID=Asia/Shanghai:20250716T192500
DTEND;TZID=Asia/Shanghai:20250716T202500
DTSTAMP:20260421T181918
CREATED:20250417T094436Z
LAST-MODIFIED:20250725T075734Z
UID:10022090-1752693900-1752697500@www.dancesoul.com.tw
SUMMARY:Street Jazz-Larry
DESCRIPTION:
URL:https://www.dancesoul.com.tw/schedule/street-jazz-larry-28/2025-07-16/
CATEGORIES:STREET JAZZ,常態課_一般,課程
END:VEVENT
BEGIN:VEVENT
DTSTART;TZID=Asia/Shanghai:20250716T192500
DTEND;TZID=Asia/Shanghai:20250716T202500
DTSTAMP:20260421T181918
CREATED:20250623T122409Z
LAST-MODIFIED:20250623T122409Z
UID:10021893-1752693900-1752697500@www.dancesoul.com.tw
SUMMARY:Street Jazz-Larry
DESCRIPTION:
URL:https://www.dancesoul.com.tw/schedule/street-jazz-larry-29/2025-07-16/
CATEGORIES:STREET JAZZ
END:VEVENT
BEGIN:VEVENT
DTSTART;TZID=Asia/Shanghai:20250716T203000
DTEND;TZID=Asia/Shanghai:20250716T213000
DTSTAMP:20260421T181918
CREATED:20250623T122515Z
LAST-MODIFIED:20250623T122515Z
UID:10021898-1752697800-1752701400@www.dancesoul.com.tw
SUMMARY:Street Jazz-Kyle
DESCRIPTION:
URL:https://www.dancesoul.com.tw/schedule/street-jazz-kyle-3/2025-07-16/
CATEGORIES:STREET JAZZ
END:VEVENT
BEGIN:VEVENT
DTSTART;TZID=Asia/Shanghai:20250717T154000
DTEND;TZID=Asia/Shanghai:20250717T164000
DTSTAMP:20260421T181918
CREATED:20250623T123015Z
LAST-MODIFIED:20250725T080946Z
UID:10021913-1752766800-1752770400@www.dancesoul.com.tw
SUMMARY:Street Jazz-小翁
DESCRIPTION:
URL:https://www.dancesoul.com.tw/schedule/street-jazz-%e5%b0%8f%e7%bf%81/2025-07-17/
CATEGORIES:STREET JAZZ
END:VEVENT
BEGIN:VEVENT
DTSTART;TZID=Asia/Shanghai:20250718T154000
DTEND;TZID=Asia/Shanghai:20250718T164000
DTSTAMP:20260421T181918
CREATED:20250623T130858Z
LAST-MODIFIED:20250725T082212Z
UID:10021952-1752853200-1752856800@www.dancesoul.com.tw
SUMMARY:Street Jazz-大可
DESCRIPTION:
URL:https://www.dancesoul.com.tw/schedule/street-jazz-%e5%a4%a7%e5%8f%af/2025-07-18/
CATEGORIES:STREET JAZZ
END:VEVENT
BEGIN:VEVENT
DTSTART;TZID=Asia/Shanghai:20250718T182000
DTEND;TZID=Asia/Shanghai:20250718T192000
DTSTAMP:20260421T181918
CREATED:20250623T131317Z
LAST-MODIFIED:20250725T082638Z
UID:10021960-1752862800-1752866400@www.dancesoul.com.tw
SUMMARY:Street Jazz-Cen妹
DESCRIPTION:
URL:https://www.dancesoul.com.tw/schedule/street-jazz-cen%e5%a6%b9-2/2025-07-18/
CATEGORIES:STREET JAZZ
END:VEVENT
BEGIN:VEVENT
DTSTART;TZID=Asia/Shanghai:20250718T192500
DTEND;TZID=Asia/Shanghai:20250718T202500
DTSTAMP:20260421T181918
CREATED:20250623T131637Z
LAST-MODIFIED:20250725T082736Z
UID:10021964-1752866700-1752870300@www.dancesoul.com.tw
SUMMARY:Street Jazz-邱邱
DESCRIPTION:
URL:https://www.dancesoul.com.tw/schedule/street-jazz-%e9%82%b1%e9%82%b1-4/2025-07-18/
CATEGORIES:STREET JAZZ
END:VEVENT
BEGIN:VEVENT
DTSTART;TZID=Asia/Shanghai:20250721T154000
DTEND;TZID=Asia/Shanghai:20250721T164000
DTSTAMP:20260421T181918
CREATED:20250623T105357Z
LAST-MODIFIED:20250725T073854Z
UID:10021819-1753112400-1753116000@www.dancesoul.com.tw
SUMMARY:Street Jazz-羊羊
DESCRIPTION:
URL:https://www.dancesoul.com.tw/schedule/street-jazz-%e7%be%8a%e7%be%8a/2025-07-21/
CATEGORIES:STREET JAZZ
END:VEVENT
END:VCALENDAR