BEGIN:VCALENDAR
VERSION:2.0
PRODID:-//DANCE SOUL 舞魂街舞學校 - ECPv6.15.18//NONSGML v1.0//EN
CALSCALE:GREGORIAN
METHOD:PUBLISH
X-ORIGINAL-URL:https://www.dancesoul.com.tw
X-WR-CALDESC:Events for DANCE SOUL 舞魂街舞學校
REFRESH-INTERVAL;VALUE=DURATION:PT1H
X-Robots-Tag:noindex
X-PUBLISHED-TTL:PT1H
BEGIN:VTIMEZONE
TZID:Asia/Shanghai
BEGIN:STANDARD
TZOFFSETFROM:+0800
TZOFFSETTO:+0800
TZNAME:CST
DTSTART:20240101T000000
END:STANDARD
END:VTIMEZONE
BEGIN:VEVENT
DTSTART;TZID=Asia/Shanghai:20250801T154000
DTEND;TZID=Asia/Shanghai:20250801T164000
DTSTAMP:20260421T211819
CREATED:20250623T130858Z
LAST-MODIFIED:20250725T082212Z
UID:10022146-1754062800-1754066400@www.dancesoul.com.tw
SUMMARY:Street Jazz-大可
DESCRIPTION:
URL:https://www.dancesoul.com.tw/schedule/street-jazz-%e5%a4%a7%e5%8f%af/2025-08-01/
CATEGORIES:STREET JAZZ
END:VEVENT
BEGIN:VEVENT
DTSTART;TZID=Asia/Shanghai:20250801T182000
DTEND;TZID=Asia/Shanghai:20250801T192000
DTSTAMP:20260421T211819
CREATED:20250623T131317Z
LAST-MODIFIED:20250725T082638Z
UID:10022156-1754072400-1754076000@www.dancesoul.com.tw
SUMMARY:Street Jazz-Cen妹
DESCRIPTION:
URL:https://www.dancesoul.com.tw/schedule/street-jazz-cen%e5%a6%b9-2/2025-08-01/
CATEGORIES:STREET JAZZ
END:VEVENT
BEGIN:VEVENT
DTSTART;TZID=Asia/Shanghai:20250801T192500
DTEND;TZID=Asia/Shanghai:20250801T202500
DTSTAMP:20260421T211819
CREATED:20250623T131637Z
LAST-MODIFIED:20250725T082736Z
UID:10022161-1754076300-1754079900@www.dancesoul.com.tw
SUMMARY:Street Jazz-邱邱
DESCRIPTION:
URL:https://www.dancesoul.com.tw/schedule/street-jazz-%e9%82%b1%e9%82%b1-4/2025-08-01/
CATEGORIES:STREET JAZZ
END:VEVENT
BEGIN:VEVENT
DTSTART;TZID=Asia/Shanghai:20250804T154000
DTEND;TZID=Asia/Shanghai:20250804T164000
DTSTAMP:20260421T211819
CREATED:20250623T105357Z
LAST-MODIFIED:20250725T073854Z
UID:10022047-1754322000-1754325600@www.dancesoul.com.tw
SUMMARY:Street Jazz-羊羊
DESCRIPTION:
URL:https://www.dancesoul.com.tw/schedule/street-jazz-%e7%be%8a%e7%be%8a/2025-08-04/
CATEGORIES:STREET JAZZ
END:VEVENT
BEGIN:VEVENT
DTSTART;TZID=Asia/Shanghai:20250805T143000
DTEND;TZID=Asia/Shanghai:20250805T153000
DTSTAMP:20260421T211819
CREATED:20250623T120518Z
LAST-MODIFIED:20250725T074800Z
UID:10022055-1754404200-1754407800@www.dancesoul.com.tw
SUMMARY:Street Jazz-Cen妹
DESCRIPTION:
URL:https://www.dancesoul.com.tw/schedule/street-jazz-cen%e5%a6%b9/2025-08-05/
CATEGORIES:STREET JAZZ
END:VEVENT
BEGIN:VEVENT
DTSTART;TZID=Asia/Shanghai:20250805T192500
DTEND;TZID=Asia/Shanghai:20250805T202500
DTSTAMP:20260421T211819
CREATED:20250623T121421Z
LAST-MODIFIED:20250725T075312Z
UID:10022071-1754421900-1754425500@www.dancesoul.com.tw
SUMMARY:Street Jazz-Denis
DESCRIPTION:
URL:https://www.dancesoul.com.tw/schedule/street-jazz-denis-57/2025-08-05/
CATEGORIES:STREET JAZZ
END:VEVENT
BEGIN:VEVENT
DTSTART;TZID=Asia/Shanghai:20250806T192500
DTEND;TZID=Asia/Shanghai:20250806T202500
DTSTAMP:20260421T211819
CREATED:20250417T094436Z
LAST-MODIFIED:20250725T075734Z
UID:10022093-1754508300-1754511900@www.dancesoul.com.tw
SUMMARY:Street Jazz-Larry
DESCRIPTION:
URL:https://www.dancesoul.com.tw/schedule/street-jazz-larry-28/2025-08-06/
CATEGORIES:STREET JAZZ,常態課_一般,課程
END:VEVENT
BEGIN:VEVENT
DTSTART;TZID=Asia/Shanghai:20250807T154000
DTEND;TZID=Asia/Shanghai:20250807T164000
DTSTAMP:20260421T211819
CREATED:20250623T123015Z
LAST-MODIFIED:20250725T080946Z
UID:10022117-1754581200-1754584800@www.dancesoul.com.tw
SUMMARY:Street Jazz-小翁
DESCRIPTION:
URL:https://www.dancesoul.com.tw/schedule/street-jazz-%e5%b0%8f%e7%bf%81/2025-08-07/
CATEGORIES:STREET JAZZ
END:VEVENT
BEGIN:VEVENT
DTSTART;TZID=Asia/Shanghai:20250808T154000
DTEND;TZID=Asia/Shanghai:20250808T164000
DTSTAMP:20260421T211819
CREATED:20250623T130858Z
LAST-MODIFIED:20250725T082212Z
UID:10022147-1754667600-1754671200@www.dancesoul.com.tw
SUMMARY:Street Jazz-大可
DESCRIPTION:
URL:https://www.dancesoul.com.tw/schedule/street-jazz-%e5%a4%a7%e5%8f%af/2025-08-08/
CATEGORIES:STREET JAZZ
END:VEVENT
BEGIN:VEVENT
DTSTART;TZID=Asia/Shanghai:20250808T182000
DTEND;TZID=Asia/Shanghai:20250808T192000
DTSTAMP:20260421T211819
CREATED:20250623T131317Z
LAST-MODIFIED:20250725T082638Z
UID:10022157-1754677200-1754680800@www.dancesoul.com.tw
SUMMARY:Street Jazz-Cen妹
DESCRIPTION:
URL:https://www.dancesoul.com.tw/schedule/street-jazz-cen%e5%a6%b9-2/2025-08-08/
CATEGORIES:STREET JAZZ
END:VEVENT
BEGIN:VEVENT
DTSTART;TZID=Asia/Shanghai:20250808T192500
DTEND;TZID=Asia/Shanghai:20250808T202500
DTSTAMP:20260421T211819
CREATED:20250623T131637Z
LAST-MODIFIED:20250725T082736Z
UID:10022162-1754681100-1754684700@www.dancesoul.com.tw
SUMMARY:Street Jazz-邱邱
DESCRIPTION:
URL:https://www.dancesoul.com.tw/schedule/street-jazz-%e9%82%b1%e9%82%b1-4/2025-08-08/
CATEGORIES:STREET JAZZ
END:VEVENT
BEGIN:VEVENT
DTSTART;TZID=Asia/Shanghai:20250811T154000
DTEND;TZID=Asia/Shanghai:20250811T164000
DTSTAMP:20260421T211819
CREATED:20250623T105357Z
LAST-MODIFIED:20250725T073854Z
UID:10022048-1754926800-1754930400@www.dancesoul.com.tw
SUMMARY:Street Jazz-羊羊
DESCRIPTION:
URL:https://www.dancesoul.com.tw/schedule/street-jazz-%e7%be%8a%e7%be%8a/2025-08-11/
CATEGORIES:STREET JAZZ
END:VEVENT
BEGIN:VEVENT
DTSTART;TZID=Asia/Shanghai:20250812T143000
DTEND;TZID=Asia/Shanghai:20250812T153000
DTSTAMP:20260421T211819
CREATED:20250623T120518Z
LAST-MODIFIED:20250725T074800Z
UID:10022056-1755009000-1755012600@www.dancesoul.com.tw
SUMMARY:Street Jazz-Cen妹
DESCRIPTION:
URL:https://www.dancesoul.com.tw/schedule/street-jazz-cen%e5%a6%b9/2025-08-12/
CATEGORIES:STREET JAZZ
END:VEVENT
BEGIN:VEVENT
DTSTART;TZID=Asia/Shanghai:20250812T192500
DTEND;TZID=Asia/Shanghai:20250812T202500
DTSTAMP:20260421T211819
CREATED:20250623T121421Z
LAST-MODIFIED:20250725T075312Z
UID:10022072-1755026700-1755030300@www.dancesoul.com.tw
SUMMARY:Street Jazz-Denis
DESCRIPTION:
URL:https://www.dancesoul.com.tw/schedule/street-jazz-denis-57/2025-08-12/
CATEGORIES:STREET JAZZ
END:VEVENT
BEGIN:VEVENT
DTSTART;TZID=Asia/Shanghai:20250813T192500
DTEND;TZID=Asia/Shanghai:20250813T202500
DTSTAMP:20260421T211819
CREATED:20250417T094436Z
LAST-MODIFIED:20250725T075734Z
UID:10022094-1755113100-1755116700@www.dancesoul.com.tw
SUMMARY:Street Jazz-Larry
DESCRIPTION:
URL:https://www.dancesoul.com.tw/schedule/street-jazz-larry-28/2025-08-13/
CATEGORIES:STREET JAZZ,常態課_一般,課程
END:VEVENT
BEGIN:VEVENT
DTSTART;TZID=Asia/Shanghai:20250814T154000
DTEND;TZID=Asia/Shanghai:20250814T164000
DTSTAMP:20260421T211819
CREATED:20250623T123015Z
LAST-MODIFIED:20250725T080946Z
UID:10022118-1755186000-1755189600@www.dancesoul.com.tw
SUMMARY:Street Jazz-小翁
DESCRIPTION:
URL:https://www.dancesoul.com.tw/schedule/street-jazz-%e5%b0%8f%e7%bf%81/2025-08-14/
CATEGORIES:STREET JAZZ
END:VEVENT
BEGIN:VEVENT
DTSTART;TZID=Asia/Shanghai:20250815T154000
DTEND;TZID=Asia/Shanghai:20250815T164000
DTSTAMP:20260421T211819
CREATED:20250623T130858Z
LAST-MODIFIED:20250725T082212Z
UID:10022148-1755272400-1755276000@www.dancesoul.com.tw
SUMMARY:Street Jazz-大可
DESCRIPTION:
URL:https://www.dancesoul.com.tw/schedule/street-jazz-%e5%a4%a7%e5%8f%af/2025-08-15/
CATEGORIES:STREET JAZZ
END:VEVENT
BEGIN:VEVENT
DTSTART;TZID=Asia/Shanghai:20250815T182000
DTEND;TZID=Asia/Shanghai:20250815T192000
DTSTAMP:20260421T211819
CREATED:20250623T131317Z
LAST-MODIFIED:20250725T082638Z
UID:10022158-1755282000-1755285600@www.dancesoul.com.tw
SUMMARY:Street Jazz-Cen妹
DESCRIPTION:
URL:https://www.dancesoul.com.tw/schedule/street-jazz-cen%e5%a6%b9-2/2025-08-15/
CATEGORIES:STREET JAZZ
END:VEVENT
BEGIN:VEVENT
DTSTART;TZID=Asia/Shanghai:20250815T192500
DTEND;TZID=Asia/Shanghai:20250815T202500
DTSTAMP:20260421T211819
CREATED:20250623T131637Z
LAST-MODIFIED:20250725T082736Z
UID:10022163-1755285900-1755289500@www.dancesoul.com.tw
SUMMARY:Street Jazz-邱邱
DESCRIPTION:
URL:https://www.dancesoul.com.tw/schedule/street-jazz-%e9%82%b1%e9%82%b1-4/2025-08-15/
CATEGORIES:STREET JAZZ
END:VEVENT
BEGIN:VEVENT
DTSTART;TZID=Asia/Shanghai:20250818T154000
DTEND;TZID=Asia/Shanghai:20250818T164000
DTSTAMP:20260421T211819
CREATED:20250623T105357Z
LAST-MODIFIED:20250725T073854Z
UID:10022049-1755531600-1755535200@www.dancesoul.com.tw
SUMMARY:Street Jazz-羊羊
DESCRIPTION:
URL:https://www.dancesoul.com.tw/schedule/street-jazz-%e7%be%8a%e7%be%8a/2025-08-18/
CATEGORIES:STREET JAZZ
END:VEVENT
BEGIN:VEVENT
DTSTART;TZID=Asia/Shanghai:20250819T143000
DTEND;TZID=Asia/Shanghai:20250819T153000
DTSTAMP:20260421T211819
CREATED:20250623T120518Z
LAST-MODIFIED:20250725T074800Z
UID:10022057-1755613800-1755617400@www.dancesoul.com.tw
SUMMARY:Street Jazz-Cen妹
DESCRIPTION:
URL:https://www.dancesoul.com.tw/schedule/street-jazz-cen%e5%a6%b9/2025-08-19/
CATEGORIES:STREET JAZZ
END:VEVENT
BEGIN:VEVENT
DTSTART;TZID=Asia/Shanghai:20250819T192500
DTEND;TZID=Asia/Shanghai:20250819T202500
DTSTAMP:20260421T211819
CREATED:20250623T121421Z
LAST-MODIFIED:20250725T075312Z
UID:10022073-1755631500-1755635100@www.dancesoul.com.tw
SUMMARY:Street Jazz-Denis
DESCRIPTION:
URL:https://www.dancesoul.com.tw/schedule/street-jazz-denis-57/2025-08-19/
CATEGORIES:STREET JAZZ
END:VEVENT
BEGIN:VEVENT
DTSTART;TZID=Asia/Shanghai:20250820T192500
DTEND;TZID=Asia/Shanghai:20250820T202500
DTSTAMP:20260421T211819
CREATED:20250417T094436Z
LAST-MODIFIED:20250725T075734Z
UID:10022095-1755717900-1755721500@www.dancesoul.com.tw
SUMMARY:Street Jazz-Larry
DESCRIPTION:
URL:https://www.dancesoul.com.tw/schedule/street-jazz-larry-28/2025-08-20/
CATEGORIES:STREET JAZZ,常態課_一般,課程
END:VEVENT
BEGIN:VEVENT
DTSTART;TZID=Asia/Shanghai:20250821T154000
DTEND;TZID=Asia/Shanghai:20250821T164000
DTSTAMP:20260421T211819
CREATED:20250623T123015Z
LAST-MODIFIED:20250725T080946Z
UID:10022119-1755790800-1755794400@www.dancesoul.com.tw
SUMMARY:Street Jazz-小翁
DESCRIPTION:
URL:https://www.dancesoul.com.tw/schedule/street-jazz-%e5%b0%8f%e7%bf%81/2025-08-21/
CATEGORIES:STREET JAZZ
END:VEVENT
BEGIN:VEVENT
DTSTART;TZID=Asia/Shanghai:20250822T154000
DTEND;TZID=Asia/Shanghai:20250822T164000
DTSTAMP:20260421T211819
CREATED:20250623T130858Z
LAST-MODIFIED:20250725T082212Z
UID:10022149-1755877200-1755880800@www.dancesoul.com.tw
SUMMARY:Street Jazz-大可
DESCRIPTION:
URL:https://www.dancesoul.com.tw/schedule/street-jazz-%e5%a4%a7%e5%8f%af/2025-08-22/
CATEGORIES:STREET JAZZ
END:VEVENT
BEGIN:VEVENT
DTSTART;TZID=Asia/Shanghai:20250822T182000
DTEND;TZID=Asia/Shanghai:20250822T192000
DTSTAMP:20260421T211819
CREATED:20250623T131317Z
LAST-MODIFIED:20250725T082638Z
UID:10022159-1755886800-1755890400@www.dancesoul.com.tw
SUMMARY:Street Jazz-Cen妹
DESCRIPTION:
URL:https://www.dancesoul.com.tw/schedule/street-jazz-cen%e5%a6%b9-2/2025-08-22/
CATEGORIES:STREET JAZZ
END:VEVENT
BEGIN:VEVENT
DTSTART;TZID=Asia/Shanghai:20250822T192500
DTEND;TZID=Asia/Shanghai:20250822T202500
DTSTAMP:20260421T211819
CREATED:20250623T131637Z
LAST-MODIFIED:20250725T082736Z
UID:10022164-1755890700-1755894300@www.dancesoul.com.tw
SUMMARY:Street Jazz-邱邱
DESCRIPTION:
URL:https://www.dancesoul.com.tw/schedule/street-jazz-%e9%82%b1%e9%82%b1-4/2025-08-22/
CATEGORIES:STREET JAZZ
END:VEVENT
BEGIN:VEVENT
DTSTART;TZID=Asia/Shanghai:20250825T154000
DTEND;TZID=Asia/Shanghai:20250825T164000
DTSTAMP:20260421T211819
CREATED:20250623T105357Z
LAST-MODIFIED:20250725T073854Z
UID:10022050-1756136400-1756140000@www.dancesoul.com.tw
SUMMARY:Street Jazz-羊羊
DESCRIPTION:
URL:https://www.dancesoul.com.tw/schedule/street-jazz-%e7%be%8a%e7%be%8a/2025-08-25/
CATEGORIES:STREET JAZZ
END:VEVENT
BEGIN:VEVENT
DTSTART;TZID=Asia/Shanghai:20250826T143000
DTEND;TZID=Asia/Shanghai:20250826T153000
DTSTAMP:20260421T211819
CREATED:20250623T120518Z
LAST-MODIFIED:20250725T074800Z
UID:10022058-1756218600-1756222200@www.dancesoul.com.tw
SUMMARY:Street Jazz-Cen妹
DESCRIPTION:
URL:https://www.dancesoul.com.tw/schedule/street-jazz-cen%e5%a6%b9/2025-08-26/
CATEGORIES:STREET JAZZ
END:VEVENT
BEGIN:VEVENT
DTSTART;TZID=Asia/Shanghai:20250826T192500
DTEND;TZID=Asia/Shanghai:20250826T202500
DTSTAMP:20260421T211819
CREATED:20250623T121421Z
LAST-MODIFIED:20250725T075312Z
UID:10022074-1756236300-1756239900@www.dancesoul.com.tw
SUMMARY:Street Jazz-Denis
DESCRIPTION:
URL:https://www.dancesoul.com.tw/schedule/street-jazz-denis-57/2025-08-26/
CATEGORIES:STREET JAZZ
END:VEVENT
END:VCALENDAR