BEGIN:VCALENDAR
VERSION:2.0
PRODID:-//DANCE SOUL 舞魂街舞學校 - ECPv6.15.18//NONSGML v1.0//EN
CALSCALE:GREGORIAN
METHOD:PUBLISH
X-WR-CALNAME:DANCE SOUL 舞魂街舞學校
X-ORIGINAL-URL:https://www.dancesoul.com.tw
X-WR-CALDESC:Events for DANCE SOUL 舞魂街舞學校
REFRESH-INTERVAL;VALUE=DURATION:PT1H
X-Robots-Tag:noindex
X-PUBLISHED-TTL:PT1H
BEGIN:VTIMEZONE
TZID:Asia/Shanghai
BEGIN:STANDARD
TZOFFSETFROM:+0800
TZOFFSETTO:+0800
TZNAME:CST
DTSTART:20240101T000000
END:STANDARD
END:VTIMEZONE
BEGIN:VEVENT
DTSTART;TZID=Asia/Shanghai:20251001T192500
DTEND;TZID=Asia/Shanghai:20251001T202500
DTSTAMP:20260421T145948
CREATED:20250828T102504Z
LAST-MODIFIED:20250828T102504Z
UID:10024662-1759346700-1759350300@www.dancesoul.com.tw
SUMMARY:Street Jazz-Larry
DESCRIPTION:
URL:https://www.dancesoul.com.tw/schedule/street-jazz-larry-30/2025-10-01/
CATEGORIES:STREET JAZZ,常態課_一般,課程
END:VEVENT
BEGIN:VEVENT
DTSTART;TZID=Asia/Shanghai:20251001T203000
DTEND;TZID=Asia/Shanghai:20251001T213000
DTSTAMP:20260421T145948
CREATED:20250828T103540Z
LAST-MODIFIED:20250828T103540Z
UID:10024923-1759350600-1759354200@www.dancesoul.com.tw
SUMMARY:Street Jazz-Kyle
DESCRIPTION:
URL:https://www.dancesoul.com.tw/schedule/street-jazz-kyle-4/2025-10-01/
CATEGORIES:STREET JAZZ,常態課_一般,課程
END:VEVENT
BEGIN:VEVENT
DTSTART;TZID=Asia/Shanghai:20251008T192500
DTEND;TZID=Asia/Shanghai:20251008T202500
DTSTAMP:20260421T145948
CREATED:20250828T102504Z
LAST-MODIFIED:20250828T102504Z
UID:10024663-1759951500-1759955100@www.dancesoul.com.tw
SUMMARY:Street Jazz-Larry
DESCRIPTION:
URL:https://www.dancesoul.com.tw/schedule/street-jazz-larry-30/2025-10-08/
CATEGORIES:STREET JAZZ,常態課_一般,課程
END:VEVENT
BEGIN:VEVENT
DTSTART;TZID=Asia/Shanghai:20251008T203000
DTEND;TZID=Asia/Shanghai:20251008T213000
DTSTAMP:20260421T145948
CREATED:20250828T103540Z
LAST-MODIFIED:20250828T103540Z
UID:10024924-1759955400-1759959000@www.dancesoul.com.tw
SUMMARY:Street Jazz-Kyle
DESCRIPTION:
URL:https://www.dancesoul.com.tw/schedule/street-jazz-kyle-4/2025-10-08/
CATEGORIES:STREET JAZZ,常態課_一般,課程
END:VEVENT
BEGIN:VEVENT
DTSTART;TZID=Asia/Shanghai:20251015T192500
DTEND;TZID=Asia/Shanghai:20251015T202500
DTSTAMP:20260421T145948
CREATED:20250828T102504Z
LAST-MODIFIED:20250828T102504Z
UID:10024664-1760556300-1760559900@www.dancesoul.com.tw
SUMMARY:Street Jazz-Larry
DESCRIPTION:
URL:https://www.dancesoul.com.tw/schedule/street-jazz-larry-30/2025-10-15/
CATEGORIES:STREET JAZZ,常態課_一般,課程
END:VEVENT
BEGIN:VEVENT
DTSTART;TZID=Asia/Shanghai:20251015T203000
DTEND;TZID=Asia/Shanghai:20251015T213000
DTSTAMP:20260421T145948
CREATED:20250828T103540Z
LAST-MODIFIED:20250828T103540Z
UID:10024925-1760560200-1760563800@www.dancesoul.com.tw
SUMMARY:Street Jazz-Kyle
DESCRIPTION:
URL:https://www.dancesoul.com.tw/schedule/street-jazz-kyle-4/2025-10-15/
CATEGORIES:STREET JAZZ,常態課_一般,課程
END:VEVENT
BEGIN:VEVENT
DTSTART;TZID=Asia/Shanghai:20251022T192500
DTEND;TZID=Asia/Shanghai:20251022T202500
DTSTAMP:20260421T145948
CREATED:20250828T102504Z
LAST-MODIFIED:20250828T102504Z
UID:10024665-1761161100-1761164700@www.dancesoul.com.tw
SUMMARY:Street Jazz-Larry
DESCRIPTION:
URL:https://www.dancesoul.com.tw/schedule/street-jazz-larry-30/2025-10-22/
CATEGORIES:STREET JAZZ,常態課_一般,課程
END:VEVENT
BEGIN:VEVENT
DTSTART;TZID=Asia/Shanghai:20251022T203000
DTEND;TZID=Asia/Shanghai:20251022T213000
DTSTAMP:20260421T145948
CREATED:20250828T103540Z
LAST-MODIFIED:20250828T103540Z
UID:10024926-1761165000-1761168600@www.dancesoul.com.tw
SUMMARY:Street Jazz-Kyle
DESCRIPTION:
URL:https://www.dancesoul.com.tw/schedule/street-jazz-kyle-4/2025-10-22/
CATEGORIES:STREET JAZZ,常態課_一般,課程
END:VEVENT
BEGIN:VEVENT
DTSTART;TZID=Asia/Shanghai:20251029T192500
DTEND;TZID=Asia/Shanghai:20251029T202500
DTSTAMP:20260421T145948
CREATED:20250828T102504Z
LAST-MODIFIED:20250828T102504Z
UID:10024666-1761765900-1761769500@www.dancesoul.com.tw
SUMMARY:Street Jazz-Larry
DESCRIPTION:
URL:https://www.dancesoul.com.tw/schedule/street-jazz-larry-30/2025-10-29/
CATEGORIES:STREET JAZZ,常態課_一般,課程
END:VEVENT
BEGIN:VEVENT
DTSTART;TZID=Asia/Shanghai:20251029T203000
DTEND;TZID=Asia/Shanghai:20251029T213000
DTSTAMP:20260421T145948
CREATED:20250828T103540Z
LAST-MODIFIED:20250828T103540Z
UID:10024927-1761769800-1761773400@www.dancesoul.com.tw
SUMMARY:Street Jazz-Kyle
DESCRIPTION:
URL:https://www.dancesoul.com.tw/schedule/street-jazz-kyle-4/2025-10-29/
CATEGORIES:STREET JAZZ,常態課_一般,課程
END:VEVENT
END:VCALENDAR