BEGIN:VCALENDAR
VERSION:2.0
PRODID:-//DANCE SOUL 舞魂街舞學校 - ECPv6.15.18//NONSGML v1.0//EN
CALSCALE:GREGORIAN
METHOD:PUBLISH
X-ORIGINAL-URL:https://www.dancesoul.com.tw
X-WR-CALDESC:Events for DANCE SOUL 舞魂街舞學校
REFRESH-INTERVAL;VALUE=DURATION:PT1H
X-Robots-Tag:noindex
X-PUBLISHED-TTL:PT1H
BEGIN:VTIMEZONE
TZID:Asia/Shanghai
BEGIN:STANDARD
TZOFFSETFROM:+0800
TZOFFSETTO:+0800
TZNAME:CST
DTSTART:20270101T000000
END:STANDARD
END:VTIMEZONE
BEGIN:VEVENT
DTSTART;TZID=Asia/Shanghai:20280329T192500
DTEND;TZID=Asia/Shanghai:20280329T202500
DTSTAMP:20260423T024040
CREATED:20250828T102504Z
LAST-MODIFIED:20250828T102504Z
UID:10024792-1837970700-1837974300@www.dancesoul.com.tw
SUMMARY:Street Jazz-Larry
DESCRIPTION:
URL:https://www.dancesoul.com.tw/schedule/street-jazz-larry-30/2028-03-29/
CATEGORIES:STREET JAZZ,常態課_一般,課程
END:VEVENT
BEGIN:VEVENT
DTSTART;TZID=Asia/Shanghai:20280329T203000
DTEND;TZID=Asia/Shanghai:20280329T213000
DTSTAMP:20260423T024040
CREATED:20250828T103540Z
LAST-MODIFIED:20250828T103540Z
UID:10025053-1837974600-1837978200@www.dancesoul.com.tw
SUMMARY:Street Jazz-Kyle
DESCRIPTION:
URL:https://www.dancesoul.com.tw/schedule/street-jazz-kyle-4/2028-03-29/
CATEGORIES:STREET JAZZ,常態課_一般,課程
END:VEVENT
BEGIN:VEVENT
DTSTART;TZID=Asia/Shanghai:20280405T192500
DTEND;TZID=Asia/Shanghai:20280405T202500
DTSTAMP:20260423T024040
CREATED:20250828T102504Z
LAST-MODIFIED:20250828T102504Z
UID:10024793-1838575500-1838579100@www.dancesoul.com.tw
SUMMARY:Street Jazz-Larry
DESCRIPTION:
URL:https://www.dancesoul.com.tw/schedule/street-jazz-larry-30/2028-04-05/
CATEGORIES:STREET JAZZ,常態課_一般,課程
END:VEVENT
BEGIN:VEVENT
DTSTART;TZID=Asia/Shanghai:20280405T203000
DTEND;TZID=Asia/Shanghai:20280405T213000
DTSTAMP:20260423T024040
CREATED:20250828T103540Z
LAST-MODIFIED:20250828T103540Z
UID:10025054-1838579400-1838583000@www.dancesoul.com.tw
SUMMARY:Street Jazz-Kyle
DESCRIPTION:
URL:https://www.dancesoul.com.tw/schedule/street-jazz-kyle-4/2028-04-05/
CATEGORIES:STREET JAZZ,常態課_一般,課程
END:VEVENT
BEGIN:VEVENT
DTSTART;TZID=Asia/Shanghai:20280412T192500
DTEND;TZID=Asia/Shanghai:20280412T202500
DTSTAMP:20260423T024040
CREATED:20250828T102504Z
LAST-MODIFIED:20250828T102504Z
UID:10024794-1839180300-1839183900@www.dancesoul.com.tw
SUMMARY:Street Jazz-Larry
DESCRIPTION:
URL:https://www.dancesoul.com.tw/schedule/street-jazz-larry-30/2028-04-12/
CATEGORIES:STREET JAZZ,常態課_一般,課程
END:VEVENT
BEGIN:VEVENT
DTSTART;TZID=Asia/Shanghai:20280412T203000
DTEND;TZID=Asia/Shanghai:20280412T213000
DTSTAMP:20260423T024040
CREATED:20250828T103540Z
LAST-MODIFIED:20250828T103540Z
UID:10025055-1839184200-1839187800@www.dancesoul.com.tw
SUMMARY:Street Jazz-Kyle
DESCRIPTION:
URL:https://www.dancesoul.com.tw/schedule/street-jazz-kyle-4/2028-04-12/
CATEGORIES:STREET JAZZ,常態課_一般,課程
END:VEVENT
BEGIN:VEVENT
DTSTART;TZID=Asia/Shanghai:20280419T192500
DTEND;TZID=Asia/Shanghai:20280419T202500
DTSTAMP:20260423T024040
CREATED:20250828T102504Z
LAST-MODIFIED:20250828T102504Z
UID:10024795-1839785100-1839788700@www.dancesoul.com.tw
SUMMARY:Street Jazz-Larry
DESCRIPTION:
URL:https://www.dancesoul.com.tw/schedule/street-jazz-larry-30/2028-04-19/
CATEGORIES:STREET JAZZ,常態課_一般,課程
END:VEVENT
BEGIN:VEVENT
DTSTART;TZID=Asia/Shanghai:20280419T203000
DTEND;TZID=Asia/Shanghai:20280419T213000
DTSTAMP:20260423T024040
CREATED:20250828T103540Z
LAST-MODIFIED:20250828T103540Z
UID:10025056-1839789000-1839792600@www.dancesoul.com.tw
SUMMARY:Street Jazz-Kyle
DESCRIPTION:
URL:https://www.dancesoul.com.tw/schedule/street-jazz-kyle-4/2028-04-19/
CATEGORIES:STREET JAZZ,常態課_一般,課程
END:VEVENT
BEGIN:VEVENT
DTSTART;TZID=Asia/Shanghai:20280426T192500
DTEND;TZID=Asia/Shanghai:20280426T202500
DTSTAMP:20260423T024040
CREATED:20250828T102504Z
LAST-MODIFIED:20250828T102504Z
UID:10024796-1840389900-1840393500@www.dancesoul.com.tw
SUMMARY:Street Jazz-Larry
DESCRIPTION:
URL:https://www.dancesoul.com.tw/schedule/street-jazz-larry-30/2028-04-26/
CATEGORIES:STREET JAZZ,常態課_一般,課程
END:VEVENT
BEGIN:VEVENT
DTSTART;TZID=Asia/Shanghai:20280426T203000
DTEND;TZID=Asia/Shanghai:20280426T213000
DTSTAMP:20260423T024040
CREATED:20250828T103540Z
LAST-MODIFIED:20250828T103540Z
UID:10025057-1840393800-1840397400@www.dancesoul.com.tw
SUMMARY:Street Jazz-Kyle
DESCRIPTION:
URL:https://www.dancesoul.com.tw/schedule/street-jazz-kyle-4/2028-04-26/
CATEGORIES:STREET JAZZ,常態課_一般,課程
END:VEVENT
BEGIN:VEVENT
DTSTART;TZID=Asia/Shanghai:20280503T192500
DTEND;TZID=Asia/Shanghai:20280503T202500
DTSTAMP:20260423T024040
CREATED:20250828T102504Z
LAST-MODIFIED:20250828T102504Z
UID:10024797-1840994700-1840998300@www.dancesoul.com.tw
SUMMARY:Street Jazz-Larry
DESCRIPTION:
URL:https://www.dancesoul.com.tw/schedule/street-jazz-larry-30/2028-05-03/
CATEGORIES:STREET JAZZ,常態課_一般,課程
END:VEVENT
BEGIN:VEVENT
DTSTART;TZID=Asia/Shanghai:20280503T203000
DTEND;TZID=Asia/Shanghai:20280503T213000
DTSTAMP:20260423T024040
CREATED:20250828T103540Z
LAST-MODIFIED:20250828T103540Z
UID:10025058-1840998600-1841002200@www.dancesoul.com.tw
SUMMARY:Street Jazz-Kyle
DESCRIPTION:
URL:https://www.dancesoul.com.tw/schedule/street-jazz-kyle-4/2028-05-03/
CATEGORIES:STREET JAZZ,常態課_一般,課程
END:VEVENT
BEGIN:VEVENT
DTSTART;TZID=Asia/Shanghai:20280510T192500
DTEND;TZID=Asia/Shanghai:20280510T202500
DTSTAMP:20260423T024040
CREATED:20250828T102504Z
LAST-MODIFIED:20250828T102504Z
UID:10024798-1841599500-1841603100@www.dancesoul.com.tw
SUMMARY:Street Jazz-Larry
DESCRIPTION:
URL:https://www.dancesoul.com.tw/schedule/street-jazz-larry-30/2028-05-10/
CATEGORIES:STREET JAZZ,常態課_一般,課程
END:VEVENT
BEGIN:VEVENT
DTSTART;TZID=Asia/Shanghai:20280510T203000
DTEND;TZID=Asia/Shanghai:20280510T213000
DTSTAMP:20260423T024040
CREATED:20250828T103540Z
LAST-MODIFIED:20250828T103540Z
UID:10025059-1841603400-1841607000@www.dancesoul.com.tw
SUMMARY:Street Jazz-Kyle
DESCRIPTION:
URL:https://www.dancesoul.com.tw/schedule/street-jazz-kyle-4/2028-05-10/
CATEGORIES:STREET JAZZ,常態課_一般,課程
END:VEVENT
BEGIN:VEVENT
DTSTART;TZID=Asia/Shanghai:20280517T192500
DTEND;TZID=Asia/Shanghai:20280517T202500
DTSTAMP:20260423T024040
CREATED:20250828T102504Z
LAST-MODIFIED:20250828T102504Z
UID:10024799-1842204300-1842207900@www.dancesoul.com.tw
SUMMARY:Street Jazz-Larry
DESCRIPTION:
URL:https://www.dancesoul.com.tw/schedule/street-jazz-larry-30/2028-05-17/
CATEGORIES:STREET JAZZ,常態課_一般,課程
END:VEVENT
BEGIN:VEVENT
DTSTART;TZID=Asia/Shanghai:20280517T203000
DTEND;TZID=Asia/Shanghai:20280517T213000
DTSTAMP:20260423T024040
CREATED:20250828T103540Z
LAST-MODIFIED:20250828T103540Z
UID:10025060-1842208200-1842211800@www.dancesoul.com.tw
SUMMARY:Street Jazz-Kyle
DESCRIPTION:
URL:https://www.dancesoul.com.tw/schedule/street-jazz-kyle-4/2028-05-17/
CATEGORIES:STREET JAZZ,常態課_一般,課程
END:VEVENT
BEGIN:VEVENT
DTSTART;TZID=Asia/Shanghai:20280524T192500
DTEND;TZID=Asia/Shanghai:20280524T202500
DTSTAMP:20260423T024040
CREATED:20250828T102504Z
LAST-MODIFIED:20250828T102504Z
UID:10024800-1842809100-1842812700@www.dancesoul.com.tw
SUMMARY:Street Jazz-Larry
DESCRIPTION:
URL:https://www.dancesoul.com.tw/schedule/street-jazz-larry-30/2028-05-24/
CATEGORIES:STREET JAZZ,常態課_一般,課程
END:VEVENT
BEGIN:VEVENT
DTSTART;TZID=Asia/Shanghai:20280524T203000
DTEND;TZID=Asia/Shanghai:20280524T213000
DTSTAMP:20260423T024040
CREATED:20250828T103540Z
LAST-MODIFIED:20250828T103540Z
UID:10025061-1842813000-1842816600@www.dancesoul.com.tw
SUMMARY:Street Jazz-Kyle
DESCRIPTION:
URL:https://www.dancesoul.com.tw/schedule/street-jazz-kyle-4/2028-05-24/
CATEGORIES:STREET JAZZ,常態課_一般,課程
END:VEVENT
BEGIN:VEVENT
DTSTART;TZID=Asia/Shanghai:20280531T192500
DTEND;TZID=Asia/Shanghai:20280531T202500
DTSTAMP:20260423T024040
CREATED:20250828T102504Z
LAST-MODIFIED:20250828T102504Z
UID:10024801-1843413900-1843417500@www.dancesoul.com.tw
SUMMARY:Street Jazz-Larry
DESCRIPTION:
URL:https://www.dancesoul.com.tw/schedule/street-jazz-larry-30/2028-05-31/
CATEGORIES:STREET JAZZ,常態課_一般,課程
END:VEVENT
BEGIN:VEVENT
DTSTART;TZID=Asia/Shanghai:20280531T203000
DTEND;TZID=Asia/Shanghai:20280531T213000
DTSTAMP:20260423T024040
CREATED:20250828T103540Z
LAST-MODIFIED:20250828T103540Z
UID:10025062-1843417800-1843421400@www.dancesoul.com.tw
SUMMARY:Street Jazz-Kyle
DESCRIPTION:
URL:https://www.dancesoul.com.tw/schedule/street-jazz-kyle-4/2028-05-31/
CATEGORIES:STREET JAZZ,常態課_一般,課程
END:VEVENT
BEGIN:VEVENT
DTSTART;TZID=Asia/Shanghai:20280607T192500
DTEND;TZID=Asia/Shanghai:20280607T202500
DTSTAMP:20260423T024040
CREATED:20250828T102504Z
LAST-MODIFIED:20250828T102504Z
UID:10024802-1844018700-1844022300@www.dancesoul.com.tw
SUMMARY:Street Jazz-Larry
DESCRIPTION:
URL:https://www.dancesoul.com.tw/schedule/street-jazz-larry-30/2028-06-07/
CATEGORIES:STREET JAZZ,常態課_一般,課程
END:VEVENT
BEGIN:VEVENT
DTSTART;TZID=Asia/Shanghai:20280607T203000
DTEND;TZID=Asia/Shanghai:20280607T213000
DTSTAMP:20260423T024040
CREATED:20250828T103540Z
LAST-MODIFIED:20250828T103540Z
UID:10025063-1844022600-1844026200@www.dancesoul.com.tw
SUMMARY:Street Jazz-Kyle
DESCRIPTION:
URL:https://www.dancesoul.com.tw/schedule/street-jazz-kyle-4/2028-06-07/
CATEGORIES:STREET JAZZ,常態課_一般,課程
END:VEVENT
BEGIN:VEVENT
DTSTART;TZID=Asia/Shanghai:20280614T192500
DTEND;TZID=Asia/Shanghai:20280614T202500
DTSTAMP:20260423T024040
CREATED:20250828T102504Z
LAST-MODIFIED:20250828T102504Z
UID:10024803-1844623500-1844627100@www.dancesoul.com.tw
SUMMARY:Street Jazz-Larry
DESCRIPTION:
URL:https://www.dancesoul.com.tw/schedule/street-jazz-larry-30/2028-06-14/
CATEGORIES:STREET JAZZ,常態課_一般,課程
END:VEVENT
BEGIN:VEVENT
DTSTART;TZID=Asia/Shanghai:20280614T203000
DTEND;TZID=Asia/Shanghai:20280614T213000
DTSTAMP:20260423T024040
CREATED:20250828T103540Z
LAST-MODIFIED:20250828T103540Z
UID:10025064-1844627400-1844631000@www.dancesoul.com.tw
SUMMARY:Street Jazz-Kyle
DESCRIPTION:
URL:https://www.dancesoul.com.tw/schedule/street-jazz-kyle-4/2028-06-14/
CATEGORIES:STREET JAZZ,常態課_一般,課程
END:VEVENT
BEGIN:VEVENT
DTSTART;TZID=Asia/Shanghai:20280621T192500
DTEND;TZID=Asia/Shanghai:20280621T202500
DTSTAMP:20260423T024040
CREATED:20250828T102504Z
LAST-MODIFIED:20250828T102504Z
UID:10024804-1845228300-1845231900@www.dancesoul.com.tw
SUMMARY:Street Jazz-Larry
DESCRIPTION:
URL:https://www.dancesoul.com.tw/schedule/street-jazz-larry-30/2028-06-21/
CATEGORIES:STREET JAZZ,常態課_一般,課程
END:VEVENT
BEGIN:VEVENT
DTSTART;TZID=Asia/Shanghai:20280621T203000
DTEND;TZID=Asia/Shanghai:20280621T213000
DTSTAMP:20260423T024040
CREATED:20250828T103540Z
LAST-MODIFIED:20250828T103540Z
UID:10025065-1845232200-1845235800@www.dancesoul.com.tw
SUMMARY:Street Jazz-Kyle
DESCRIPTION:
URL:https://www.dancesoul.com.tw/schedule/street-jazz-kyle-4/2028-06-21/
CATEGORIES:STREET JAZZ,常態課_一般,課程
END:VEVENT
BEGIN:VEVENT
DTSTART;TZID=Asia/Shanghai:20280628T192500
DTEND;TZID=Asia/Shanghai:20280628T202500
DTSTAMP:20260423T024040
CREATED:20250828T102504Z
LAST-MODIFIED:20250828T102504Z
UID:10024805-1845833100-1845836700@www.dancesoul.com.tw
SUMMARY:Street Jazz-Larry
DESCRIPTION:
URL:https://www.dancesoul.com.tw/schedule/street-jazz-larry-30/2028-06-28/
CATEGORIES:STREET JAZZ,常態課_一般,課程
END:VEVENT
BEGIN:VEVENT
DTSTART;TZID=Asia/Shanghai:20280628T203000
DTEND;TZID=Asia/Shanghai:20280628T213000
DTSTAMP:20260423T024040
CREATED:20250828T103540Z
LAST-MODIFIED:20250828T103540Z
UID:10025066-1845837000-1845840600@www.dancesoul.com.tw
SUMMARY:Street Jazz-Kyle
DESCRIPTION:
URL:https://www.dancesoul.com.tw/schedule/street-jazz-kyle-4/2028-06-28/
CATEGORIES:STREET JAZZ,常態課_一般,課程
END:VEVENT
BEGIN:VEVENT
DTSTART;TZID=Asia/Shanghai:20280705T192500
DTEND;TZID=Asia/Shanghai:20280705T202500
DTSTAMP:20260423T024040
CREATED:20250828T102504Z
LAST-MODIFIED:20250828T102504Z
UID:10024806-1846437900-1846441500@www.dancesoul.com.tw
SUMMARY:Street Jazz-Larry
DESCRIPTION:
URL:https://www.dancesoul.com.tw/schedule/street-jazz-larry-30/2028-07-05/
CATEGORIES:STREET JAZZ,常態課_一般,課程
END:VEVENT
BEGIN:VEVENT
DTSTART;TZID=Asia/Shanghai:20280705T203000
DTEND;TZID=Asia/Shanghai:20280705T213000
DTSTAMP:20260423T024040
CREATED:20250828T103540Z
LAST-MODIFIED:20250828T103540Z
UID:10025067-1846441800-1846445400@www.dancesoul.com.tw
SUMMARY:Street Jazz-Kyle
DESCRIPTION:
URL:https://www.dancesoul.com.tw/schedule/street-jazz-kyle-4/2028-07-05/
CATEGORIES:STREET JAZZ,常態課_一般,課程
END:VEVENT
END:VCALENDAR