BEGIN:VCALENDAR
VERSION:2.0
PRODID:-//DANCE SOUL 舞魂街舞學校 - ECPv6.15.18//NONSGML v1.0//EN
CALSCALE:GREGORIAN
METHOD:PUBLISH
X-ORIGINAL-URL:https://www.dancesoul.com.tw
X-WR-CALDESC:Events for DANCE SOUL 舞魂街舞學校
REFRESH-INTERVAL;VALUE=DURATION:PT1H
X-Robots-Tag:noindex
X-PUBLISHED-TTL:PT1H
BEGIN:VTIMEZONE
TZID:Asia/Shanghai
BEGIN:STANDARD
TZOFFSETFROM:+0800
TZOFFSETTO:+0800
TZNAME:CST
DTSTART:20270101T000000
END:STANDARD
END:VTIMEZONE
BEGIN:VEVENT
DTSTART;TZID=Asia/Shanghai:20280816T192500
DTEND;TZID=Asia/Shanghai:20280816T202500
DTSTAMP:20260423T060424
CREATED:20250828T102504Z
LAST-MODIFIED:20250828T102504Z
UID:10024812-1850066700-1850070300@www.dancesoul.com.tw
SUMMARY:Street Jazz-Larry
DESCRIPTION:
URL:https://www.dancesoul.com.tw/schedule/street-jazz-larry-30/2028-08-16/
CATEGORIES:STREET JAZZ,常態課_一般,課程
END:VEVENT
BEGIN:VEVENT
DTSTART;TZID=Asia/Shanghai:20280816T203000
DTEND;TZID=Asia/Shanghai:20280816T213000
DTSTAMP:20260423T060424
CREATED:20250828T103540Z
LAST-MODIFIED:20250828T103540Z
UID:10025073-1850070600-1850074200@www.dancesoul.com.tw
SUMMARY:Street Jazz-Kyle
DESCRIPTION:
URL:https://www.dancesoul.com.tw/schedule/street-jazz-kyle-4/2028-08-16/
CATEGORIES:STREET JAZZ,常態課_一般,課程
END:VEVENT
BEGIN:VEVENT
DTSTART;TZID=Asia/Shanghai:20280823T192500
DTEND;TZID=Asia/Shanghai:20280823T202500
DTSTAMP:20260423T060424
CREATED:20250828T102504Z
LAST-MODIFIED:20250828T102504Z
UID:10024813-1850671500-1850675100@www.dancesoul.com.tw
SUMMARY:Street Jazz-Larry
DESCRIPTION:
URL:https://www.dancesoul.com.tw/schedule/street-jazz-larry-30/2028-08-23/
CATEGORIES:STREET JAZZ,常態課_一般,課程
END:VEVENT
BEGIN:VEVENT
DTSTART;TZID=Asia/Shanghai:20280823T203000
DTEND;TZID=Asia/Shanghai:20280823T213000
DTSTAMP:20260423T060424
CREATED:20250828T103540Z
LAST-MODIFIED:20250828T103540Z
UID:10025074-1850675400-1850679000@www.dancesoul.com.tw
SUMMARY:Street Jazz-Kyle
DESCRIPTION:
URL:https://www.dancesoul.com.tw/schedule/street-jazz-kyle-4/2028-08-23/
CATEGORIES:STREET JAZZ,常態課_一般,課程
END:VEVENT
BEGIN:VEVENT
DTSTART;TZID=Asia/Shanghai:20280830T192500
DTEND;TZID=Asia/Shanghai:20280830T202500
DTSTAMP:20260423T060424
CREATED:20250828T102504Z
LAST-MODIFIED:20250828T102504Z
UID:10024814-1851276300-1851279900@www.dancesoul.com.tw
SUMMARY:Street Jazz-Larry
DESCRIPTION:
URL:https://www.dancesoul.com.tw/schedule/street-jazz-larry-30/2028-08-30/
CATEGORIES:STREET JAZZ,常態課_一般,課程
END:VEVENT
BEGIN:VEVENT
DTSTART;TZID=Asia/Shanghai:20280830T203000
DTEND;TZID=Asia/Shanghai:20280830T213000
DTSTAMP:20260423T060424
CREATED:20250828T103540Z
LAST-MODIFIED:20250828T103540Z
UID:10025075-1851280200-1851283800@www.dancesoul.com.tw
SUMMARY:Street Jazz-Kyle
DESCRIPTION:
URL:https://www.dancesoul.com.tw/schedule/street-jazz-kyle-4/2028-08-30/
CATEGORIES:STREET JAZZ,常態課_一般,課程
END:VEVENT
BEGIN:VEVENT
DTSTART;TZID=Asia/Shanghai:20280906T192500
DTEND;TZID=Asia/Shanghai:20280906T202500
DTSTAMP:20260423T060424
CREATED:20250828T102504Z
LAST-MODIFIED:20250828T102504Z
UID:10024815-1851881100-1851884700@www.dancesoul.com.tw
SUMMARY:Street Jazz-Larry
DESCRIPTION:
URL:https://www.dancesoul.com.tw/schedule/street-jazz-larry-30/2028-09-06/
CATEGORIES:STREET JAZZ,常態課_一般,課程
END:VEVENT
BEGIN:VEVENT
DTSTART;TZID=Asia/Shanghai:20280906T203000
DTEND;TZID=Asia/Shanghai:20280906T213000
DTSTAMP:20260423T060424
CREATED:20250828T103540Z
LAST-MODIFIED:20250828T103540Z
UID:10025076-1851885000-1851888600@www.dancesoul.com.tw
SUMMARY:Street Jazz-Kyle
DESCRIPTION:
URL:https://www.dancesoul.com.tw/schedule/street-jazz-kyle-4/2028-09-06/
CATEGORIES:STREET JAZZ,常態課_一般,課程
END:VEVENT
BEGIN:VEVENT
DTSTART;TZID=Asia/Shanghai:20280913T192500
DTEND;TZID=Asia/Shanghai:20280913T202500
DTSTAMP:20260423T060424
CREATED:20250828T102504Z
LAST-MODIFIED:20250828T102504Z
UID:10024816-1852485900-1852489500@www.dancesoul.com.tw
SUMMARY:Street Jazz-Larry
DESCRIPTION:
URL:https://www.dancesoul.com.tw/schedule/street-jazz-larry-30/2028-09-13/
CATEGORIES:STREET JAZZ,常態課_一般,課程
END:VEVENT
BEGIN:VEVENT
DTSTART;TZID=Asia/Shanghai:20280913T203000
DTEND;TZID=Asia/Shanghai:20280913T213000
DTSTAMP:20260423T060424
CREATED:20250828T103540Z
LAST-MODIFIED:20250828T103540Z
UID:10025077-1852489800-1852493400@www.dancesoul.com.tw
SUMMARY:Street Jazz-Kyle
DESCRIPTION:
URL:https://www.dancesoul.com.tw/schedule/street-jazz-kyle-4/2028-09-13/
CATEGORIES:STREET JAZZ,常態課_一般,課程
END:VEVENT
BEGIN:VEVENT
DTSTART;TZID=Asia/Shanghai:20280920T192500
DTEND;TZID=Asia/Shanghai:20280920T202500
DTSTAMP:20260423T060424
CREATED:20250828T102504Z
LAST-MODIFIED:20250828T102504Z
UID:10024817-1853090700-1853094300@www.dancesoul.com.tw
SUMMARY:Street Jazz-Larry
DESCRIPTION:
URL:https://www.dancesoul.com.tw/schedule/street-jazz-larry-30/2028-09-20/
CATEGORIES:STREET JAZZ,常態課_一般,課程
END:VEVENT
BEGIN:VEVENT
DTSTART;TZID=Asia/Shanghai:20280920T203000
DTEND;TZID=Asia/Shanghai:20280920T213000
DTSTAMP:20260423T060424
CREATED:20250828T103540Z
LAST-MODIFIED:20250828T103540Z
UID:10025078-1853094600-1853098200@www.dancesoul.com.tw
SUMMARY:Street Jazz-Kyle
DESCRIPTION:
URL:https://www.dancesoul.com.tw/schedule/street-jazz-kyle-4/2028-09-20/
CATEGORIES:STREET JAZZ,常態課_一般,課程
END:VEVENT
BEGIN:VEVENT
DTSTART;TZID=Asia/Shanghai:20280927T192500
DTEND;TZID=Asia/Shanghai:20280927T202500
DTSTAMP:20260423T060425
CREATED:20250828T102504Z
LAST-MODIFIED:20250828T102504Z
UID:10024818-1853695500-1853699100@www.dancesoul.com.tw
SUMMARY:Street Jazz-Larry
DESCRIPTION:
URL:https://www.dancesoul.com.tw/schedule/street-jazz-larry-30/2028-09-27/
CATEGORIES:STREET JAZZ,常態課_一般,課程
END:VEVENT
BEGIN:VEVENT
DTSTART;TZID=Asia/Shanghai:20280927T203000
DTEND;TZID=Asia/Shanghai:20280927T213000
DTSTAMP:20260423T060425
CREATED:20250828T103540Z
LAST-MODIFIED:20250828T103540Z
UID:10025079-1853699400-1853703000@www.dancesoul.com.tw
SUMMARY:Street Jazz-Kyle
DESCRIPTION:
URL:https://www.dancesoul.com.tw/schedule/street-jazz-kyle-4/2028-09-27/
CATEGORIES:STREET JAZZ,常態課_一般,課程
END:VEVENT
BEGIN:VEVENT
DTSTART;TZID=Asia/Shanghai:20281004T192500
DTEND;TZID=Asia/Shanghai:20281004T202500
DTSTAMP:20260423T060425
CREATED:20250828T102504Z
LAST-MODIFIED:20250828T102504Z
UID:10024819-1854300300-1854303900@www.dancesoul.com.tw
SUMMARY:Street Jazz-Larry
DESCRIPTION:
URL:https://www.dancesoul.com.tw/schedule/street-jazz-larry-30/2028-10-04/
CATEGORIES:STREET JAZZ,常態課_一般,課程
END:VEVENT
BEGIN:VEVENT
DTSTART;TZID=Asia/Shanghai:20281004T203000
DTEND;TZID=Asia/Shanghai:20281004T213000
DTSTAMP:20260423T060425
CREATED:20250828T103540Z
LAST-MODIFIED:20250828T103540Z
UID:10025080-1854304200-1854307800@www.dancesoul.com.tw
SUMMARY:Street Jazz-Kyle
DESCRIPTION:
URL:https://www.dancesoul.com.tw/schedule/street-jazz-kyle-4/2028-10-04/
CATEGORIES:STREET JAZZ,常態課_一般,課程
END:VEVENT
BEGIN:VEVENT
DTSTART;TZID=Asia/Shanghai:20281011T192500
DTEND;TZID=Asia/Shanghai:20281011T202500
DTSTAMP:20260423T060425
CREATED:20250828T102504Z
LAST-MODIFIED:20250828T102504Z
UID:10024820-1854905100-1854908700@www.dancesoul.com.tw
SUMMARY:Street Jazz-Larry
DESCRIPTION:
URL:https://www.dancesoul.com.tw/schedule/street-jazz-larry-30/2028-10-11/
CATEGORIES:STREET JAZZ,常態課_一般,課程
END:VEVENT
BEGIN:VEVENT
DTSTART;TZID=Asia/Shanghai:20281011T203000
DTEND;TZID=Asia/Shanghai:20281011T213000
DTSTAMP:20260423T060425
CREATED:20250828T103540Z
LAST-MODIFIED:20250828T103540Z
UID:10025081-1854909000-1854912600@www.dancesoul.com.tw
SUMMARY:Street Jazz-Kyle
DESCRIPTION:
URL:https://www.dancesoul.com.tw/schedule/street-jazz-kyle-4/2028-10-11/
CATEGORIES:STREET JAZZ,常態課_一般,課程
END:VEVENT
BEGIN:VEVENT
DTSTART;TZID=Asia/Shanghai:20281018T192500
DTEND;TZID=Asia/Shanghai:20281018T202500
DTSTAMP:20260423T060425
CREATED:20250828T102504Z
LAST-MODIFIED:20250828T102504Z
UID:10024821-1855509900-1855513500@www.dancesoul.com.tw
SUMMARY:Street Jazz-Larry
DESCRIPTION:
URL:https://www.dancesoul.com.tw/schedule/street-jazz-larry-30/2028-10-18/
CATEGORIES:STREET JAZZ,常態課_一般,課程
END:VEVENT
BEGIN:VEVENT
DTSTART;TZID=Asia/Shanghai:20281018T203000
DTEND;TZID=Asia/Shanghai:20281018T213000
DTSTAMP:20260423T060425
CREATED:20250828T103540Z
LAST-MODIFIED:20250828T103540Z
UID:10025082-1855513800-1855517400@www.dancesoul.com.tw
SUMMARY:Street Jazz-Kyle
DESCRIPTION:
URL:https://www.dancesoul.com.tw/schedule/street-jazz-kyle-4/2028-10-18/
CATEGORIES:STREET JAZZ,常態課_一般,課程
END:VEVENT
BEGIN:VEVENT
DTSTART;TZID=Asia/Shanghai:20281025T192500
DTEND;TZID=Asia/Shanghai:20281025T202500
DTSTAMP:20260423T060425
CREATED:20250828T102504Z
LAST-MODIFIED:20250828T102504Z
UID:10024822-1856114700-1856118300@www.dancesoul.com.tw
SUMMARY:Street Jazz-Larry
DESCRIPTION:
URL:https://www.dancesoul.com.tw/schedule/street-jazz-larry-30/2028-10-25/
CATEGORIES:STREET JAZZ,常態課_一般,課程
END:VEVENT
BEGIN:VEVENT
DTSTART;TZID=Asia/Shanghai:20281025T203000
DTEND;TZID=Asia/Shanghai:20281025T213000
DTSTAMP:20260423T060425
CREATED:20250828T103540Z
LAST-MODIFIED:20250828T103540Z
UID:10025083-1856118600-1856122200@www.dancesoul.com.tw
SUMMARY:Street Jazz-Kyle
DESCRIPTION:
URL:https://www.dancesoul.com.tw/schedule/street-jazz-kyle-4/2028-10-25/
CATEGORIES:STREET JAZZ,常態課_一般,課程
END:VEVENT
BEGIN:VEVENT
DTSTART;TZID=Asia/Shanghai:20281101T192500
DTEND;TZID=Asia/Shanghai:20281101T202500
DTSTAMP:20260423T060425
CREATED:20250828T102504Z
LAST-MODIFIED:20250828T102504Z
UID:10024823-1856719500-1856723100@www.dancesoul.com.tw
SUMMARY:Street Jazz-Larry
DESCRIPTION:
URL:https://www.dancesoul.com.tw/schedule/street-jazz-larry-30/2028-11-01/
CATEGORIES:STREET JAZZ,常態課_一般,課程
END:VEVENT
BEGIN:VEVENT
DTSTART;TZID=Asia/Shanghai:20281101T203000
DTEND;TZID=Asia/Shanghai:20281101T213000
DTSTAMP:20260423T060425
CREATED:20250828T103540Z
LAST-MODIFIED:20250828T103540Z
UID:10025084-1856723400-1856727000@www.dancesoul.com.tw
SUMMARY:Street Jazz-Kyle
DESCRIPTION:
URL:https://www.dancesoul.com.tw/schedule/street-jazz-kyle-4/2028-11-01/
CATEGORIES:STREET JAZZ,常態課_一般,課程
END:VEVENT
BEGIN:VEVENT
DTSTART;TZID=Asia/Shanghai:20281108T192500
DTEND;TZID=Asia/Shanghai:20281108T202500
DTSTAMP:20260423T060425
CREATED:20250828T102504Z
LAST-MODIFIED:20250828T102504Z
UID:10024824-1857324300-1857327900@www.dancesoul.com.tw
SUMMARY:Street Jazz-Larry
DESCRIPTION:
URL:https://www.dancesoul.com.tw/schedule/street-jazz-larry-30/2028-11-08/
CATEGORIES:STREET JAZZ,常態課_一般,課程
END:VEVENT
BEGIN:VEVENT
DTSTART;TZID=Asia/Shanghai:20281108T203000
DTEND;TZID=Asia/Shanghai:20281108T213000
DTSTAMP:20260423T060425
CREATED:20250828T103540Z
LAST-MODIFIED:20250828T103540Z
UID:10025085-1857328200-1857331800@www.dancesoul.com.tw
SUMMARY:Street Jazz-Kyle
DESCRIPTION:
URL:https://www.dancesoul.com.tw/schedule/street-jazz-kyle-4/2028-11-08/
CATEGORIES:STREET JAZZ,常態課_一般,課程
END:VEVENT
BEGIN:VEVENT
DTSTART;TZID=Asia/Shanghai:20281115T192500
DTEND;TZID=Asia/Shanghai:20281115T202500
DTSTAMP:20260423T060425
CREATED:20250828T102504Z
LAST-MODIFIED:20250828T102504Z
UID:10024825-1857929100-1857932700@www.dancesoul.com.tw
SUMMARY:Street Jazz-Larry
DESCRIPTION:
URL:https://www.dancesoul.com.tw/schedule/street-jazz-larry-30/2028-11-15/
CATEGORIES:STREET JAZZ,常態課_一般,課程
END:VEVENT
BEGIN:VEVENT
DTSTART;TZID=Asia/Shanghai:20281115T203000
DTEND;TZID=Asia/Shanghai:20281115T213000
DTSTAMP:20260423T060425
CREATED:20250828T103540Z
LAST-MODIFIED:20250828T103540Z
UID:10025086-1857933000-1857936600@www.dancesoul.com.tw
SUMMARY:Street Jazz-Kyle
DESCRIPTION:
URL:https://www.dancesoul.com.tw/schedule/street-jazz-kyle-4/2028-11-15/
CATEGORIES:STREET JAZZ,常態課_一般,課程
END:VEVENT
BEGIN:VEVENT
DTSTART;TZID=Asia/Shanghai:20281122T192500
DTEND;TZID=Asia/Shanghai:20281122T202500
DTSTAMP:20260423T060425
CREATED:20250828T102504Z
LAST-MODIFIED:20250828T102504Z
UID:10024826-1858533900-1858537500@www.dancesoul.com.tw
SUMMARY:Street Jazz-Larry
DESCRIPTION:
URL:https://www.dancesoul.com.tw/schedule/street-jazz-larry-30/2028-11-22/
CATEGORIES:STREET JAZZ,常態課_一般,課程
END:VEVENT
BEGIN:VEVENT
DTSTART;TZID=Asia/Shanghai:20281122T203000
DTEND;TZID=Asia/Shanghai:20281122T213000
DTSTAMP:20260423T060425
CREATED:20250828T103540Z
LAST-MODIFIED:20250828T103540Z
UID:10025087-1858537800-1858541400@www.dancesoul.com.tw
SUMMARY:Street Jazz-Kyle
DESCRIPTION:
URL:https://www.dancesoul.com.tw/schedule/street-jazz-kyle-4/2028-11-22/
CATEGORIES:STREET JAZZ,常態課_一般,課程
END:VEVENT
END:VCALENDAR