BEGIN:VCALENDAR
VERSION:2.0
PRODID:-//DANCE SOUL 舞魂街舞學校 - ECPv6.15.18//NONSGML v1.0//EN
CALSCALE:GREGORIAN
METHOD:PUBLISH
X-ORIGINAL-URL:https://www.dancesoul.com.tw
X-WR-CALDESC:Events for DANCE SOUL 舞魂街舞學校
REFRESH-INTERVAL;VALUE=DURATION:PT1H
X-Robots-Tag:noindex
X-PUBLISHED-TTL:PT1H
BEGIN:VTIMEZONE
TZID:Asia/Shanghai
BEGIN:STANDARD
TZOFFSETFROM:+0800
TZOFFSETTO:+0800
TZNAME:CST
DTSTART:20280101T000000
END:STANDARD
END:VTIMEZONE
BEGIN:VEVENT
DTSTART;TZID=Asia/Shanghai:20290103T192500
DTEND;TZID=Asia/Shanghai:20290103T202500
DTSTAMP:20260426T100522
CREATED:20250828T102504Z
LAST-MODIFIED:20250828T102504Z
UID:10024832-1862162700-1862166300@www.dancesoul.com.tw
SUMMARY:Street Jazz-Larry
DESCRIPTION:
URL:https://www.dancesoul.com.tw/schedule/street-jazz-larry-30/2029-01-03/
CATEGORIES:STREET JAZZ,常態課_一般,課程
END:VEVENT
BEGIN:VEVENT
DTSTART;TZID=Asia/Shanghai:20290103T203000
DTEND;TZID=Asia/Shanghai:20290103T213000
DTSTAMP:20260426T100522
CREATED:20250828T103540Z
LAST-MODIFIED:20250828T103540Z
UID:10025093-1862166600-1862170200@www.dancesoul.com.tw
SUMMARY:Street Jazz-Kyle
DESCRIPTION:
URL:https://www.dancesoul.com.tw/schedule/street-jazz-kyle-4/2029-01-03/
CATEGORIES:STREET JAZZ,常態課_一般,課程
END:VEVENT
BEGIN:VEVENT
DTSTART;TZID=Asia/Shanghai:20290110T192500
DTEND;TZID=Asia/Shanghai:20290110T202500
DTSTAMP:20260426T100522
CREATED:20250828T102504Z
LAST-MODIFIED:20250828T102504Z
UID:10024833-1862767500-1862771100@www.dancesoul.com.tw
SUMMARY:Street Jazz-Larry
DESCRIPTION:
URL:https://www.dancesoul.com.tw/schedule/street-jazz-larry-30/2029-01-10/
CATEGORIES:STREET JAZZ,常態課_一般,課程
END:VEVENT
BEGIN:VEVENT
DTSTART;TZID=Asia/Shanghai:20290110T203000
DTEND;TZID=Asia/Shanghai:20290110T213000
DTSTAMP:20260426T100522
CREATED:20250828T103540Z
LAST-MODIFIED:20250828T103540Z
UID:10025094-1862771400-1862775000@www.dancesoul.com.tw
SUMMARY:Street Jazz-Kyle
DESCRIPTION:
URL:https://www.dancesoul.com.tw/schedule/street-jazz-kyle-4/2029-01-10/
CATEGORIES:STREET JAZZ,常態課_一般,課程
END:VEVENT
BEGIN:VEVENT
DTSTART;TZID=Asia/Shanghai:20290117T192500
DTEND;TZID=Asia/Shanghai:20290117T202500
DTSTAMP:20260426T100522
CREATED:20250828T102504Z
LAST-MODIFIED:20250828T102504Z
UID:10024834-1863372300-1863375900@www.dancesoul.com.tw
SUMMARY:Street Jazz-Larry
DESCRIPTION:
URL:https://www.dancesoul.com.tw/schedule/street-jazz-larry-30/2029-01-17/
CATEGORIES:STREET JAZZ,常態課_一般,課程
END:VEVENT
BEGIN:VEVENT
DTSTART;TZID=Asia/Shanghai:20290117T203000
DTEND;TZID=Asia/Shanghai:20290117T213000
DTSTAMP:20260426T100522
CREATED:20250828T103540Z
LAST-MODIFIED:20250828T103540Z
UID:10025095-1863376200-1863379800@www.dancesoul.com.tw
SUMMARY:Street Jazz-Kyle
DESCRIPTION:
URL:https://www.dancesoul.com.tw/schedule/street-jazz-kyle-4/2029-01-17/
CATEGORIES:STREET JAZZ,常態課_一般,課程
END:VEVENT
BEGIN:VEVENT
DTSTART;TZID=Asia/Shanghai:20290124T192500
DTEND;TZID=Asia/Shanghai:20290124T202500
DTSTAMP:20260426T100522
CREATED:20250828T102504Z
LAST-MODIFIED:20250828T102504Z
UID:10024835-1863977100-1863980700@www.dancesoul.com.tw
SUMMARY:Street Jazz-Larry
DESCRIPTION:
URL:https://www.dancesoul.com.tw/schedule/street-jazz-larry-30/2029-01-24/
CATEGORIES:STREET JAZZ,常態課_一般,課程
END:VEVENT
BEGIN:VEVENT
DTSTART;TZID=Asia/Shanghai:20290124T203000
DTEND;TZID=Asia/Shanghai:20290124T213000
DTSTAMP:20260426T100522
CREATED:20250828T103540Z
LAST-MODIFIED:20250828T103540Z
UID:10025096-1863981000-1863984600@www.dancesoul.com.tw
SUMMARY:Street Jazz-Kyle
DESCRIPTION:
URL:https://www.dancesoul.com.tw/schedule/street-jazz-kyle-4/2029-01-24/
CATEGORIES:STREET JAZZ,常態課_一般,課程
END:VEVENT
BEGIN:VEVENT
DTSTART;TZID=Asia/Shanghai:20290131T192500
DTEND;TZID=Asia/Shanghai:20290131T202500
DTSTAMP:20260426T100522
CREATED:20250828T102504Z
LAST-MODIFIED:20250828T102504Z
UID:10024836-1864581900-1864585500@www.dancesoul.com.tw
SUMMARY:Street Jazz-Larry
DESCRIPTION:
URL:https://www.dancesoul.com.tw/schedule/street-jazz-larry-30/2029-01-31/
CATEGORIES:STREET JAZZ,常態課_一般,課程
END:VEVENT
BEGIN:VEVENT
DTSTART;TZID=Asia/Shanghai:20290131T203000
DTEND;TZID=Asia/Shanghai:20290131T213000
DTSTAMP:20260426T100522
CREATED:20250828T103540Z
LAST-MODIFIED:20250828T103540Z
UID:10025097-1864585800-1864589400@www.dancesoul.com.tw
SUMMARY:Street Jazz-Kyle
DESCRIPTION:
URL:https://www.dancesoul.com.tw/schedule/street-jazz-kyle-4/2029-01-31/
CATEGORIES:STREET JAZZ,常態課_一般,課程
END:VEVENT
BEGIN:VEVENT
DTSTART;TZID=Asia/Shanghai:20290207T192500
DTEND;TZID=Asia/Shanghai:20290207T202500
DTSTAMP:20260426T100522
CREATED:20250828T102504Z
LAST-MODIFIED:20250828T102504Z
UID:10024837-1865186700-1865190300@www.dancesoul.com.tw
SUMMARY:Street Jazz-Larry
DESCRIPTION:
URL:https://www.dancesoul.com.tw/schedule/street-jazz-larry-30/2029-02-07/
CATEGORIES:STREET JAZZ,常態課_一般,課程
END:VEVENT
BEGIN:VEVENT
DTSTART;TZID=Asia/Shanghai:20290207T203000
DTEND;TZID=Asia/Shanghai:20290207T213000
DTSTAMP:20260426T100522
CREATED:20250828T103540Z
LAST-MODIFIED:20250828T103540Z
UID:10025098-1865190600-1865194200@www.dancesoul.com.tw
SUMMARY:Street Jazz-Kyle
DESCRIPTION:
URL:https://www.dancesoul.com.tw/schedule/street-jazz-kyle-4/2029-02-07/
CATEGORIES:STREET JAZZ,常態課_一般,課程
END:VEVENT
BEGIN:VEVENT
DTSTART;TZID=Asia/Shanghai:20290214T192500
DTEND;TZID=Asia/Shanghai:20290214T202500
DTSTAMP:20260426T100522
CREATED:20250828T102504Z
LAST-MODIFIED:20250828T102504Z
UID:10024838-1865791500-1865795100@www.dancesoul.com.tw
SUMMARY:Street Jazz-Larry
DESCRIPTION:
URL:https://www.dancesoul.com.tw/schedule/street-jazz-larry-30/2029-02-14/
CATEGORIES:STREET JAZZ,常態課_一般,課程
END:VEVENT
BEGIN:VEVENT
DTSTART;TZID=Asia/Shanghai:20290214T203000
DTEND;TZID=Asia/Shanghai:20290214T213000
DTSTAMP:20260426T100522
CREATED:20250828T103540Z
LAST-MODIFIED:20250828T103540Z
UID:10025099-1865795400-1865799000@www.dancesoul.com.tw
SUMMARY:Street Jazz-Kyle
DESCRIPTION:
URL:https://www.dancesoul.com.tw/schedule/street-jazz-kyle-4/2029-02-14/
CATEGORIES:STREET JAZZ,常態課_一般,課程
END:VEVENT
BEGIN:VEVENT
DTSTART;TZID=Asia/Shanghai:20290221T192500
DTEND;TZID=Asia/Shanghai:20290221T202500
DTSTAMP:20260426T100522
CREATED:20250828T102504Z
LAST-MODIFIED:20250828T102504Z
UID:10024839-1866396300-1866399900@www.dancesoul.com.tw
SUMMARY:Street Jazz-Larry
DESCRIPTION:
URL:https://www.dancesoul.com.tw/schedule/street-jazz-larry-30/2029-02-21/
CATEGORIES:STREET JAZZ,常態課_一般,課程
END:VEVENT
BEGIN:VEVENT
DTSTART;TZID=Asia/Shanghai:20290221T203000
DTEND;TZID=Asia/Shanghai:20290221T213000
DTSTAMP:20260426T100522
CREATED:20250828T103540Z
LAST-MODIFIED:20250828T103540Z
UID:10025100-1866400200-1866403800@www.dancesoul.com.tw
SUMMARY:Street Jazz-Kyle
DESCRIPTION:
URL:https://www.dancesoul.com.tw/schedule/street-jazz-kyle-4/2029-02-21/
CATEGORIES:STREET JAZZ,常態課_一般,課程
END:VEVENT
BEGIN:VEVENT
DTSTART;TZID=Asia/Shanghai:20290228T192500
DTEND;TZID=Asia/Shanghai:20290228T202500
DTSTAMP:20260426T100522
CREATED:20250828T102504Z
LAST-MODIFIED:20250828T102504Z
UID:10024840-1867001100-1867004700@www.dancesoul.com.tw
SUMMARY:Street Jazz-Larry
DESCRIPTION:
URL:https://www.dancesoul.com.tw/schedule/street-jazz-larry-30/2029-02-28/
CATEGORIES:STREET JAZZ,常態課_一般,課程
END:VEVENT
BEGIN:VEVENT
DTSTART;TZID=Asia/Shanghai:20290228T203000
DTEND;TZID=Asia/Shanghai:20290228T213000
DTSTAMP:20260426T100522
CREATED:20250828T103540Z
LAST-MODIFIED:20250828T103540Z
UID:10025101-1867005000-1867008600@www.dancesoul.com.tw
SUMMARY:Street Jazz-Kyle
DESCRIPTION:
URL:https://www.dancesoul.com.tw/schedule/street-jazz-kyle-4/2029-02-28/
CATEGORIES:STREET JAZZ,常態課_一般,課程
END:VEVENT
BEGIN:VEVENT
DTSTART;TZID=Asia/Shanghai:20290307T192500
DTEND;TZID=Asia/Shanghai:20290307T202500
DTSTAMP:20260426T100522
CREATED:20250828T102504Z
LAST-MODIFIED:20250828T102504Z
UID:10024841-1867605900-1867609500@www.dancesoul.com.tw
SUMMARY:Street Jazz-Larry
DESCRIPTION:
URL:https://www.dancesoul.com.tw/schedule/street-jazz-larry-30/2029-03-07/
CATEGORIES:STREET JAZZ,常態課_一般,課程
END:VEVENT
BEGIN:VEVENT
DTSTART;TZID=Asia/Shanghai:20290307T203000
DTEND;TZID=Asia/Shanghai:20290307T213000
DTSTAMP:20260426T100522
CREATED:20250828T103540Z
LAST-MODIFIED:20250828T103540Z
UID:10025102-1867609800-1867613400@www.dancesoul.com.tw
SUMMARY:Street Jazz-Kyle
DESCRIPTION:
URL:https://www.dancesoul.com.tw/schedule/street-jazz-kyle-4/2029-03-07/
CATEGORIES:STREET JAZZ,常態課_一般,課程
END:VEVENT
BEGIN:VEVENT
DTSTART;TZID=Asia/Shanghai:20290314T192500
DTEND;TZID=Asia/Shanghai:20290314T202500
DTSTAMP:20260426T100522
CREATED:20250828T102504Z
LAST-MODIFIED:20250828T102504Z
UID:10024842-1868210700-1868214300@www.dancesoul.com.tw
SUMMARY:Street Jazz-Larry
DESCRIPTION:
URL:https://www.dancesoul.com.tw/schedule/street-jazz-larry-30/2029-03-14/
CATEGORIES:STREET JAZZ,常態課_一般,課程
END:VEVENT
BEGIN:VEVENT
DTSTART;TZID=Asia/Shanghai:20290314T203000
DTEND;TZID=Asia/Shanghai:20290314T213000
DTSTAMP:20260426T100522
CREATED:20250828T103540Z
LAST-MODIFIED:20250828T103540Z
UID:10025103-1868214600-1868218200@www.dancesoul.com.tw
SUMMARY:Street Jazz-Kyle
DESCRIPTION:
URL:https://www.dancesoul.com.tw/schedule/street-jazz-kyle-4/2029-03-14/
CATEGORIES:STREET JAZZ,常態課_一般,課程
END:VEVENT
BEGIN:VEVENT
DTSTART;TZID=Asia/Shanghai:20290321T192500
DTEND;TZID=Asia/Shanghai:20290321T202500
DTSTAMP:20260426T100522
CREATED:20250828T102504Z
LAST-MODIFIED:20250828T102504Z
UID:10024843-1868815500-1868819100@www.dancesoul.com.tw
SUMMARY:Street Jazz-Larry
DESCRIPTION:
URL:https://www.dancesoul.com.tw/schedule/street-jazz-larry-30/2029-03-21/
CATEGORIES:STREET JAZZ,常態課_一般,課程
END:VEVENT
BEGIN:VEVENT
DTSTART;TZID=Asia/Shanghai:20290321T203000
DTEND;TZID=Asia/Shanghai:20290321T213000
DTSTAMP:20260426T100522
CREATED:20250828T103540Z
LAST-MODIFIED:20250828T103540Z
UID:10025104-1868819400-1868823000@www.dancesoul.com.tw
SUMMARY:Street Jazz-Kyle
DESCRIPTION:
URL:https://www.dancesoul.com.tw/schedule/street-jazz-kyle-4/2029-03-21/
CATEGORIES:STREET JAZZ,常態課_一般,課程
END:VEVENT
BEGIN:VEVENT
DTSTART;TZID=Asia/Shanghai:20290328T192500
DTEND;TZID=Asia/Shanghai:20290328T202500
DTSTAMP:20260426T100522
CREATED:20250828T102504Z
LAST-MODIFIED:20250828T102504Z
UID:10024844-1869420300-1869423900@www.dancesoul.com.tw
SUMMARY:Street Jazz-Larry
DESCRIPTION:
URL:https://www.dancesoul.com.tw/schedule/street-jazz-larry-30/2029-03-28/
CATEGORIES:STREET JAZZ,常態課_一般,課程
END:VEVENT
BEGIN:VEVENT
DTSTART;TZID=Asia/Shanghai:20290328T203000
DTEND;TZID=Asia/Shanghai:20290328T213000
DTSTAMP:20260426T100522
CREATED:20250828T103540Z
LAST-MODIFIED:20250828T103540Z
UID:10025105-1869424200-1869427800@www.dancesoul.com.tw
SUMMARY:Street Jazz-Kyle
DESCRIPTION:
URL:https://www.dancesoul.com.tw/schedule/street-jazz-kyle-4/2029-03-28/
CATEGORIES:STREET JAZZ,常態課_一般,課程
END:VEVENT
BEGIN:VEVENT
DTSTART;TZID=Asia/Shanghai:20290404T192500
DTEND;TZID=Asia/Shanghai:20290404T202500
DTSTAMP:20260426T100522
CREATED:20250828T102504Z
LAST-MODIFIED:20250828T102504Z
UID:10024845-1870025100-1870028700@www.dancesoul.com.tw
SUMMARY:Street Jazz-Larry
DESCRIPTION:
URL:https://www.dancesoul.com.tw/schedule/street-jazz-larry-30/2029-04-04/
CATEGORIES:STREET JAZZ,常態課_一般,課程
END:VEVENT
BEGIN:VEVENT
DTSTART;TZID=Asia/Shanghai:20290404T203000
DTEND;TZID=Asia/Shanghai:20290404T213000
DTSTAMP:20260426T100522
CREATED:20250828T103540Z
LAST-MODIFIED:20250828T103540Z
UID:10025106-1870029000-1870032600@www.dancesoul.com.tw
SUMMARY:Street Jazz-Kyle
DESCRIPTION:
URL:https://www.dancesoul.com.tw/schedule/street-jazz-kyle-4/2029-04-04/
CATEGORIES:STREET JAZZ,常態課_一般,課程
END:VEVENT
BEGIN:VEVENT
DTSTART;TZID=Asia/Shanghai:20290411T192500
DTEND;TZID=Asia/Shanghai:20290411T202500
DTSTAMP:20260426T100522
CREATED:20250828T102504Z
LAST-MODIFIED:20250828T102504Z
UID:10024846-1870629900-1870633500@www.dancesoul.com.tw
SUMMARY:Street Jazz-Larry
DESCRIPTION:
URL:https://www.dancesoul.com.tw/schedule/street-jazz-larry-30/2029-04-11/
CATEGORIES:STREET JAZZ,常態課_一般,課程
END:VEVENT
BEGIN:VEVENT
DTSTART;TZID=Asia/Shanghai:20290411T203000
DTEND;TZID=Asia/Shanghai:20290411T213000
DTSTAMP:20260426T100522
CREATED:20250828T103540Z
LAST-MODIFIED:20250828T103540Z
UID:10025107-1870633800-1870637400@www.dancesoul.com.tw
SUMMARY:Street Jazz-Kyle
DESCRIPTION:
URL:https://www.dancesoul.com.tw/schedule/street-jazz-kyle-4/2029-04-11/
CATEGORIES:STREET JAZZ,常態課_一般,課程
END:VEVENT
END:VCALENDAR