BEGIN:VCALENDAR
VERSION:2.0
PRODID:-//DANCE SOUL 舞魂街舞學校 - ECPv6.15.18//NONSGML v1.0//EN
CALSCALE:GREGORIAN
METHOD:PUBLISH
X-ORIGINAL-URL:https://www.dancesoul.com.tw
X-WR-CALDESC:Events for DANCE SOUL 舞魂街舞學校
REFRESH-INTERVAL;VALUE=DURATION:PT1H
X-Robots-Tag:noindex
X-PUBLISHED-TTL:PT1H
BEGIN:VTIMEZONE
TZID:Asia/Shanghai
BEGIN:STANDARD
TZOFFSETFROM:+0800
TZOFFSETTO:+0800
TZNAME:CST
DTSTART:20250101T000000
END:STANDARD
END:VTIMEZONE
BEGIN:VEVENT
DTSTART;TZID=Asia/Shanghai:20260909T192500
DTEND;TZID=Asia/Shanghai:20260909T202500
DTSTAMP:20260421T131242
CREATED:20250828T102504Z
LAST-MODIFIED:20250828T102504Z
UID:10024711-1788981900-1788985500@www.dancesoul.com.tw
SUMMARY:Street Jazz-Larry
DESCRIPTION:
URL:https://www.dancesoul.com.tw/schedule/street-jazz-larry-30/2026-09-09/
CATEGORIES:STREET JAZZ,常態課_一般,課程
END:VEVENT
BEGIN:VEVENT
DTSTART;TZID=Asia/Shanghai:20260909T203000
DTEND;TZID=Asia/Shanghai:20260909T213000
DTSTAMP:20260421T131242
CREATED:20250828T103540Z
LAST-MODIFIED:20250828T103540Z
UID:10024972-1788985800-1788989400@www.dancesoul.com.tw
SUMMARY:Street Jazz-Kyle
DESCRIPTION:
URL:https://www.dancesoul.com.tw/schedule/street-jazz-kyle-4/2026-09-09/
CATEGORIES:STREET JAZZ,常態課_一般,課程
END:VEVENT
BEGIN:VEVENT
DTSTART;TZID=Asia/Shanghai:20260916T192500
DTEND;TZID=Asia/Shanghai:20260916T202500
DTSTAMP:20260421T131242
CREATED:20250828T102504Z
LAST-MODIFIED:20250828T102504Z
UID:10024712-1789586700-1789590300@www.dancesoul.com.tw
SUMMARY:Street Jazz-Larry
DESCRIPTION:
URL:https://www.dancesoul.com.tw/schedule/street-jazz-larry-30/2026-09-16/
CATEGORIES:STREET JAZZ,常態課_一般,課程
END:VEVENT
BEGIN:VEVENT
DTSTART;TZID=Asia/Shanghai:20260916T203000
DTEND;TZID=Asia/Shanghai:20260916T213000
DTSTAMP:20260421T131242
CREATED:20250828T103540Z
LAST-MODIFIED:20250828T103540Z
UID:10024973-1789590600-1789594200@www.dancesoul.com.tw
SUMMARY:Street Jazz-Kyle
DESCRIPTION:
URL:https://www.dancesoul.com.tw/schedule/street-jazz-kyle-4/2026-09-16/
CATEGORIES:STREET JAZZ,常態課_一般,課程
END:VEVENT
BEGIN:VEVENT
DTSTART;TZID=Asia/Shanghai:20260923T192500
DTEND;TZID=Asia/Shanghai:20260923T202500
DTSTAMP:20260421T131242
CREATED:20250828T102504Z
LAST-MODIFIED:20250828T102504Z
UID:10024713-1790191500-1790195100@www.dancesoul.com.tw
SUMMARY:Street Jazz-Larry
DESCRIPTION:
URL:https://www.dancesoul.com.tw/schedule/street-jazz-larry-30/2026-09-23/
CATEGORIES:STREET JAZZ,常態課_一般,課程
END:VEVENT
BEGIN:VEVENT
DTSTART;TZID=Asia/Shanghai:20260923T203000
DTEND;TZID=Asia/Shanghai:20260923T213000
DTSTAMP:20260421T131242
CREATED:20250828T103540Z
LAST-MODIFIED:20250828T103540Z
UID:10024974-1790195400-1790199000@www.dancesoul.com.tw
SUMMARY:Street Jazz-Kyle
DESCRIPTION:
URL:https://www.dancesoul.com.tw/schedule/street-jazz-kyle-4/2026-09-23/
CATEGORIES:STREET JAZZ,常態課_一般,課程
END:VEVENT
BEGIN:VEVENT
DTSTART;TZID=Asia/Shanghai:20260930T192500
DTEND;TZID=Asia/Shanghai:20260930T202500
DTSTAMP:20260421T131242
CREATED:20250828T102504Z
LAST-MODIFIED:20250828T102504Z
UID:10024714-1790796300-1790799900@www.dancesoul.com.tw
SUMMARY:Street Jazz-Larry
DESCRIPTION:
URL:https://www.dancesoul.com.tw/schedule/street-jazz-larry-30/2026-09-30/
CATEGORIES:STREET JAZZ,常態課_一般,課程
END:VEVENT
BEGIN:VEVENT
DTSTART;TZID=Asia/Shanghai:20260930T203000
DTEND;TZID=Asia/Shanghai:20260930T213000
DTSTAMP:20260421T131242
CREATED:20250828T103540Z
LAST-MODIFIED:20250828T103540Z
UID:10024975-1790800200-1790803800@www.dancesoul.com.tw
SUMMARY:Street Jazz-Kyle
DESCRIPTION:
URL:https://www.dancesoul.com.tw/schedule/street-jazz-kyle-4/2026-09-30/
CATEGORIES:STREET JAZZ,常態課_一般,課程
END:VEVENT
BEGIN:VEVENT
DTSTART;TZID=Asia/Shanghai:20261007T192500
DTEND;TZID=Asia/Shanghai:20261007T202500
DTSTAMP:20260421T131242
CREATED:20250828T102504Z
LAST-MODIFIED:20250828T102504Z
UID:10024715-1791401100-1791404700@www.dancesoul.com.tw
SUMMARY:Street Jazz-Larry
DESCRIPTION:
URL:https://www.dancesoul.com.tw/schedule/street-jazz-larry-30/2026-10-07/
CATEGORIES:STREET JAZZ,常態課_一般,課程
END:VEVENT
BEGIN:VEVENT
DTSTART;TZID=Asia/Shanghai:20261007T203000
DTEND;TZID=Asia/Shanghai:20261007T213000
DTSTAMP:20260421T131242
CREATED:20250828T103540Z
LAST-MODIFIED:20250828T103540Z
UID:10024976-1791405000-1791408600@www.dancesoul.com.tw
SUMMARY:Street Jazz-Kyle
DESCRIPTION:
URL:https://www.dancesoul.com.tw/schedule/street-jazz-kyle-4/2026-10-07/
CATEGORIES:STREET JAZZ,常態課_一般,課程
END:VEVENT
BEGIN:VEVENT
DTSTART;TZID=Asia/Shanghai:20261014T192500
DTEND;TZID=Asia/Shanghai:20261014T202500
DTSTAMP:20260421T131242
CREATED:20250828T102504Z
LAST-MODIFIED:20250828T102504Z
UID:10024716-1792005900-1792009500@www.dancesoul.com.tw
SUMMARY:Street Jazz-Larry
DESCRIPTION:
URL:https://www.dancesoul.com.tw/schedule/street-jazz-larry-30/2026-10-14/
CATEGORIES:STREET JAZZ,常態課_一般,課程
END:VEVENT
BEGIN:VEVENT
DTSTART;TZID=Asia/Shanghai:20261014T203000
DTEND;TZID=Asia/Shanghai:20261014T213000
DTSTAMP:20260421T131242
CREATED:20250828T103540Z
LAST-MODIFIED:20250828T103540Z
UID:10024977-1792009800-1792013400@www.dancesoul.com.tw
SUMMARY:Street Jazz-Kyle
DESCRIPTION:
URL:https://www.dancesoul.com.tw/schedule/street-jazz-kyle-4/2026-10-14/
CATEGORIES:STREET JAZZ,常態課_一般,課程
END:VEVENT
BEGIN:VEVENT
DTSTART;TZID=Asia/Shanghai:20261021T192500
DTEND;TZID=Asia/Shanghai:20261021T202500
DTSTAMP:20260421T131242
CREATED:20250828T102504Z
LAST-MODIFIED:20250828T102504Z
UID:10024717-1792610700-1792614300@www.dancesoul.com.tw
SUMMARY:Street Jazz-Larry
DESCRIPTION:
URL:https://www.dancesoul.com.tw/schedule/street-jazz-larry-30/2026-10-21/
CATEGORIES:STREET JAZZ,常態課_一般,課程
END:VEVENT
BEGIN:VEVENT
DTSTART;TZID=Asia/Shanghai:20261021T203000
DTEND;TZID=Asia/Shanghai:20261021T213000
DTSTAMP:20260421T131242
CREATED:20250828T103540Z
LAST-MODIFIED:20250828T103540Z
UID:10024978-1792614600-1792618200@www.dancesoul.com.tw
SUMMARY:Street Jazz-Kyle
DESCRIPTION:
URL:https://www.dancesoul.com.tw/schedule/street-jazz-kyle-4/2026-10-21/
CATEGORIES:STREET JAZZ,常態課_一般,課程
END:VEVENT
BEGIN:VEVENT
DTSTART;TZID=Asia/Shanghai:20261028T192500
DTEND;TZID=Asia/Shanghai:20261028T202500
DTSTAMP:20260421T131242
CREATED:20250828T102504Z
LAST-MODIFIED:20250828T102504Z
UID:10024718-1793215500-1793219100@www.dancesoul.com.tw
SUMMARY:Street Jazz-Larry
DESCRIPTION:
URL:https://www.dancesoul.com.tw/schedule/street-jazz-larry-30/2026-10-28/
CATEGORIES:STREET JAZZ,常態課_一般,課程
END:VEVENT
BEGIN:VEVENT
DTSTART;TZID=Asia/Shanghai:20261028T203000
DTEND;TZID=Asia/Shanghai:20261028T213000
DTSTAMP:20260421T131242
CREATED:20250828T103540Z
LAST-MODIFIED:20250828T103540Z
UID:10024979-1793219400-1793223000@www.dancesoul.com.tw
SUMMARY:Street Jazz-Kyle
DESCRIPTION:
URL:https://www.dancesoul.com.tw/schedule/street-jazz-kyle-4/2026-10-28/
CATEGORIES:STREET JAZZ,常態課_一般,課程
END:VEVENT
BEGIN:VEVENT
DTSTART;TZID=Asia/Shanghai:20261104T192500
DTEND;TZID=Asia/Shanghai:20261104T202500
DTSTAMP:20260421T131242
CREATED:20250828T102504Z
LAST-MODIFIED:20250828T102504Z
UID:10024719-1793820300-1793823900@www.dancesoul.com.tw
SUMMARY:Street Jazz-Larry
DESCRIPTION:
URL:https://www.dancesoul.com.tw/schedule/street-jazz-larry-30/2026-11-04/
CATEGORIES:STREET JAZZ,常態課_一般,課程
END:VEVENT
BEGIN:VEVENT
DTSTART;TZID=Asia/Shanghai:20261104T203000
DTEND;TZID=Asia/Shanghai:20261104T213000
DTSTAMP:20260421T131242
CREATED:20250828T103540Z
LAST-MODIFIED:20250828T103540Z
UID:10024980-1793824200-1793827800@www.dancesoul.com.tw
SUMMARY:Street Jazz-Kyle
DESCRIPTION:
URL:https://www.dancesoul.com.tw/schedule/street-jazz-kyle-4/2026-11-04/
CATEGORIES:STREET JAZZ,常態課_一般,課程
END:VEVENT
BEGIN:VEVENT
DTSTART;TZID=Asia/Shanghai:20261111T192500
DTEND;TZID=Asia/Shanghai:20261111T202500
DTSTAMP:20260421T131242
CREATED:20250828T102504Z
LAST-MODIFIED:20250828T102504Z
UID:10024720-1794425100-1794428700@www.dancesoul.com.tw
SUMMARY:Street Jazz-Larry
DESCRIPTION:
URL:https://www.dancesoul.com.tw/schedule/street-jazz-larry-30/2026-11-11/
CATEGORIES:STREET JAZZ,常態課_一般,課程
END:VEVENT
BEGIN:VEVENT
DTSTART;TZID=Asia/Shanghai:20261111T203000
DTEND;TZID=Asia/Shanghai:20261111T213000
DTSTAMP:20260421T131242
CREATED:20250828T103540Z
LAST-MODIFIED:20250828T103540Z
UID:10024981-1794429000-1794432600@www.dancesoul.com.tw
SUMMARY:Street Jazz-Kyle
DESCRIPTION:
URL:https://www.dancesoul.com.tw/schedule/street-jazz-kyle-4/2026-11-11/
CATEGORIES:STREET JAZZ,常態課_一般,課程
END:VEVENT
BEGIN:VEVENT
DTSTART;TZID=Asia/Shanghai:20261118T192500
DTEND;TZID=Asia/Shanghai:20261118T202500
DTSTAMP:20260421T131242
CREATED:20250828T102504Z
LAST-MODIFIED:20250828T102504Z
UID:10024721-1795029900-1795033500@www.dancesoul.com.tw
SUMMARY:Street Jazz-Larry
DESCRIPTION:
URL:https://www.dancesoul.com.tw/schedule/street-jazz-larry-30/2026-11-18/
CATEGORIES:STREET JAZZ,常態課_一般,課程
END:VEVENT
BEGIN:VEVENT
DTSTART;TZID=Asia/Shanghai:20261118T203000
DTEND;TZID=Asia/Shanghai:20261118T213000
DTSTAMP:20260421T131242
CREATED:20250828T103540Z
LAST-MODIFIED:20250828T103540Z
UID:10024982-1795033800-1795037400@www.dancesoul.com.tw
SUMMARY:Street Jazz-Kyle
DESCRIPTION:
URL:https://www.dancesoul.com.tw/schedule/street-jazz-kyle-4/2026-11-18/
CATEGORIES:STREET JAZZ,常態課_一般,課程
END:VEVENT
BEGIN:VEVENT
DTSTART;TZID=Asia/Shanghai:20261125T192500
DTEND;TZID=Asia/Shanghai:20261125T202500
DTSTAMP:20260421T131242
CREATED:20250828T102504Z
LAST-MODIFIED:20250828T102504Z
UID:10024722-1795634700-1795638300@www.dancesoul.com.tw
SUMMARY:Street Jazz-Larry
DESCRIPTION:
URL:https://www.dancesoul.com.tw/schedule/street-jazz-larry-30/2026-11-25/
CATEGORIES:STREET JAZZ,常態課_一般,課程
END:VEVENT
BEGIN:VEVENT
DTSTART;TZID=Asia/Shanghai:20261125T203000
DTEND;TZID=Asia/Shanghai:20261125T213000
DTSTAMP:20260421T131242
CREATED:20250828T103540Z
LAST-MODIFIED:20250828T103540Z
UID:10024983-1795638600-1795642200@www.dancesoul.com.tw
SUMMARY:Street Jazz-Kyle
DESCRIPTION:
URL:https://www.dancesoul.com.tw/schedule/street-jazz-kyle-4/2026-11-25/
CATEGORIES:STREET JAZZ,常態課_一般,課程
END:VEVENT
BEGIN:VEVENT
DTSTART;TZID=Asia/Shanghai:20261202T192500
DTEND;TZID=Asia/Shanghai:20261202T202500
DTSTAMP:20260421T131242
CREATED:20250828T102504Z
LAST-MODIFIED:20250828T102504Z
UID:10024723-1796239500-1796243100@www.dancesoul.com.tw
SUMMARY:Street Jazz-Larry
DESCRIPTION:
URL:https://www.dancesoul.com.tw/schedule/street-jazz-larry-30/2026-12-02/
CATEGORIES:STREET JAZZ,常態課_一般,課程
END:VEVENT
BEGIN:VEVENT
DTSTART;TZID=Asia/Shanghai:20261202T203000
DTEND;TZID=Asia/Shanghai:20261202T213000
DTSTAMP:20260421T131242
CREATED:20250828T103540Z
LAST-MODIFIED:20250828T103540Z
UID:10024984-1796243400-1796247000@www.dancesoul.com.tw
SUMMARY:Street Jazz-Kyle
DESCRIPTION:
URL:https://www.dancesoul.com.tw/schedule/street-jazz-kyle-4/2026-12-02/
CATEGORIES:STREET JAZZ,常態課_一般,課程
END:VEVENT
BEGIN:VEVENT
DTSTART;TZID=Asia/Shanghai:20261209T192500
DTEND;TZID=Asia/Shanghai:20261209T202500
DTSTAMP:20260421T131242
CREATED:20250828T102504Z
LAST-MODIFIED:20250828T102504Z
UID:10024724-1796844300-1796847900@www.dancesoul.com.tw
SUMMARY:Street Jazz-Larry
DESCRIPTION:
URL:https://www.dancesoul.com.tw/schedule/street-jazz-larry-30/2026-12-09/
CATEGORIES:STREET JAZZ,常態課_一般,課程
END:VEVENT
BEGIN:VEVENT
DTSTART;TZID=Asia/Shanghai:20261209T203000
DTEND;TZID=Asia/Shanghai:20261209T213000
DTSTAMP:20260421T131242
CREATED:20250828T103540Z
LAST-MODIFIED:20250828T103540Z
UID:10024985-1796848200-1796851800@www.dancesoul.com.tw
SUMMARY:Street Jazz-Kyle
DESCRIPTION:
URL:https://www.dancesoul.com.tw/schedule/street-jazz-kyle-4/2026-12-09/
CATEGORIES:STREET JAZZ,常態課_一般,課程
END:VEVENT
BEGIN:VEVENT
DTSTART;TZID=Asia/Shanghai:20261216T192500
DTEND;TZID=Asia/Shanghai:20261216T202500
DTSTAMP:20260421T131242
CREATED:20250828T102504Z
LAST-MODIFIED:20250828T102504Z
UID:10024725-1797449100-1797452700@www.dancesoul.com.tw
SUMMARY:Street Jazz-Larry
DESCRIPTION:
URL:https://www.dancesoul.com.tw/schedule/street-jazz-larry-30/2026-12-16/
CATEGORIES:STREET JAZZ,常態課_一般,課程
END:VEVENT
BEGIN:VEVENT
DTSTART;TZID=Asia/Shanghai:20261216T203000
DTEND;TZID=Asia/Shanghai:20261216T213000
DTSTAMP:20260421T131242
CREATED:20250828T103540Z
LAST-MODIFIED:20250828T103540Z
UID:10024986-1797453000-1797456600@www.dancesoul.com.tw
SUMMARY:Street Jazz-Kyle
DESCRIPTION:
URL:https://www.dancesoul.com.tw/schedule/street-jazz-kyle-4/2026-12-16/
CATEGORIES:STREET JAZZ,常態課_一般,課程
END:VEVENT
END:VCALENDAR