BEGIN:VCALENDAR
VERSION:2.0
PRODID:-//DANCE SOUL 舞魂街舞學校 - ECPv6.15.18//NONSGML v1.0//EN
CALSCALE:GREGORIAN
METHOD:PUBLISH
X-WR-CALNAME:DANCE SOUL 舞魂街舞學校
X-ORIGINAL-URL:https://www.dancesoul.com.tw
X-WR-CALDESC:Events for DANCE SOUL 舞魂街舞學校
REFRESH-INTERVAL;VALUE=DURATION:PT1H
X-Robots-Tag:noindex
X-PUBLISHED-TTL:PT1H
BEGIN:VTIMEZONE
TZID:Asia/Shanghai
BEGIN:STANDARD
TZOFFSETFROM:+0800
TZOFFSETTO:+0800
TZNAME:CST
DTSTART:20260101T000000
END:STANDARD
END:VTIMEZONE
BEGIN:VEVENT
DTSTART;TZID=Asia/Shanghai:20270825T192500
DTEND;TZID=Asia/Shanghai:20270825T202500
DTSTAMP:20260422T070936
CREATED:20250828T102504Z
LAST-MODIFIED:20250828T102504Z
UID:10024761-1819221900-1819225500@www.dancesoul.com.tw
SUMMARY:Street Jazz-Larry
DESCRIPTION:
URL:https://www.dancesoul.com.tw/schedule/street-jazz-larry-30/2027-08-25/
CATEGORIES:STREET JAZZ,常態課_一般,課程
END:VEVENT
BEGIN:VEVENT
DTSTART;TZID=Asia/Shanghai:20270825T203000
DTEND;TZID=Asia/Shanghai:20270825T213000
DTSTAMP:20260422T070936
CREATED:20250828T103540Z
LAST-MODIFIED:20250828T103540Z
UID:10025022-1819225800-1819229400@www.dancesoul.com.tw
SUMMARY:Street Jazz-Kyle
DESCRIPTION:
URL:https://www.dancesoul.com.tw/schedule/street-jazz-kyle-4/2027-08-25/
CATEGORIES:STREET JAZZ,常態課_一般,課程
END:VEVENT
BEGIN:VEVENT
DTSTART;TZID=Asia/Shanghai:20270901T192500
DTEND;TZID=Asia/Shanghai:20270901T202500
DTSTAMP:20260422T070936
CREATED:20250828T102504Z
LAST-MODIFIED:20250828T102504Z
UID:10024762-1819826700-1819830300@www.dancesoul.com.tw
SUMMARY:Street Jazz-Larry
DESCRIPTION:
URL:https://www.dancesoul.com.tw/schedule/street-jazz-larry-30/2027-09-01/
CATEGORIES:STREET JAZZ,常態課_一般,課程
END:VEVENT
BEGIN:VEVENT
DTSTART;TZID=Asia/Shanghai:20270901T203000
DTEND;TZID=Asia/Shanghai:20270901T213000
DTSTAMP:20260422T070936
CREATED:20250828T103540Z
LAST-MODIFIED:20250828T103540Z
UID:10025023-1819830600-1819834200@www.dancesoul.com.tw
SUMMARY:Street Jazz-Kyle
DESCRIPTION:
URL:https://www.dancesoul.com.tw/schedule/street-jazz-kyle-4/2027-09-01/
CATEGORIES:STREET JAZZ,常態課_一般,課程
END:VEVENT
BEGIN:VEVENT
DTSTART;TZID=Asia/Shanghai:20270908T192500
DTEND;TZID=Asia/Shanghai:20270908T202500
DTSTAMP:20260422T070936
CREATED:20250828T102504Z
LAST-MODIFIED:20250828T102504Z
UID:10024763-1820431500-1820435100@www.dancesoul.com.tw
SUMMARY:Street Jazz-Larry
DESCRIPTION:
URL:https://www.dancesoul.com.tw/schedule/street-jazz-larry-30/2027-09-08/
CATEGORIES:STREET JAZZ,常態課_一般,課程
END:VEVENT
BEGIN:VEVENT
DTSTART;TZID=Asia/Shanghai:20270908T203000
DTEND;TZID=Asia/Shanghai:20270908T213000
DTSTAMP:20260422T070937
CREATED:20250828T103540Z
LAST-MODIFIED:20250828T103540Z
UID:10025024-1820435400-1820439000@www.dancesoul.com.tw
SUMMARY:Street Jazz-Kyle
DESCRIPTION:
URL:https://www.dancesoul.com.tw/schedule/street-jazz-kyle-4/2027-09-08/
CATEGORIES:STREET JAZZ,常態課_一般,課程
END:VEVENT
BEGIN:VEVENT
DTSTART;TZID=Asia/Shanghai:20270915T192500
DTEND;TZID=Asia/Shanghai:20270915T202500
DTSTAMP:20260422T070937
CREATED:20250828T102504Z
LAST-MODIFIED:20250828T102504Z
UID:10024764-1821036300-1821039900@www.dancesoul.com.tw
SUMMARY:Street Jazz-Larry
DESCRIPTION:
URL:https://www.dancesoul.com.tw/schedule/street-jazz-larry-30/2027-09-15/
CATEGORIES:STREET JAZZ,常態課_一般,課程
END:VEVENT
BEGIN:VEVENT
DTSTART;TZID=Asia/Shanghai:20270915T203000
DTEND;TZID=Asia/Shanghai:20270915T213000
DTSTAMP:20260422T070937
CREATED:20250828T103540Z
LAST-MODIFIED:20250828T103540Z
UID:10025025-1821040200-1821043800@www.dancesoul.com.tw
SUMMARY:Street Jazz-Kyle
DESCRIPTION:
URL:https://www.dancesoul.com.tw/schedule/street-jazz-kyle-4/2027-09-15/
CATEGORIES:STREET JAZZ,常態課_一般,課程
END:VEVENT
BEGIN:VEVENT
DTSTART;TZID=Asia/Shanghai:20270922T192500
DTEND;TZID=Asia/Shanghai:20270922T202500
DTSTAMP:20260422T070937
CREATED:20250828T102504Z
LAST-MODIFIED:20250828T102504Z
UID:10024765-1821641100-1821644700@www.dancesoul.com.tw
SUMMARY:Street Jazz-Larry
DESCRIPTION:
URL:https://www.dancesoul.com.tw/schedule/street-jazz-larry-30/2027-09-22/
CATEGORIES:STREET JAZZ,常態課_一般,課程
END:VEVENT
BEGIN:VEVENT
DTSTART;TZID=Asia/Shanghai:20270922T203000
DTEND;TZID=Asia/Shanghai:20270922T213000
DTSTAMP:20260422T070937
CREATED:20250828T103540Z
LAST-MODIFIED:20250828T103540Z
UID:10025026-1821645000-1821648600@www.dancesoul.com.tw
SUMMARY:Street Jazz-Kyle
DESCRIPTION:
URL:https://www.dancesoul.com.tw/schedule/street-jazz-kyle-4/2027-09-22/
CATEGORIES:STREET JAZZ,常態課_一般,課程
END:VEVENT
BEGIN:VEVENT
DTSTART;TZID=Asia/Shanghai:20270929T192500
DTEND;TZID=Asia/Shanghai:20270929T202500
DTSTAMP:20260422T070937
CREATED:20250828T102504Z
LAST-MODIFIED:20250828T102504Z
UID:10024766-1822245900-1822249500@www.dancesoul.com.tw
SUMMARY:Street Jazz-Larry
DESCRIPTION:
URL:https://www.dancesoul.com.tw/schedule/street-jazz-larry-30/2027-09-29/
CATEGORIES:STREET JAZZ,常態課_一般,課程
END:VEVENT
BEGIN:VEVENT
DTSTART;TZID=Asia/Shanghai:20270929T203000
DTEND;TZID=Asia/Shanghai:20270929T213000
DTSTAMP:20260422T070937
CREATED:20250828T103540Z
LAST-MODIFIED:20250828T103540Z
UID:10025027-1822249800-1822253400@www.dancesoul.com.tw
SUMMARY:Street Jazz-Kyle
DESCRIPTION:
URL:https://www.dancesoul.com.tw/schedule/street-jazz-kyle-4/2027-09-29/
CATEGORIES:STREET JAZZ,常態課_一般,課程
END:VEVENT
BEGIN:VEVENT
DTSTART;TZID=Asia/Shanghai:20271006T192500
DTEND;TZID=Asia/Shanghai:20271006T202500
DTSTAMP:20260422T070937
CREATED:20250828T102504Z
LAST-MODIFIED:20250828T102504Z
UID:10024767-1822850700-1822854300@www.dancesoul.com.tw
SUMMARY:Street Jazz-Larry
DESCRIPTION:
URL:https://www.dancesoul.com.tw/schedule/street-jazz-larry-30/2027-10-06/
CATEGORIES:STREET JAZZ,常態課_一般,課程
END:VEVENT
BEGIN:VEVENT
DTSTART;TZID=Asia/Shanghai:20271006T203000
DTEND;TZID=Asia/Shanghai:20271006T213000
DTSTAMP:20260422T070937
CREATED:20250828T103540Z
LAST-MODIFIED:20250828T103540Z
UID:10025028-1822854600-1822858200@www.dancesoul.com.tw
SUMMARY:Street Jazz-Kyle
DESCRIPTION:
URL:https://www.dancesoul.com.tw/schedule/street-jazz-kyle-4/2027-10-06/
CATEGORIES:STREET JAZZ,常態課_一般,課程
END:VEVENT
BEGIN:VEVENT
DTSTART;TZID=Asia/Shanghai:20271013T192500
DTEND;TZID=Asia/Shanghai:20271013T202500
DTSTAMP:20260422T070937
CREATED:20250828T102504Z
LAST-MODIFIED:20250828T102504Z
UID:10024768-1823455500-1823459100@www.dancesoul.com.tw
SUMMARY:Street Jazz-Larry
DESCRIPTION:
URL:https://www.dancesoul.com.tw/schedule/street-jazz-larry-30/2027-10-13/
CATEGORIES:STREET JAZZ,常態課_一般,課程
END:VEVENT
BEGIN:VEVENT
DTSTART;TZID=Asia/Shanghai:20271013T203000
DTEND;TZID=Asia/Shanghai:20271013T213000
DTSTAMP:20260422T070937
CREATED:20250828T103540Z
LAST-MODIFIED:20250828T103540Z
UID:10025029-1823459400-1823463000@www.dancesoul.com.tw
SUMMARY:Street Jazz-Kyle
DESCRIPTION:
URL:https://www.dancesoul.com.tw/schedule/street-jazz-kyle-4/2027-10-13/
CATEGORIES:STREET JAZZ,常態課_一般,課程
END:VEVENT
BEGIN:VEVENT
DTSTART;TZID=Asia/Shanghai:20271020T192500
DTEND;TZID=Asia/Shanghai:20271020T202500
DTSTAMP:20260422T070937
CREATED:20250828T102504Z
LAST-MODIFIED:20250828T102504Z
UID:10024769-1824060300-1824063900@www.dancesoul.com.tw
SUMMARY:Street Jazz-Larry
DESCRIPTION:
URL:https://www.dancesoul.com.tw/schedule/street-jazz-larry-30/2027-10-20/
CATEGORIES:STREET JAZZ,常態課_一般,課程
END:VEVENT
BEGIN:VEVENT
DTSTART;TZID=Asia/Shanghai:20271020T203000
DTEND;TZID=Asia/Shanghai:20271020T213000
DTSTAMP:20260422T070937
CREATED:20250828T103540Z
LAST-MODIFIED:20250828T103540Z
UID:10025030-1824064200-1824067800@www.dancesoul.com.tw
SUMMARY:Street Jazz-Kyle
DESCRIPTION:
URL:https://www.dancesoul.com.tw/schedule/street-jazz-kyle-4/2027-10-20/
CATEGORIES:STREET JAZZ,常態課_一般,課程
END:VEVENT
BEGIN:VEVENT
DTSTART;TZID=Asia/Shanghai:20271027T192500
DTEND;TZID=Asia/Shanghai:20271027T202500
DTSTAMP:20260422T070937
CREATED:20250828T102504Z
LAST-MODIFIED:20250828T102504Z
UID:10024770-1824665100-1824668700@www.dancesoul.com.tw
SUMMARY:Street Jazz-Larry
DESCRIPTION:
URL:https://www.dancesoul.com.tw/schedule/street-jazz-larry-30/2027-10-27/
CATEGORIES:STREET JAZZ,常態課_一般,課程
END:VEVENT
BEGIN:VEVENT
DTSTART;TZID=Asia/Shanghai:20271027T203000
DTEND;TZID=Asia/Shanghai:20271027T213000
DTSTAMP:20260422T070937
CREATED:20250828T103540Z
LAST-MODIFIED:20250828T103540Z
UID:10025031-1824669000-1824672600@www.dancesoul.com.tw
SUMMARY:Street Jazz-Kyle
DESCRIPTION:
URL:https://www.dancesoul.com.tw/schedule/street-jazz-kyle-4/2027-10-27/
CATEGORIES:STREET JAZZ,常態課_一般,課程
END:VEVENT
BEGIN:VEVENT
DTSTART;TZID=Asia/Shanghai:20271103T192500
DTEND;TZID=Asia/Shanghai:20271103T202500
DTSTAMP:20260422T070937
CREATED:20250828T102504Z
LAST-MODIFIED:20250828T102504Z
UID:10024771-1825269900-1825273500@www.dancesoul.com.tw
SUMMARY:Street Jazz-Larry
DESCRIPTION:
URL:https://www.dancesoul.com.tw/schedule/street-jazz-larry-30/2027-11-03/
CATEGORIES:STREET JAZZ,常態課_一般,課程
END:VEVENT
BEGIN:VEVENT
DTSTART;TZID=Asia/Shanghai:20271103T203000
DTEND;TZID=Asia/Shanghai:20271103T213000
DTSTAMP:20260422T070937
CREATED:20250828T103540Z
LAST-MODIFIED:20250828T103540Z
UID:10025032-1825273800-1825277400@www.dancesoul.com.tw
SUMMARY:Street Jazz-Kyle
DESCRIPTION:
URL:https://www.dancesoul.com.tw/schedule/street-jazz-kyle-4/2027-11-03/
CATEGORIES:STREET JAZZ,常態課_一般,課程
END:VEVENT
BEGIN:VEVENT
DTSTART;TZID=Asia/Shanghai:20271110T192500
DTEND;TZID=Asia/Shanghai:20271110T202500
DTSTAMP:20260422T070937
CREATED:20250828T102504Z
LAST-MODIFIED:20250828T102504Z
UID:10024772-1825874700-1825878300@www.dancesoul.com.tw
SUMMARY:Street Jazz-Larry
DESCRIPTION:
URL:https://www.dancesoul.com.tw/schedule/street-jazz-larry-30/2027-11-10/
CATEGORIES:STREET JAZZ,常態課_一般,課程
END:VEVENT
BEGIN:VEVENT
DTSTART;TZID=Asia/Shanghai:20271110T203000
DTEND;TZID=Asia/Shanghai:20271110T213000
DTSTAMP:20260422T070937
CREATED:20250828T103540Z
LAST-MODIFIED:20250828T103540Z
UID:10025033-1825878600-1825882200@www.dancesoul.com.tw
SUMMARY:Street Jazz-Kyle
DESCRIPTION:
URL:https://www.dancesoul.com.tw/schedule/street-jazz-kyle-4/2027-11-10/
CATEGORIES:STREET JAZZ,常態課_一般,課程
END:VEVENT
BEGIN:VEVENT
DTSTART;TZID=Asia/Shanghai:20271117T192500
DTEND;TZID=Asia/Shanghai:20271117T202500
DTSTAMP:20260422T070937
CREATED:20250828T102504Z
LAST-MODIFIED:20250828T102504Z
UID:10024773-1826479500-1826483100@www.dancesoul.com.tw
SUMMARY:Street Jazz-Larry
DESCRIPTION:
URL:https://www.dancesoul.com.tw/schedule/street-jazz-larry-30/2027-11-17/
CATEGORIES:STREET JAZZ,常態課_一般,課程
END:VEVENT
BEGIN:VEVENT
DTSTART;TZID=Asia/Shanghai:20271117T203000
DTEND;TZID=Asia/Shanghai:20271117T213000
DTSTAMP:20260422T070937
CREATED:20250828T103540Z
LAST-MODIFIED:20250828T103540Z
UID:10025034-1826483400-1826487000@www.dancesoul.com.tw
SUMMARY:Street Jazz-Kyle
DESCRIPTION:
URL:https://www.dancesoul.com.tw/schedule/street-jazz-kyle-4/2027-11-17/
CATEGORIES:STREET JAZZ,常態課_一般,課程
END:VEVENT
BEGIN:VEVENT
DTSTART;TZID=Asia/Shanghai:20271124T192500
DTEND;TZID=Asia/Shanghai:20271124T202500
DTSTAMP:20260422T070937
CREATED:20250828T102504Z
LAST-MODIFIED:20250828T102504Z
UID:10024774-1827084300-1827087900@www.dancesoul.com.tw
SUMMARY:Street Jazz-Larry
DESCRIPTION:
URL:https://www.dancesoul.com.tw/schedule/street-jazz-larry-30/2027-11-24/
CATEGORIES:STREET JAZZ,常態課_一般,課程
END:VEVENT
BEGIN:VEVENT
DTSTART;TZID=Asia/Shanghai:20271124T203000
DTEND;TZID=Asia/Shanghai:20271124T213000
DTSTAMP:20260422T070937
CREATED:20250828T103540Z
LAST-MODIFIED:20250828T103540Z
UID:10025035-1827088200-1827091800@www.dancesoul.com.tw
SUMMARY:Street Jazz-Kyle
DESCRIPTION:
URL:https://www.dancesoul.com.tw/schedule/street-jazz-kyle-4/2027-11-24/
CATEGORIES:STREET JAZZ,常態課_一般,課程
END:VEVENT
BEGIN:VEVENT
DTSTART;TZID=Asia/Shanghai:20271201T192500
DTEND;TZID=Asia/Shanghai:20271201T202500
DTSTAMP:20260422T070937
CREATED:20250828T102504Z
LAST-MODIFIED:20250828T102504Z
UID:10024775-1827689100-1827692700@www.dancesoul.com.tw
SUMMARY:Street Jazz-Larry
DESCRIPTION:
URL:https://www.dancesoul.com.tw/schedule/street-jazz-larry-30/2027-12-01/
CATEGORIES:STREET JAZZ,常態課_一般,課程
END:VEVENT
BEGIN:VEVENT
DTSTART;TZID=Asia/Shanghai:20271201T203000
DTEND;TZID=Asia/Shanghai:20271201T213000
DTSTAMP:20260422T070937
CREATED:20250828T103540Z
LAST-MODIFIED:20250828T103540Z
UID:10025036-1827693000-1827696600@www.dancesoul.com.tw
SUMMARY:Street Jazz-Kyle
DESCRIPTION:
URL:https://www.dancesoul.com.tw/schedule/street-jazz-kyle-4/2027-12-01/
CATEGORIES:STREET JAZZ,常態課_一般,課程
END:VEVENT
END:VCALENDAR