BEGIN:VCALENDAR
VERSION:2.0
PRODID:-//DANCE SOUL 舞魂街舞學校 - ECPv6.15.18//NONSGML v1.0//EN
CALSCALE:GREGORIAN
METHOD:PUBLISH
X-WR-CALNAME:DANCE SOUL 舞魂街舞學校
X-ORIGINAL-URL:https://www.dancesoul.com.tw
X-WR-CALDESC:Events for DANCE SOUL 舞魂街舞學校
REFRESH-INTERVAL;VALUE=DURATION:PT1H
X-Robots-Tag:noindex
X-PUBLISHED-TTL:PT1H
BEGIN:VTIMEZONE
TZID:Asia/Shanghai
BEGIN:STANDARD
TZOFFSETFROM:+0800
TZOFFSETTO:+0800
TZNAME:CST
DTSTART:20240101T000000
END:STANDARD
END:VTIMEZONE
BEGIN:VEVENT
DTSTART;TZID=Asia/Shanghai:20250804T154000
DTEND;TZID=Asia/Shanghai:20250804T164000
DTSTAMP:20260422T100431
CREATED:20250623T105357Z
LAST-MODIFIED:20250725T073854Z
UID:10022047-1754322000-1754325600@www.dancesoul.com.tw
SUMMARY:Street Jazz-羊羊
DESCRIPTION:
URL:https://www.dancesoul.com.tw/schedule/street-jazz-%e7%be%8a%e7%be%8a/2025-08-04/
CATEGORIES:STREET JAZZ
END:VEVENT
BEGIN:VEVENT
DTSTART;TZID=Asia/Shanghai:20250805T143000
DTEND;TZID=Asia/Shanghai:20250805T153000
DTSTAMP:20260422T100431
CREATED:20250623T120518Z
LAST-MODIFIED:20250725T074800Z
UID:10022055-1754404200-1754407800@www.dancesoul.com.tw
SUMMARY:Street Jazz-Cen妹
DESCRIPTION:
URL:https://www.dancesoul.com.tw/schedule/street-jazz-cen%e5%a6%b9/2025-08-05/
CATEGORIES:STREET JAZZ
END:VEVENT
BEGIN:VEVENT
DTSTART;TZID=Asia/Shanghai:20250805T192500
DTEND;TZID=Asia/Shanghai:20250805T202500
DTSTAMP:20260422T100431
CREATED:20250623T121421Z
LAST-MODIFIED:20250725T075312Z
UID:10022071-1754421900-1754425500@www.dancesoul.com.tw
SUMMARY:Street Jazz-Denis
DESCRIPTION:
URL:https://www.dancesoul.com.tw/schedule/street-jazz-denis-57/2025-08-05/
CATEGORIES:STREET JAZZ
END:VEVENT
BEGIN:VEVENT
DTSTART;TZID=Asia/Shanghai:20250806T192500
DTEND;TZID=Asia/Shanghai:20250806T202500
DTSTAMP:20260422T100431
CREATED:20250417T094436Z
LAST-MODIFIED:20250725T075734Z
UID:10022093-1754508300-1754511900@www.dancesoul.com.tw
SUMMARY:Street Jazz-Larry
DESCRIPTION:
URL:https://www.dancesoul.com.tw/schedule/street-jazz-larry-28/2025-08-06/
CATEGORIES:STREET JAZZ,常態課_一般,課程
END:VEVENT
BEGIN:VEVENT
DTSTART;TZID=Asia/Shanghai:20250807T154000
DTEND;TZID=Asia/Shanghai:20250807T164000
DTSTAMP:20260422T100431
CREATED:20250623T123015Z
LAST-MODIFIED:20250725T080946Z
UID:10022117-1754581200-1754584800@www.dancesoul.com.tw
SUMMARY:Street Jazz-小翁
DESCRIPTION:
URL:https://www.dancesoul.com.tw/schedule/street-jazz-%e5%b0%8f%e7%bf%81/2025-08-07/
CATEGORIES:STREET JAZZ
END:VEVENT
BEGIN:VEVENT
DTSTART;TZID=Asia/Shanghai:20250808T154000
DTEND;TZID=Asia/Shanghai:20250808T164000
DTSTAMP:20260422T100431
CREATED:20250623T130858Z
LAST-MODIFIED:20250725T082212Z
UID:10022147-1754667600-1754671200@www.dancesoul.com.tw
SUMMARY:Street Jazz-大可
DESCRIPTION:
URL:https://www.dancesoul.com.tw/schedule/street-jazz-%e5%a4%a7%e5%8f%af/2025-08-08/
CATEGORIES:STREET JAZZ
END:VEVENT
BEGIN:VEVENT
DTSTART;TZID=Asia/Shanghai:20250808T182000
DTEND;TZID=Asia/Shanghai:20250808T192000
DTSTAMP:20260422T100431
CREATED:20250623T131317Z
LAST-MODIFIED:20250725T082638Z
UID:10022157-1754677200-1754680800@www.dancesoul.com.tw
SUMMARY:Street Jazz-Cen妹
DESCRIPTION:
URL:https://www.dancesoul.com.tw/schedule/street-jazz-cen%e5%a6%b9-2/2025-08-08/
CATEGORIES:STREET JAZZ
END:VEVENT
BEGIN:VEVENT
DTSTART;TZID=Asia/Shanghai:20250808T192500
DTEND;TZID=Asia/Shanghai:20250808T202500
DTSTAMP:20260422T100431
CREATED:20250623T131637Z
LAST-MODIFIED:20250725T082736Z
UID:10022162-1754681100-1754684700@www.dancesoul.com.tw
SUMMARY:Street Jazz-邱邱
DESCRIPTION:
URL:https://www.dancesoul.com.tw/schedule/street-jazz-%e9%82%b1%e9%82%b1-4/2025-08-08/
CATEGORIES:STREET JAZZ
END:VEVENT
END:VCALENDAR