BEGIN:VCALENDAR
VERSION:2.0
PRODID:-//DANCE SOUL 舞魂街舞學校 - ECPv6.15.18//NONSGML v1.0//EN
CALSCALE:GREGORIAN
METHOD:PUBLISH
X-ORIGINAL-URL:https://www.dancesoul.com.tw
X-WR-CALDESC:Events for DANCE SOUL 舞魂街舞學校
REFRESH-INTERVAL;VALUE=DURATION:PT1H
X-Robots-Tag:noindex
X-PUBLISHED-TTL:PT1H
BEGIN:VTIMEZONE
TZID:Asia/Shanghai
BEGIN:STANDARD
TZOFFSETFROM:+0800
TZOFFSETTO:+0800
TZNAME:CST
DTSTART:20230101T000000
END:STANDARD
END:VTIMEZONE
BEGIN:VEVENT
DTSTART;TZID=Asia/Shanghai:20240122T205000
DTEND;TZID=Asia/Shanghai:20240122T215000
DTSTAMP:20260426T065042
CREATED:20231228T092305Z
LAST-MODIFIED:20231228T092305Z
UID:10018915-1705956600-1705960200@www.dancesoul.com.tw
SUMMARY:Jazz Funk-魏小美
DESCRIPTION:
URL:https://www.dancesoul.com.tw/schedule/jazz-funk-%e9%ad%8f%e5%b0%8f%e7%be%8e-66/2024-01-22/
CATEGORIES:Jazz Funk,課程
END:VEVENT
BEGIN:VEVENT
DTSTART;TZID=Asia/Shanghai:20240123T194000
DTEND;TZID=Asia/Shanghai:20240123T204000
DTSTAMP:20260426T065042
CREATED:20231228T092643Z
LAST-MODIFIED:20231228T092643Z
UID:10018925-1706038800-1706042400@www.dancesoul.com.tw
SUMMARY:Street Jazz-Denis
DESCRIPTION:
URL:https://www.dancesoul.com.tw/schedule/street-jazz-denis-39/2024-01-23/
CATEGORIES:STREET JAZZ,常態課_一般,課程
END:VEVENT
BEGIN:VEVENT
DTSTART;TZID=Asia/Shanghai:20240123T205000
DTEND;TZID=Asia/Shanghai:20240123T215000
DTSTAMP:20260426T065042
CREATED:20231228T092904Z
LAST-MODIFIED:20231228T092904Z
UID:10018930-1706043000-1706046600@www.dancesoul.com.tw
SUMMARY:Choreography-少麟
DESCRIPTION:
URL:https://www.dancesoul.com.tw/schedule/choreography-%e5%b0%91%e9%ba%9f-2/2024-01-23/
CATEGORIES:Choreography,常態課_一般,課程
END:VEVENT
BEGIN:VEVENT
DTSTART;TZID=Asia/Shanghai:20240124T150000
DTEND;TZID=Asia/Shanghai:20240124T160000
DTSTAMP:20260426T065042
CREATED:20231228T101855Z
LAST-MODIFIED:20231228T101855Z
UID:10018985-1706108400-1706112000@www.dancesoul.com.tw
SUMMARY:Hip Hop-阿禾
DESCRIPTION:
URL:https://www.dancesoul.com.tw/schedule/hip-hop-%e9%98%bf%e7%a6%be-3/2024-01-24/
CATEGORIES:Hip Hop,常態課_一般,課程
END:VEVENT
BEGIN:VEVENT
DTSTART;TZID=Asia/Shanghai:20240124T194000
DTEND;TZID=Asia/Shanghai:20240124T204000
DTSTAMP:20260426T065042
CREATED:20231228T093258Z
LAST-MODIFIED:20231228T093258Z
UID:10018940-1706125200-1706128800@www.dancesoul.com.tw
SUMMARY:Street Jazz-Larry
DESCRIPTION:
URL:https://www.dancesoul.com.tw/schedule/street-jazz-larry-11/2024-01-24/
CATEGORIES:STREET JAZZ,常態課_一般,課程
END:VEVENT
BEGIN:VEVENT
DTSTART;TZID=Asia/Shanghai:20240124T205000
DTEND;TZID=Asia/Shanghai:20240124T215000
DTSTAMP:20260426T065042
CREATED:20231228T093428Z
LAST-MODIFIED:20231228T093428Z
UID:10018945-1706129400-1706133000@www.dancesoul.com.tw
SUMMARY:Free Style-承達
DESCRIPTION:
URL:https://www.dancesoul.com.tw/schedule/free-style-%e6%89%bf%e9%81%94-34/2024-01-24/
CATEGORIES:Freestyle,常態課_一般,課程
END:VEVENT
BEGIN:VEVENT
DTSTART;TZID=Asia/Shanghai:20240125T183000
DTEND;TZID=Asia/Shanghai:20240125T193000
DTSTAMP:20260426T065042
CREATED:20231228T093651Z
LAST-MODIFIED:20231228T093651Z
UID:10018950-1706207400-1706211000@www.dancesoul.com.tw
SUMMARY:Choreography-芭比
DESCRIPTION:
URL:https://www.dancesoul.com.tw/schedule/choreography-%e8%8a%ad%e6%af%94-16/2024-01-25/
CATEGORIES:Choreography,常態課_一般,課程
END:VEVENT
BEGIN:VEVENT
DTSTART;TZID=Asia/Shanghai:20240125T194000
DTEND;TZID=Asia/Shanghai:20240125T204000
DTSTAMP:20260426T065042
CREATED:20231228T093808Z
LAST-MODIFIED:20231228T093808Z
UID:10018954-1706211600-1706215200@www.dancesoul.com.tw
SUMMARY:Hip Hop-林彤
DESCRIPTION:
URL:https://www.dancesoul.com.tw/schedule/hip-hop-%e6%9e%97%e5%bd%a4-12/2024-01-25/
CATEGORIES:Hip Hop,常態課_一般,課程
END:VEVENT
BEGIN:VEVENT
DTSTART;TZID=Asia/Shanghai:20240125T205000
DTEND;TZID=Asia/Shanghai:20240125T215000
DTSTAMP:20260426T065042
CREATED:20231228T094059Z
LAST-MODIFIED:20231228T094059Z
UID:10018959-1706215800-1706219400@www.dancesoul.com.tw
SUMMARY:Jazz Funk-育暉
DESCRIPTION:
URL:https://www.dancesoul.com.tw/schedule/jazz-funk-%e8%82%b2%e6%9a%89-5/2024-01-25/
CATEGORIES:Jazz Funk,常態課_一般,課程
END:VEVENT
BEGIN:VEVENT
DTSTART;TZID=Asia/Shanghai:20240126T205000
DTEND;TZID=Asia/Shanghai:20240126T215000
DTSTAMP:20260426T065042
CREATED:20231228T094729Z
LAST-MODIFIED:20231228T094729Z
UID:10018971-1706302200-1706305800@www.dancesoul.com.tw
SUMMARY:Jazz Funk-鈴鐺
DESCRIPTION:
URL:https://www.dancesoul.com.tw/schedule/jazz-funk-%e9%88%b4%e9%90%ba-13/2024-01-26/
CATEGORIES:Jazz Funk,常態課_一般,課程
END:VEVENT
BEGIN:VEVENT
DTSTART;TZID=Asia/Shanghai:20240127T132000
DTEND;TZID=Asia/Shanghai:20240127T142000
DTSTAMP:20260426T065042
CREATED:20231228T085618Z
LAST-MODIFIED:20231228T085618Z
UID:10018888-1706361600-1706365200@www.dancesoul.com.tw
SUMMARY:兒童街舞-薇臻
DESCRIPTION:
URL:https://www.dancesoul.com.tw/schedule/%e5%85%92%e7%ab%a5%e8%a1%97%e8%88%9e-%e8%96%87%e8%87%bb/2024-01-27/
CATEGORIES:兒童街舞,兒童課,課程
END:VEVENT
BEGIN:VEVENT
DTSTART;TZID=Asia/Shanghai:20240127T143000
DTEND;TZID=Asia/Shanghai:20240127T153000
DTSTAMP:20260426T065042
CREATED:20231228T085034Z
LAST-MODIFIED:20231228T085034Z
UID:10018880-1706365800-1706369400@www.dancesoul.com.tw
SUMMARY:兒童MV-(ITZY - RINGO)-薇臻
DESCRIPTION:
URL:https://www.dancesoul.com.tw/schedule/%e5%85%92%e7%ab%a5mv-itzy-ringo-%e8%96%87%e8%87%bb/2024-01-27/
CATEGORIES:兒童MV,兒童課,課程
END:VEVENT
BEGIN:VEVENT
DTSTART;TZID=Asia/Shanghai:20240127T154000
DTEND;TZID=Asia/Shanghai:20240127T165000
DTSTAMP:20260426T065042
CREATED:20231228T085136Z
LAST-MODIFIED:20231228T085136Z
UID:10018884-1706370000-1706374200@www.dancesoul.com.tw
SUMMARY:兒童街舞-傘傘
DESCRIPTION:
URL:https://www.dancesoul.com.tw/schedule/%e5%85%92%e7%ab%a5%e8%a1%97%e8%88%9e-%e5%82%98%e5%82%98-27/2024-01-27/
CATEGORIES:兒童街舞,兒童課,課程
END:VEVENT
BEGIN:VEVENT
DTSTART;TZID=Asia/Shanghai:20240127T180000
DTEND;TZID=Asia/Shanghai:20240127T190000
DTSTAMP:20260426T065042
CREATED:20231228T090844Z
LAST-MODIFIED:20231228T090844Z
UID:10018895-1706378400-1706382000@www.dancesoul.com.tw
SUMMARY:Popping-紀威
DESCRIPTION:
URL:https://www.dancesoul.com.tw/schedule/popping-%e7%b4%80%e5%a8%81-35/2024-01-27/
CATEGORIES:Poppin,常態課_一般,課程
END:VEVENT
BEGIN:VEVENT
DTSTART;TZID=Asia/Shanghai:20240128T132000
DTEND;TZID=Asia/Shanghai:20240128T142000
DTSTAMP:20260426T065042
CREATED:20231228T080821Z
LAST-MODIFIED:20231228T080821Z
UID:10018793-1706448000-1706451600@www.dancesoul.com.tw
SUMMARY:兒童街舞-瑜庭
DESCRIPTION:
URL:https://www.dancesoul.com.tw/schedule/%e5%85%92%e7%ab%a5%e8%a1%97%e8%88%9e-%e7%91%9c%e5%ba%ad/2024-01-28/
CATEGORIES:兒童街舞,兒童課,課程
END:VEVENT
BEGIN:VEVENT
DTSTART;TZID=Asia/Shanghai:20240128T143000
DTEND;TZID=Asia/Shanghai:20240128T153000
DTSTAMP:20260426T065042
CREATED:20231228T082110Z
LAST-MODIFIED:20231228T082110Z
UID:10018804-1706452200-1706455800@www.dancesoul.com.tw
SUMMARY:兒童MV-(BABYMONSTER - BATTER UP )-瑜庭
DESCRIPTION:
URL:https://www.dancesoul.com.tw/schedule/%e5%85%92%e7%ab%a5mv-babymonster-batter-up-%e7%91%9c%e5%ba%ad/2024-01-28/
CATEGORIES:兒童MV,兒童課,課程
END:VEVENT
BEGIN:VEVENT
DTSTART;TZID=Asia/Shanghai:20240128T154000
DTEND;TZID=Asia/Shanghai:20240128T164000
DTSTAMP:20260426T065042
CREATED:20231228T082438Z
LAST-MODIFIED:20231228T082438Z
UID:10018808-1706456400-1706460000@www.dancesoul.com.tw
SUMMARY:兒童街舞-傘傘
DESCRIPTION:
URL:https://www.dancesoul.com.tw/schedule/%e5%85%92%e7%ab%a5%e8%a1%97%e8%88%9e-%e5%82%98%e5%82%98-26/2024-01-28/
CATEGORIES:兒童街舞,兒童課,課程
END:VEVENT
BEGIN:VEVENT
DTSTART;TZID=Asia/Shanghai:20240128T180000
DTEND;TZID=Asia/Shanghai:20240128T190000
DTSTAMP:20260426T065042
CREATED:20231228T083003Z
LAST-MODIFIED:20231228T083003Z
UID:10018816-1706464800-1706468400@www.dancesoul.com.tw
SUMMARY:Street Jazz-育暉
DESCRIPTION:
URL:https://www.dancesoul.com.tw/schedule/street-jazz-%e8%82%b2%e6%9a%89-42/2024-01-28/
CATEGORIES:STREET JAZZ,常態課_一般,課程
END:VEVENT
END:VCALENDAR