BEGIN:VCALENDAR
VERSION:2.0
PRODID:-//DANCE SOUL 舞魂街舞學校 - ECPv6.15.18//NONSGML v1.0//EN
CALSCALE:GREGORIAN
METHOD:PUBLISH
X-ORIGINAL-URL:https://www.dancesoul.com.tw
X-WR-CALDESC:Events for DANCE SOUL 舞魂街舞學校
REFRESH-INTERVAL;VALUE=DURATION:PT1H
X-Robots-Tag:noindex
X-PUBLISHED-TTL:PT1H
BEGIN:VTIMEZONE
TZID:Asia/Shanghai
BEGIN:STANDARD
TZOFFSETFROM:+0800
TZOFFSETTO:+0800
TZNAME:CST
DTSTART:20230101T000000
END:STANDARD
END:VTIMEZONE
BEGIN:VEVENT
DTSTART;TZID=Asia/Shanghai:20240415T205000
DTEND;TZID=Asia/Shanghai:20240415T215000
DTSTAMP:20260425T215131
CREATED:20240326T092500Z
LAST-MODIFIED:20240326T092500Z
UID:10019402-1713214200-1713217800@www.dancesoul.com.tw
SUMMARY:Jazz Funk-魏小美
DESCRIPTION:
URL:https://www.dancesoul.com.tw/schedule/jazz-funk-%e9%ad%8f%e5%b0%8f%e7%be%8e-70/2024-04-15/
CATEGORIES:Jazz Funk,常態課_一般,課程
END:VEVENT
BEGIN:VEVENT
DTSTART;TZID=Asia/Shanghai:20240416T194000
DTEND;TZID=Asia/Shanghai:20240416T204000
DTSTAMP:20260425T215131
CREATED:20240326T092749Z
LAST-MODIFIED:20240326T092749Z
UID:10019412-1713296400-1713300000@www.dancesoul.com.tw
SUMMARY:Street Jazz-Denis
DESCRIPTION:
URL:https://www.dancesoul.com.tw/schedule/street-jazz-denis-43/2024-04-16/
CATEGORIES:STREET JAZZ,常態課_一般,課程
END:VEVENT
BEGIN:VEVENT
DTSTART;TZID=Asia/Shanghai:20240416T205000
DTEND;TZID=Asia/Shanghai:20240416T215000
DTSTAMP:20260425T215131
CREATED:20240326T092839Z
LAST-MODIFIED:20240326T092839Z
UID:10019417-1713300600-1713304200@www.dancesoul.com.tw
SUMMARY:Choreography-少麟
DESCRIPTION:
URL:https://www.dancesoul.com.tw/schedule/choreography-%e5%b0%91%e9%ba%9f-6/2024-04-16/
CATEGORIES:Choreography,常態課_一般,課程
END:VEVENT
BEGIN:VEVENT
DTSTART;TZID=Asia/Shanghai:20240417T194000
DTEND;TZID=Asia/Shanghai:20240417T204000
DTSTAMP:20260425T215131
CREATED:20240326T093119Z
LAST-MODIFIED:20240326T093119Z
UID:10019426-1713382800-1713386400@www.dancesoul.com.tw
SUMMARY:Street Jazz-Larry
DESCRIPTION:
URL:https://www.dancesoul.com.tw/schedule/street-jazz-larry-14/2024-04-17/
CATEGORIES:STREET JAZZ,常態課_一般,課程
END:VEVENT
BEGIN:VEVENT
DTSTART;TZID=Asia/Shanghai:20240417T205000
DTEND;TZID=Asia/Shanghai:20240417T215000
DTSTAMP:20260425T215131
CREATED:20240326T093409Z
LAST-MODIFIED:20240326T093409Z
UID:10019430-1713387000-1713390600@www.dancesoul.com.tw
SUMMARY:Free Style-承達
DESCRIPTION:
URL:https://www.dancesoul.com.tw/schedule/free-style-%e6%89%bf%e9%81%94-37/2024-04-17/
CATEGORIES:Freestyle,常態課_一般,課程
END:VEVENT
BEGIN:VEVENT
DTSTART;TZID=Asia/Shanghai:20240418T183000
DTEND;TZID=Asia/Shanghai:20240418T193000
DTSTAMP:20260425T215131
CREATED:20240326T093502Z
LAST-MODIFIED:20240326T093502Z
UID:10019434-1713465000-1713468600@www.dancesoul.com.tw
SUMMARY:Choreography-芭比
DESCRIPTION:
URL:https://www.dancesoul.com.tw/schedule/choreography-%e8%8a%ad%e6%af%94-20/2024-04-18/
CATEGORIES:Choreography,常態課_一般,課程
END:VEVENT
BEGIN:VEVENT
DTSTART;TZID=Asia/Shanghai:20240418T194000
DTEND;TZID=Asia/Shanghai:20240418T204000
DTSTAMP:20260425T215131
CREATED:20240326T093710Z
LAST-MODIFIED:20240326T093710Z
UID:10019438-1713469200-1713472800@www.dancesoul.com.tw
SUMMARY:Hip Hop-林彤
DESCRIPTION:
URL:https://www.dancesoul.com.tw/schedule/hip-hop-%e6%9e%97%e5%bd%a4-16/2024-04-18/
CATEGORIES:Hip Hop,常態課_一般,課程
END:VEVENT
BEGIN:VEVENT
DTSTART;TZID=Asia/Shanghai:20240418T205000
DTEND;TZID=Asia/Shanghai:20240418T215000
DTSTAMP:20260425T215131
CREATED:20240326T093804Z
LAST-MODIFIED:20240326T093804Z
UID:10019442-1713473400-1713477000@www.dancesoul.com.tw
SUMMARY:Jazz Funk-育暉
DESCRIPTION:
URL:https://www.dancesoul.com.tw/schedule/jazz-funk-%e8%82%b2%e6%9a%89-9/2024-04-18/
CATEGORIES:Jazz Funk,常態課_一般,課程
END:VEVENT
BEGIN:VEVENT
DTSTART;TZID=Asia/Shanghai:20240419T205000
DTEND;TZID=Asia/Shanghai:20240419T215000
DTSTAMP:20260425T215131
CREATED:20240326T094357Z
LAST-MODIFIED:20240326T094357Z
UID:10019455-1713559800-1713563400@www.dancesoul.com.tw
SUMMARY:Jazz Funk-鈴鐺
DESCRIPTION:
URL:https://www.dancesoul.com.tw/schedule/jazz-funk-%e9%88%b4%e9%90%ba-17/2024-04-19/
CATEGORIES:Jazz Funk,常態課_一般,課程
END:VEVENT
BEGIN:VEVENT
DTSTART;TZID=Asia/Shanghai:20240420T132000
DTEND;TZID=Asia/Shanghai:20240420T142000
DTSTAMP:20260425T215131
CREATED:20240326T085524Z
LAST-MODIFIED:20240326T085524Z
UID:10019339-1713619200-1713622800@www.dancesoul.com.tw
SUMMARY:兒童街舞-薇臻
DESCRIPTION:
URL:https://www.dancesoul.com.tw/schedule/%e5%85%92%e7%ab%a5%e8%a1%97%e8%88%9e-%e8%96%87%e8%87%bb-5/2024-04-20/
CATEGORIES:兒童街舞,兒童課,課程
END:VEVENT
BEGIN:VEVENT
DTSTART;TZID=Asia/Shanghai:20240420T143000
DTEND;TZID=Asia/Shanghai:20240420T153000
DTSTAMP:20260425T215131
CREATED:20240326T090616Z
LAST-MODIFIED:20240326T095113Z
UID:10019363-1713623400-1713627000@www.dancesoul.com.tw
SUMMARY:兒童MV-(ILLIT - Magnetic)薇臻
DESCRIPTION:
URL:https://www.dancesoul.com.tw/schedule/%e5%85%92%e7%ab%a5mv-%e8%96%87%e8%87%bb/2024-04-20/
CATEGORIES:兒童MV,兒童課,課程
END:VEVENT
BEGIN:VEVENT
DTSTART;TZID=Asia/Shanghai:20240420T154000
DTEND;TZID=Asia/Shanghai:20240420T164000
DTSTAMP:20260425T215131
CREATED:20240326T085833Z
LAST-MODIFIED:20240326T085833Z
UID:10019343-1713627600-1713631200@www.dancesoul.com.tw
SUMMARY:兒童街舞-傘傘
DESCRIPTION:
URL:https://www.dancesoul.com.tw/schedule/%e5%85%92%e7%ab%a5%e8%a1%97%e8%88%9e-%e5%82%98%e5%82%98-34/2024-04-20/
CATEGORIES:兒童街舞,兒童課,課程
END:VEVENT
BEGIN:VEVENT
DTSTART;TZID=Asia/Shanghai:20240420T180000
DTEND;TZID=Asia/Shanghai:20240420T190000
DTSTAMP:20260425T215131
CREATED:20240326T090146Z
LAST-MODIFIED:20240326T090146Z
UID:10019351-1713636000-1713639600@www.dancesoul.com.tw
SUMMARY:Popping-紀威
DESCRIPTION:
URL:https://www.dancesoul.com.tw/schedule/popping-%e7%b4%80%e5%a8%81-39/2024-04-20/
CATEGORIES:Poppin,常態課_一般,課程
END:VEVENT
BEGIN:VEVENT
DTSTART;TZID=Asia/Shanghai:20240421T132000
DTEND;TZID=Asia/Shanghai:20240421T142000
DTSTAMP:20260425T215131
CREATED:20240326T090818Z
LAST-MODIFIED:20240326T090818Z
UID:10019367-1713705600-1713709200@www.dancesoul.com.tw
SUMMARY:兒童街舞-羿芃
DESCRIPTION:
URL:https://www.dancesoul.com.tw/schedule/%e5%85%92%e7%ab%a5%e8%a1%97%e8%88%9e-%e7%be%bf%e8%8a%83-4/2024-04-21/
CATEGORIES:兒童街舞,兒童課,課程
END:VEVENT
BEGIN:VEVENT
DTSTART;TZID=Asia/Shanghai:20240421T143000
DTEND;TZID=Asia/Shanghai:20240421T153000
DTSTAMP:20260425T215131
CREATED:20240326T091011Z
LAST-MODIFIED:20240326T091011Z
UID:10019371-1713709800-1713713400@www.dancesoul.com.tw
SUMMARY:兒童MV-(LE SSERAFIM - EASY)-羿芃
DESCRIPTION:
URL:https://www.dancesoul.com.tw/schedule/%e5%85%92%e7%ab%a5mv-le-sserafim-easy-%e7%be%bf%e8%8a%83/2024-04-21/
CATEGORIES:兒童MV,兒童課,課程
END:VEVENT
BEGIN:VEVENT
DTSTART;TZID=Asia/Shanghai:20240421T154000
DTEND;TZID=Asia/Shanghai:20240421T164000
DTSTAMP:20260425T215131
CREATED:20240326T091220Z
LAST-MODIFIED:20240326T091220Z
UID:10019375-1713714000-1713717600@www.dancesoul.com.tw
SUMMARY:兒童街舞-傘傘
DESCRIPTION:
URL:https://www.dancesoul.com.tw/schedule/%e5%85%92%e7%ab%a5%e8%a1%97%e8%88%9e-%e5%82%98%e5%82%98-35/2024-04-21/
CATEGORIES:兒童街舞,兒童課,課程
END:VEVENT
BEGIN:VEVENT
DTSTART;TZID=Asia/Shanghai:20240421T180000
DTEND;TZID=Asia/Shanghai:20240421T190000
DTSTAMP:20260425T215131
CREATED:20240326T091920Z
LAST-MODIFIED:20240326T091920Z
UID:10019383-1713722400-1713726000@www.dancesoul.com.tw
SUMMARY:Street Jazz-育暉
DESCRIPTION:
URL:https://www.dancesoul.com.tw/schedule/street-jazz-%e8%82%b2%e6%9a%89-46/2024-04-21/
CATEGORIES:STREET JAZZ,常態課_一般,課程
END:VEVENT
END:VCALENDAR