BEGIN:VCALENDAR
VERSION:2.0
PRODID:-//DANCE SOUL 舞魂街舞學校 - ECPv6.15.18//NONSGML v1.0//EN
CALSCALE:GREGORIAN
METHOD:PUBLISH
X-ORIGINAL-URL:https://www.dancesoul.com.tw
X-WR-CALDESC:Events for DANCE SOUL 舞魂街舞學校
REFRESH-INTERVAL;VALUE=DURATION:PT1H
X-Robots-Tag:noindex
X-PUBLISHED-TTL:PT1H
BEGIN:VTIMEZONE
TZID:Asia/Shanghai
BEGIN:STANDARD
TZOFFSETFROM:+0800
TZOFFSETTO:+0800
TZNAME:CST
DTSTART:20230101T000000
END:STANDARD
END:VTIMEZONE
BEGIN:VEVENT
DTSTART;TZID=Asia/Shanghai:20240610T205000
DTEND;TZID=Asia/Shanghai:20240610T215000
DTSTAMP:20260422T023328
CREATED:20240523T102923Z
LAST-MODIFIED:20240523T102923Z
UID:10019660-1718052600-1718056200@www.dancesoul.com.tw
SUMMARY:Jazz Funk-魏小美
DESCRIPTION:
URL:https://www.dancesoul.com.tw/schedule/jazz-funk-%e9%ad%8f%e5%b0%8f%e7%be%8e-72/2024-06-10/
CATEGORIES:Jazz Funk,常態課_一般,課程
END:VEVENT
BEGIN:VEVENT
DTSTART;TZID=Asia/Shanghai:20240611T194000
DTEND;TZID=Asia/Shanghai:20240611T204000
DTSTAMP:20260422T023328
CREATED:20240523T103322Z
LAST-MODIFIED:20240523T103322Z
UID:10019668-1718134800-1718138400@www.dancesoul.com.tw
SUMMARY:Street Jazz-Denis
DESCRIPTION:
URL:https://www.dancesoul.com.tw/schedule/street-jazz-denis-45/2024-06-11/
CATEGORIES:STREET JAZZ,常態課_一般,課程
END:VEVENT
BEGIN:VEVENT
DTSTART;TZID=Asia/Shanghai:20240611T205000
DTEND;TZID=Asia/Shanghai:20240611T215000
DTSTAMP:20260422T023328
CREATED:20240523T103521Z
LAST-MODIFIED:20240523T103521Z
UID:10019672-1718139000-1718142600@www.dancesoul.com.tw
SUMMARY:Choreography-少麟
DESCRIPTION:
URL:https://www.dancesoul.com.tw/schedule/choreography-%e5%b0%91%e9%ba%9f-9/2024-06-11/
CATEGORIES:Choreography,常態課_一般,課程
END:VEVENT
BEGIN:VEVENT
DTSTART;TZID=Asia/Shanghai:20240612T194000
DTEND;TZID=Asia/Shanghai:20240612T204000
DTSTAMP:20260422T023328
CREATED:20240523T103814Z
LAST-MODIFIED:20240523T103814Z
UID:10019678-1718221200-1718224800@www.dancesoul.com.tw
SUMMARY:Street Jazz-Larry
DESCRIPTION:
URL:https://www.dancesoul.com.tw/schedule/street-jazz-larry-16/2024-06-12/
CATEGORIES:STREET JAZZ,常態課_一般,課程
END:VEVENT
BEGIN:VEVENT
DTSTART;TZID=Asia/Shanghai:20240612T205000
DTEND;TZID=Asia/Shanghai:20240612T215000
DTSTAMP:20260422T023328
CREATED:20240523T104015Z
LAST-MODIFIED:20240523T104015Z
UID:10019682-1718225400-1718229000@www.dancesoul.com.tw
SUMMARY:Free Style-承達
DESCRIPTION:
URL:https://www.dancesoul.com.tw/schedule/free-style-%e6%89%bf%e9%81%94-39/2024-06-12/
CATEGORIES:Freestyle,常態課_一般,課程
END:VEVENT
BEGIN:VEVENT
DTSTART;TZID=Asia/Shanghai:20240613T183000
DTEND;TZID=Asia/Shanghai:20240613T193000
DTSTAMP:20260422T023329
CREATED:20240523T104124Z
LAST-MODIFIED:20240523T104124Z
UID:10019686-1718303400-1718307000@www.dancesoul.com.tw
SUMMARY:Choreography-芭比
DESCRIPTION:
URL:https://www.dancesoul.com.tw/schedule/choreography-%e8%8a%ad%e6%af%94-22/2024-06-13/
CATEGORIES:Choreography,常態課_一般,課程
END:VEVENT
BEGIN:VEVENT
DTSTART;TZID=Asia/Shanghai:20240613T194000
DTEND;TZID=Asia/Shanghai:20240613T204000
DTSTAMP:20260422T023329
CREATED:20240523T104403Z
LAST-MODIFIED:20240523T104403Z
UID:10019690-1718307600-1718311200@www.dancesoul.com.tw
SUMMARY:Hip Hop-林彤
DESCRIPTION:
URL:https://www.dancesoul.com.tw/schedule/hip-hop-%e6%9e%97%e5%bd%a4-18/2024-06-13/
CATEGORIES:Hip Hop,常態課_一般,課程
END:VEVENT
BEGIN:VEVENT
DTSTART;TZID=Asia/Shanghai:20240613T205000
DTEND;TZID=Asia/Shanghai:20240613T215000
DTSTAMP:20260422T023329
CREATED:20240523T104503Z
LAST-MODIFIED:20240523T104503Z
UID:10019694-1718311800-1718315400@www.dancesoul.com.tw
SUMMARY:Afro Style-巴豪
DESCRIPTION:
URL:https://www.dancesoul.com.tw/schedule/afro-style-%e5%b7%b4%e8%b1%aa/2024-06-13/
CATEGORIES:Afro Style,常態課_一般,課程
END:VEVENT
BEGIN:VEVENT
DTSTART;TZID=Asia/Shanghai:20240614T205000
DTEND;TZID=Asia/Shanghai:20240614T215000
DTSTAMP:20260422T023329
CREATED:20240523T104947Z
LAST-MODIFIED:20240523T104947Z
UID:10019706-1718398200-1718401800@www.dancesoul.com.tw
SUMMARY:Jazz Funk-鈴鐺
DESCRIPTION:
URL:https://www.dancesoul.com.tw/schedule/jazz-funk-%e9%88%b4%e9%90%ba-19/2024-06-14/
CATEGORIES:Jazz Funk,常態課_一般,課程
END:VEVENT
BEGIN:VEVENT
DTSTART;TZID=Asia/Shanghai:20240615T132000
DTEND;TZID=Asia/Shanghai:20240615T142000
DTSTAMP:20260422T023329
CREATED:20240523T095134Z
LAST-MODIFIED:20240523T095134Z
UID:10019583-1718457600-1718461200@www.dancesoul.com.tw
SUMMARY:兒童街舞-薇臻
DESCRIPTION:
URL:https://www.dancesoul.com.tw/schedule/%e5%85%92%e7%ab%a5%e8%a1%97%e8%88%9e-%e8%96%87%e8%87%bb-7/2024-06-15/
CATEGORIES:兒童街舞,兒童課,課程
END:VEVENT
BEGIN:VEVENT
DTSTART;TZID=Asia/Shanghai:20240615T143000
DTEND;TZID=Asia/Shanghai:20240615T153000
DTSTAMP:20260422T023329
CREATED:20240523T095250Z
LAST-MODIFIED:20240523T095250Z
UID:10019588-1718461800-1718465400@www.dancesoul.com.tw
SUMMARY:兒童MV-(IVE - Accendio)-薇臻
DESCRIPTION:
URL:https://www.dancesoul.com.tw/schedule/%e5%85%92%e7%ab%a5mv-ive-accendio-%e8%96%87%e8%87%bb/2024-06-15/
CATEGORIES:兒童MV,兒童課,課程
END:VEVENT
BEGIN:VEVENT
DTSTART;TZID=Asia/Shanghai:20240615T154000
DTEND;TZID=Asia/Shanghai:20240615T164000
DTSTAMP:20260422T023329
CREATED:20240523T095423Z
LAST-MODIFIED:20240523T095423Z
UID:10019593-1718466000-1718469600@www.dancesoul.com.tw
SUMMARY:兒童街舞-傘傘
DESCRIPTION:
URL:https://www.dancesoul.com.tw/schedule/%e5%85%92%e7%ab%a5%e8%a1%97%e8%88%9e-%e5%82%98%e5%82%98-38/2024-06-15/
CATEGORIES:兒童街舞,兒童課,課程
END:VEVENT
BEGIN:VEVENT
DTSTART;TZID=Asia/Shanghai:20240615T180000
DTEND;TZID=Asia/Shanghai:20240615T190000
DTSTAMP:20260422T023329
CREATED:20240523T095944Z
LAST-MODIFIED:20240523T095944Z
UID:10019608-1718474400-1718478000@www.dancesoul.com.tw
SUMMARY:Popping-紀威
DESCRIPTION:
URL:https://www.dancesoul.com.tw/schedule/popping-%e7%b4%80%e5%a8%81-41/2024-06-15/
CATEGORIES:Poppin,常態課_一般,課程
END:VEVENT
BEGIN:VEVENT
DTSTART;TZID=Asia/Shanghai:20240616T132000
DTEND;TZID=Asia/Shanghai:20240616T142000
DTSTAMP:20260422T023329
CREATED:20240523T100321Z
LAST-MODIFIED:20240523T100321Z
UID:10019623-1718544000-1718547600@www.dancesoul.com.tw
SUMMARY:兒童街舞-羿芃
DESCRIPTION:
URL:https://www.dancesoul.com.tw/schedule/%e5%85%92%e7%ab%a5%e8%a1%97%e8%88%9e-%e7%be%bf%e8%8a%83-6/2024-06-16/
CATEGORIES:兒童街舞,兒童課,課程
END:VEVENT
BEGIN:VEVENT
DTSTART;TZID=Asia/Shanghai:20240616T143000
DTEND;TZID=Asia/Shanghai:20240616T153000
DTSTAMP:20260422T023329
CREATED:20240523T101335Z
LAST-MODIFIED:20240523T101335Z
UID:10019628-1718548200-1718551800@www.dancesoul.com.tw
SUMMARY:兒童MV-(IVE - HEYA)-羿芃
DESCRIPTION:
URL:https://www.dancesoul.com.tw/schedule/%e5%85%92%e7%ab%a5mv-ive-heya-%e7%be%bf%e8%8a%83/2024-06-16/
CATEGORIES:兒童MV,兒童課,課程
END:VEVENT
BEGIN:VEVENT
DTSTART;TZID=Asia/Shanghai:20240616T154000
DTEND;TZID=Asia/Shanghai:20240616T164000
DTSTAMP:20260422T023329
CREATED:20240523T101428Z
LAST-MODIFIED:20240523T101428Z
UID:10019633-1718552400-1718556000@www.dancesoul.com.tw
SUMMARY:兒童街舞-傘傘
DESCRIPTION:
URL:https://www.dancesoul.com.tw/schedule/%e5%85%92%e7%ab%a5%e8%a1%97%e8%88%9e-%e5%82%98%e5%82%98-39/2024-06-16/
CATEGORIES:兒童街舞,兒童課,課程
END:VEVENT
BEGIN:VEVENT
DTSTART;TZID=Asia/Shanghai:20240616T180000
DTEND;TZID=Asia/Shanghai:20240616T190000
DTSTAMP:20260422T023329
CREATED:20240523T101857Z
LAST-MODIFIED:20240523T101857Z
UID:10019643-1718560800-1718564400@www.dancesoul.com.tw
SUMMARY:Afro Style-聖恩
DESCRIPTION:
URL:https://www.dancesoul.com.tw/schedule/afro-style-%e8%81%96%e6%81%a9/2024-06-16/
CATEGORIES:Afro Style,Afro Style,常態課_一般,課程
END:VEVENT
END:VCALENDAR