BEGIN:VCALENDAR
VERSION:2.0
PRODID:-//DANCE SOUL 舞魂街舞學校 - ECPv6.15.18//NONSGML v1.0//EN
CALSCALE:GREGORIAN
METHOD:PUBLISH
X-ORIGINAL-URL:https://www.dancesoul.com.tw
X-WR-CALDESC:Events for DANCE SOUL 舞魂街舞學校
REFRESH-INTERVAL;VALUE=DURATION:PT1H
X-Robots-Tag:noindex
X-PUBLISHED-TTL:PT1H
BEGIN:VTIMEZONE
TZID:Asia/Shanghai
BEGIN:STANDARD
TZOFFSETFROM:+0800
TZOFFSETTO:+0800
TZNAME:CST
DTSTART:20230101T000000
END:STANDARD
END:VTIMEZONE
BEGIN:VEVENT
DTSTART;TZID=Asia/Shanghai:20240624T205000
DTEND;TZID=Asia/Shanghai:20240624T215000
DTSTAMP:20260422T033321
CREATED:20240523T102923Z
LAST-MODIFIED:20240523T102923Z
UID:10019662-1719262200-1719265800@www.dancesoul.com.tw
SUMMARY:Jazz Funk-魏小美
DESCRIPTION:
URL:https://www.dancesoul.com.tw/schedule/jazz-funk-%e9%ad%8f%e5%b0%8f%e7%be%8e-72/2024-06-24/
CATEGORIES:Jazz Funk,常態課_一般,課程
END:VEVENT
BEGIN:VEVENT
DTSTART;TZID=Asia/Shanghai:20240625T194000
DTEND;TZID=Asia/Shanghai:20240625T204000
DTSTAMP:20260422T033321
CREATED:20240523T103322Z
LAST-MODIFIED:20240523T103322Z
UID:10019670-1719344400-1719348000@www.dancesoul.com.tw
SUMMARY:Street Jazz-Denis
DESCRIPTION:
URL:https://www.dancesoul.com.tw/schedule/street-jazz-denis-45/2024-06-25/
CATEGORIES:STREET JAZZ,常態課_一般,課程
END:VEVENT
BEGIN:VEVENT
DTSTART;TZID=Asia/Shanghai:20240625T205000
DTEND;TZID=Asia/Shanghai:20240625T215000
DTSTAMP:20260422T033321
CREATED:20240523T094917Z
LAST-MODIFIED:20240523T094917Z
UID:10019580-1719348600-1719352200@www.dancesoul.com.tw
SUMMARY:Choreography-少麟
DESCRIPTION:
URL:https://www.dancesoul.com.tw/schedule/choreography-%e5%b0%91%e9%ba%9f-8/
CATEGORIES:Choreography,常態課_一般,課程
END:VEVENT
BEGIN:VEVENT
DTSTART;TZID=Asia/Shanghai:20240626T194000
DTEND;TZID=Asia/Shanghai:20240626T204000
DTSTAMP:20260422T033321
CREATED:20240523T103814Z
LAST-MODIFIED:20240523T103814Z
UID:10019680-1719430800-1719434400@www.dancesoul.com.tw
SUMMARY:Street Jazz-Larry
DESCRIPTION:
URL:https://www.dancesoul.com.tw/schedule/street-jazz-larry-16/2024-06-26/
CATEGORIES:STREET JAZZ,常態課_一般,課程
END:VEVENT
BEGIN:VEVENT
DTSTART;TZID=Asia/Shanghai:20240626T205000
DTEND;TZID=Asia/Shanghai:20240626T215000
DTSTAMP:20260422T033321
CREATED:20240523T104015Z
LAST-MODIFIED:20240523T104015Z
UID:10019684-1719435000-1719438600@www.dancesoul.com.tw
SUMMARY:Free Style-承達
DESCRIPTION:
URL:https://www.dancesoul.com.tw/schedule/free-style-%e6%89%bf%e9%81%94-39/2024-06-26/
CATEGORIES:Freestyle,常態課_一般,課程
END:VEVENT
BEGIN:VEVENT
DTSTART;TZID=Asia/Shanghai:20240627T183000
DTEND;TZID=Asia/Shanghai:20240627T193000
DTSTAMP:20260422T033321
CREATED:20240523T104124Z
LAST-MODIFIED:20240523T104124Z
UID:10019688-1719513000-1719516600@www.dancesoul.com.tw
SUMMARY:Choreography-芭比
DESCRIPTION:
URL:https://www.dancesoul.com.tw/schedule/choreography-%e8%8a%ad%e6%af%94-22/2024-06-27/
CATEGORIES:Choreography,常態課_一般,課程
END:VEVENT
BEGIN:VEVENT
DTSTART;TZID=Asia/Shanghai:20240627T194000
DTEND;TZID=Asia/Shanghai:20240627T204000
DTSTAMP:20260422T033321
CREATED:20240523T104403Z
LAST-MODIFIED:20240523T104403Z
UID:10019692-1719517200-1719520800@www.dancesoul.com.tw
SUMMARY:Hip Hop-林彤
DESCRIPTION:
URL:https://www.dancesoul.com.tw/schedule/hip-hop-%e6%9e%97%e5%bd%a4-18/2024-06-27/
CATEGORIES:Hip Hop,常態課_一般,課程
END:VEVENT
BEGIN:VEVENT
DTSTART;TZID=Asia/Shanghai:20240627T205000
DTEND;TZID=Asia/Shanghai:20240627T215000
DTSTAMP:20260422T033321
CREATED:20240523T104503Z
LAST-MODIFIED:20240523T104503Z
UID:10019696-1719521400-1719525000@www.dancesoul.com.tw
SUMMARY:Afro Style-巴豪
DESCRIPTION:
URL:https://www.dancesoul.com.tw/schedule/afro-style-%e5%b7%b4%e8%b1%aa/2024-06-27/
CATEGORIES:Afro Style,常態課_一般,課程
END:VEVENT
BEGIN:VEVENT
DTSTART;TZID=Asia/Shanghai:20240628T205000
DTEND;TZID=Asia/Shanghai:20240628T215000
DTSTAMP:20260422T033321
CREATED:20240523T104947Z
LAST-MODIFIED:20240523T104947Z
UID:10019708-1719607800-1719611400@www.dancesoul.com.tw
SUMMARY:Jazz Funk-鈴鐺
DESCRIPTION:
URL:https://www.dancesoul.com.tw/schedule/jazz-funk-%e9%88%b4%e9%90%ba-19/2024-06-28/
CATEGORIES:Jazz Funk,常態課_一般,課程
END:VEVENT
BEGIN:VEVENT
DTSTART;TZID=Asia/Shanghai:20240629T132000
DTEND;TZID=Asia/Shanghai:20240629T142000
DTSTAMP:20260422T033321
CREATED:20240523T095134Z
LAST-MODIFIED:20240523T095134Z
UID:10019585-1719667200-1719670800@www.dancesoul.com.tw
SUMMARY:兒童街舞-薇臻
DESCRIPTION:
URL:https://www.dancesoul.com.tw/schedule/%e5%85%92%e7%ab%a5%e8%a1%97%e8%88%9e-%e8%96%87%e8%87%bb-7/2024-06-29/
CATEGORIES:兒童街舞,兒童課,課程
END:VEVENT
BEGIN:VEVENT
DTSTART;TZID=Asia/Shanghai:20240629T143000
DTEND;TZID=Asia/Shanghai:20240629T153000
DTSTAMP:20260422T033321
CREATED:20240523T095250Z
LAST-MODIFIED:20240523T095250Z
UID:10019590-1719671400-1719675000@www.dancesoul.com.tw
SUMMARY:兒童MV-(IVE - Accendio)-薇臻
DESCRIPTION:
URL:https://www.dancesoul.com.tw/schedule/%e5%85%92%e7%ab%a5mv-ive-accendio-%e8%96%87%e8%87%bb/2024-06-29/
CATEGORIES:兒童MV,兒童課,課程
END:VEVENT
BEGIN:VEVENT
DTSTART;TZID=Asia/Shanghai:20240629T154000
DTEND;TZID=Asia/Shanghai:20240629T164000
DTSTAMP:20260422T033321
CREATED:20240523T095423Z
LAST-MODIFIED:20240523T095423Z
UID:10019595-1719675600-1719679200@www.dancesoul.com.tw
SUMMARY:兒童街舞-傘傘
DESCRIPTION:
URL:https://www.dancesoul.com.tw/schedule/%e5%85%92%e7%ab%a5%e8%a1%97%e8%88%9e-%e5%82%98%e5%82%98-38/2024-06-29/
CATEGORIES:兒童街舞,兒童課,課程
END:VEVENT
BEGIN:VEVENT
DTSTART;TZID=Asia/Shanghai:20240629T180000
DTEND;TZID=Asia/Shanghai:20240629T190000
DTSTAMP:20260422T033321
CREATED:20240523T095944Z
LAST-MODIFIED:20240523T095944Z
UID:10019610-1719684000-1719687600@www.dancesoul.com.tw
SUMMARY:Popping-紀威
DESCRIPTION:
URL:https://www.dancesoul.com.tw/schedule/popping-%e7%b4%80%e5%a8%81-41/2024-06-29/
CATEGORIES:Poppin,常態課_一般,課程
END:VEVENT
BEGIN:VEVENT
DTSTART;TZID=Asia/Shanghai:20240630T132000
DTEND;TZID=Asia/Shanghai:20240630T142000
DTSTAMP:20260422T033321
CREATED:20240523T100321Z
LAST-MODIFIED:20240523T100321Z
UID:10019625-1719753600-1719757200@www.dancesoul.com.tw
SUMMARY:兒童街舞-羿芃
DESCRIPTION:
URL:https://www.dancesoul.com.tw/schedule/%e5%85%92%e7%ab%a5%e8%a1%97%e8%88%9e-%e7%be%bf%e8%8a%83-6/2024-06-30/
CATEGORIES:兒童街舞,兒童課,課程
END:VEVENT
BEGIN:VEVENT
DTSTART;TZID=Asia/Shanghai:20240630T143000
DTEND;TZID=Asia/Shanghai:20240630T153000
DTSTAMP:20260422T033321
CREATED:20240523T101335Z
LAST-MODIFIED:20240523T101335Z
UID:10019630-1719757800-1719761400@www.dancesoul.com.tw
SUMMARY:兒童MV-(IVE - HEYA)-羿芃
DESCRIPTION:
URL:https://www.dancesoul.com.tw/schedule/%e5%85%92%e7%ab%a5mv-ive-heya-%e7%be%bf%e8%8a%83/2024-06-30/
CATEGORIES:兒童MV,兒童課,課程
END:VEVENT
BEGIN:VEVENT
DTSTART;TZID=Asia/Shanghai:20240630T154000
DTEND;TZID=Asia/Shanghai:20240630T164000
DTSTAMP:20260422T033321
CREATED:20240523T101428Z
LAST-MODIFIED:20240523T101428Z
UID:10019635-1719762000-1719765600@www.dancesoul.com.tw
SUMMARY:兒童街舞-傘傘
DESCRIPTION:
URL:https://www.dancesoul.com.tw/schedule/%e5%85%92%e7%ab%a5%e8%a1%97%e8%88%9e-%e5%82%98%e5%82%98-39/2024-06-30/
CATEGORIES:兒童街舞,兒童課,課程
END:VEVENT
BEGIN:VEVENT
DTSTART;TZID=Asia/Shanghai:20240630T180000
DTEND;TZID=Asia/Shanghai:20240630T190000
DTSTAMP:20260422T033321
CREATED:20240523T101857Z
LAST-MODIFIED:20240523T101857Z
UID:10019645-1719770400-1719774000@www.dancesoul.com.tw
SUMMARY:Afro Style-聖恩
DESCRIPTION:
URL:https://www.dancesoul.com.tw/schedule/afro-style-%e8%81%96%e6%81%a9/2024-06-30/
CATEGORIES:Afro Style,Afro Style,常態課_一般,課程
END:VEVENT
END:VCALENDAR