BEGIN:VCALENDAR
VERSION:2.0
PRODID:-//DANCE SOUL 舞魂街舞學校 - ECPv6.15.18//NONSGML v1.0//EN
CALSCALE:GREGORIAN
METHOD:PUBLISH
X-ORIGINAL-URL:https://www.dancesoul.com.tw
X-WR-CALDESC:Events for DANCE SOUL 舞魂街舞學校
REFRESH-INTERVAL;VALUE=DURATION:PT1H
X-Robots-Tag:noindex
X-PUBLISHED-TTL:PT1H
BEGIN:VTIMEZONE
TZID:Asia/Shanghai
BEGIN:STANDARD
TZOFFSETFROM:+0800
TZOFFSETTO:+0800
TZNAME:CST
DTSTART:20230101T000000
END:STANDARD
END:VTIMEZONE
BEGIN:VEVENT
DTSTART;TZID=Asia/Shanghai:20240909T205000
DTEND;TZID=Asia/Shanghai:20240909T215000
DTSTAMP:20260421T072235
CREATED:20240829T084306Z
LAST-MODIFIED:20240829T084306Z
UID:10020203-1725915000-1725918600@www.dancesoul.com.tw
SUMMARY:Jazz Funk-魏小美
DESCRIPTION:
URL:https://www.dancesoul.com.tw/schedule/jazz-funk-%e9%ad%8f%e5%b0%8f%e7%be%8e-75/2024-09-09/
CATEGORIES:Jazz Funk,常態課_一般,課程
END:VEVENT
BEGIN:VEVENT
DTSTART;TZID=Asia/Shanghai:20240910T194000
DTEND;TZID=Asia/Shanghai:20240910T204000
DTSTAMP:20260421T072235
CREATED:20240829T084517Z
LAST-MODIFIED:20240829T084517Z
UID:10020212-1725997200-1726000800@www.dancesoul.com.tw
SUMMARY:Street Jazz-Denis
DESCRIPTION:
URL:https://www.dancesoul.com.tw/schedule/street-jazz-denis-48/2024-09-10/
CATEGORIES:STREET JAZZ,常態課_一般,課程
END:VEVENT
BEGIN:VEVENT
DTSTART;TZID=Asia/Shanghai:20240910T205000
DTEND;TZID=Asia/Shanghai:20240910T215000
DTSTAMP:20260421T072235
CREATED:20240829T084703Z
LAST-MODIFIED:20240829T084703Z
UID:10020216-1726001400-1726005000@www.dancesoul.com.tw
SUMMARY:Choreography-少麟
DESCRIPTION:
URL:https://www.dancesoul.com.tw/schedule/choreography-%e5%b0%91%e9%ba%9f-12/2024-09-10/
CATEGORIES:Choreography,常態課_一般,課程
END:VEVENT
BEGIN:VEVENT
DTSTART;TZID=Asia/Shanghai:20240911T194000
DTEND;TZID=Asia/Shanghai:20240911T204000
DTSTAMP:20260421T072235
CREATED:20240829T092725Z
LAST-MODIFIED:20240829T092725Z
UID:10020224-1726083600-1726087200@www.dancesoul.com.tw
SUMMARY:Street Jazz-Larry
DESCRIPTION:
URL:https://www.dancesoul.com.tw/schedule/street-jazz-larry-19/2024-09-11/
CATEGORIES:STREET JAZZ,常態課_一般,課程
END:VEVENT
BEGIN:VEVENT
DTSTART;TZID=Asia/Shanghai:20240911T205000
DTEND;TZID=Asia/Shanghai:20240911T215000
DTSTAMP:20260421T072235
CREATED:20240829T092826Z
LAST-MODIFIED:20240829T092826Z
UID:10020228-1726087800-1726091400@www.dancesoul.com.tw
SUMMARY:Free Style-承達
DESCRIPTION:
URL:https://www.dancesoul.com.tw/schedule/free-style-%e6%89%bf%e9%81%94-42/2024-09-11/
CATEGORIES:Freestyle,常態課_一般,課程
END:VEVENT
BEGIN:VEVENT
DTSTART;TZID=Asia/Shanghai:20240912T183000
DTEND;TZID=Asia/Shanghai:20240912T193000
DTSTAMP:20260421T072235
CREATED:20240829T093006Z
LAST-MODIFIED:20240829T093006Z
UID:10020232-1726165800-1726169400@www.dancesoul.com.tw
SUMMARY:Choreography-芭比
DESCRIPTION:
URL:https://www.dancesoul.com.tw/schedule/choreography-%e8%8a%ad%e6%af%94-25/2024-09-12/
CATEGORIES:Choreography,常態課_一般,課程
END:VEVENT
BEGIN:VEVENT
DTSTART;TZID=Asia/Shanghai:20240912T194000
DTEND;TZID=Asia/Shanghai:20240912T204000
DTSTAMP:20260421T072235
CREATED:20240829T093139Z
LAST-MODIFIED:20240829T093139Z
UID:10020236-1726170000-1726173600@www.dancesoul.com.tw
SUMMARY:Hip Hop-林彤
DESCRIPTION:
URL:https://www.dancesoul.com.tw/schedule/hip-hop-%e6%9e%97%e5%bd%a4-21/2024-09-12/
CATEGORIES:Hip Hop,常態課_一般,課程
END:VEVENT
BEGIN:VEVENT
DTSTART;TZID=Asia/Shanghai:20240912T205000
DTEND;TZID=Asia/Shanghai:20240912T215000
DTSTAMP:20260421T072236
CREATED:20240829T093303Z
LAST-MODIFIED:20240829T093303Z
UID:10020240-1726174200-1726177800@www.dancesoul.com.tw
SUMMARY:Afro Style-巴豪
DESCRIPTION:
URL:https://www.dancesoul.com.tw/schedule/afro-style-%e5%b7%b4%e8%b1%aa-4/2024-09-12/
CATEGORIES:Afro Style,常態課_一般,課程
END:VEVENT
BEGIN:VEVENT
DTSTART;TZID=Asia/Shanghai:20240913T205000
DTEND;TZID=Asia/Shanghai:20240913T215000
DTSTAMP:20260421T072236
CREATED:20240829T093903Z
LAST-MODIFIED:20240829T093903Z
UID:10020253-1726260600-1726264200@www.dancesoul.com.tw
SUMMARY:Jazz Funk-鈴鐺
DESCRIPTION:
URL:https://www.dancesoul.com.tw/schedule/jazz-funk-%e9%88%b4%e9%90%ba-22/2024-09-13/
CATEGORIES:Jazz Funk,常態課_一般,課程
END:VEVENT
BEGIN:VEVENT
DTSTART;TZID=Asia/Shanghai:20240914T132000
DTEND;TZID=Asia/Shanghai:20240914T142000
DTSTAMP:20260421T072236
CREATED:20240829T072832Z
LAST-MODIFIED:20240829T072832Z
UID:10020134-1726320000-1726323600@www.dancesoul.com.tw
SUMMARY:兒童街舞-薇臻
DESCRIPTION:
URL:https://www.dancesoul.com.tw/schedule/%e5%85%92%e7%ab%a5%e8%a1%97%e8%88%9e-%e8%96%87%e8%87%bb-10/2024-09-14/
CATEGORIES:兒童街舞,兒童課,課程
END:VEVENT
BEGIN:VEVENT
DTSTART;TZID=Asia/Shanghai:20240914T143000
DTEND;TZID=Asia/Shanghai:20240914T153000
DTSTAMP:20260421T072236
CREATED:20240829T074408Z
LAST-MODIFIED:20240914T082845Z
UID:10020138-1726324200-1726327800@www.dancesoul.com.tw
SUMMARY:兒童MV-(LEE CHAE YEON - Don't)-薇臻
DESCRIPTION:
URL:https://www.dancesoul.com.tw/schedule/%e5%85%92%e7%ab%a5mv-lee-chae-yeon-dont-%e8%96%87%e8%87%bb/2024-09-14/
CATEGORIES:兒童MV,兒童課,課程
END:VEVENT
BEGIN:VEVENT
DTSTART;TZID=Asia/Shanghai:20240914T154000
DTEND;TZID=Asia/Shanghai:20240914T164000
DTSTAMP:20260421T072236
CREATED:20240829T080200Z
LAST-MODIFIED:20240829T080200Z
UID:10020142-1726328400-1726332000@www.dancesoul.com.tw
SUMMARY:兒童基礎街舞-傘傘
DESCRIPTION:
URL:https://www.dancesoul.com.tw/schedule/%e5%85%92%e7%ab%a5%e5%9f%ba%e7%a4%8e%e8%a1%97%e8%88%9e-%e5%82%98%e5%82%98-3/2024-09-14/
CATEGORIES:兒童基礎街舞,兒童課,課程
END:VEVENT
BEGIN:VEVENT
DTSTART;TZID=Asia/Shanghai:20240914T180000
DTEND;TZID=Asia/Shanghai:20240914T190000
DTSTAMP:20260421T072236
CREATED:20240829T080620Z
LAST-MODIFIED:20240829T080620Z
UID:10020150-1726336800-1726340400@www.dancesoul.com.tw
SUMMARY:Popping-紀威
DESCRIPTION:
URL:https://www.dancesoul.com.tw/schedule/popping-%e7%b4%80%e5%a8%81-44/2024-09-14/
CATEGORIES:Poppin,常態課_一般,課程
END:VEVENT
BEGIN:VEVENT
DTSTART;TZID=Asia/Shanghai:20240915T132000
DTEND;TZID=Asia/Shanghai:20240915T142000
DTSTAMP:20260421T072236
CREATED:20240829T081729Z
LAST-MODIFIED:20240829T081729Z
UID:10020163-1726406400-1726410000@www.dancesoul.com.tw
SUMMARY:兒童街舞-羿芃
DESCRIPTION:
URL:https://www.dancesoul.com.tw/schedule/%e5%85%92%e7%ab%a5%e8%a1%97%e8%88%9e-%e7%be%bf%e8%8a%83-9/2024-09-15/
CATEGORIES:兒童街舞,兒童課,課程
END:VEVENT
BEGIN:VEVENT
DTSTART;TZID=Asia/Shanghai:20240915T143000
DTEND;TZID=Asia/Shanghai:20240915T153000
DTSTAMP:20260421T072236
CREATED:20240829T083116Z
LAST-MODIFIED:20240829T083116Z
UID:10020168-1726410600-1726414200@www.dancesoul.com.tw
SUMMARY:兒童MV-(XG - SOMETHING AIN'T RIGHT)-羿芃
DESCRIPTION:
URL:https://www.dancesoul.com.tw/schedule/%e5%85%92%e7%ab%a5mv-xg-something-aint-right-%e7%be%bf%e8%8a%83/2024-09-15/
CATEGORIES:兒童MV,兒童課,課程
END:VEVENT
BEGIN:VEVENT
DTSTART;TZID=Asia/Shanghai:20240915T154000
DTEND;TZID=Asia/Shanghai:20240915T164000
DTSTAMP:20260421T072236
CREATED:20240829T083425Z
LAST-MODIFIED:20240829T083425Z
UID:10020173-1726414800-1726418400@www.dancesoul.com.tw
SUMMARY:兒童 Street Jazz-羿芃
DESCRIPTION:
URL:https://www.dancesoul.com.tw/schedule/%e5%85%92%e7%ab%a5-street-jazz-%e7%be%bf%e8%8a%83/2024-09-15/
CATEGORIES:兒童 Street Jazz,兒童課,課程
END:VEVENT
BEGIN:VEVENT
DTSTART;TZID=Asia/Shanghai:20240915T180000
DTEND;TZID=Asia/Shanghai:20240915T190000
DTSTAMP:20260421T072236
CREATED:20240829T083705Z
LAST-MODIFIED:20240829T083705Z
UID:10020183-1726423200-1726426800@www.dancesoul.com.tw
SUMMARY:Jazz Funk-姿昀
DESCRIPTION:
URL:https://www.dancesoul.com.tw/schedule/jazz-funk-%e5%a7%bf%e6%98%80-2/2024-09-15/
CATEGORIES:Jazz Funk,常態課_一般,課程
END:VEVENT
END:VCALENDAR