BEGIN:VCALENDAR
VERSION:2.0
PRODID:-//DANCE SOUL 舞魂街舞學校 - ECPv6.15.18//NONSGML v1.0//EN
CALSCALE:GREGORIAN
METHOD:PUBLISH
X-ORIGINAL-URL:https://www.dancesoul.com.tw
X-WR-CALDESC:Events for DANCE SOUL 舞魂街舞學校
REFRESH-INTERVAL;VALUE=DURATION:PT1H
X-Robots-Tag:noindex
X-PUBLISHED-TTL:PT1H
BEGIN:VTIMEZONE
TZID:Asia/Shanghai
BEGIN:STANDARD
TZOFFSETFROM:+0800
TZOFFSETTO:+0800
TZNAME:CST
DTSTART:20230101T000000
END:STANDARD
END:VTIMEZONE
BEGIN:VEVENT
DTSTART;TZID=Asia/Shanghai:20240923T205000
DTEND;TZID=Asia/Shanghai:20240923T215000
DTSTAMP:20260421T054029
CREATED:20240829T084306Z
LAST-MODIFIED:20240829T084306Z
UID:10020205-1727124600-1727128200@www.dancesoul.com.tw
SUMMARY:Jazz Funk-魏小美
DESCRIPTION:
URL:https://www.dancesoul.com.tw/schedule/jazz-funk-%e9%ad%8f%e5%b0%8f%e7%be%8e-75/2024-09-23/
CATEGORIES:Jazz Funk,常態課_一般,課程
END:VEVENT
BEGIN:VEVENT
DTSTART;TZID=Asia/Shanghai:20240924T194000
DTEND;TZID=Asia/Shanghai:20240924T204000
DTSTAMP:20260421T054029
CREATED:20240829T084517Z
LAST-MODIFIED:20240829T084517Z
UID:10020214-1727206800-1727210400@www.dancesoul.com.tw
SUMMARY:Street Jazz-Denis
DESCRIPTION:
URL:https://www.dancesoul.com.tw/schedule/street-jazz-denis-48/2024-09-24/
CATEGORIES:STREET JAZZ,常態課_一般,課程
END:VEVENT
BEGIN:VEVENT
DTSTART;TZID=Asia/Shanghai:20240924T205000
DTEND;TZID=Asia/Shanghai:20240924T215000
DTSTAMP:20260421T054029
CREATED:20240829T084703Z
LAST-MODIFIED:20240829T084703Z
UID:10020218-1727211000-1727214600@www.dancesoul.com.tw
SUMMARY:Choreography-少麟
DESCRIPTION:
URL:https://www.dancesoul.com.tw/schedule/choreography-%e5%b0%91%e9%ba%9f-12/2024-09-24/
CATEGORIES:Choreography,常態課_一般,課程
END:VEVENT
BEGIN:VEVENT
DTSTART;TZID=Asia/Shanghai:20240925T194000
DTEND;TZID=Asia/Shanghai:20240925T204000
DTSTAMP:20260421T054029
CREATED:20240829T092725Z
LAST-MODIFIED:20240829T092725Z
UID:10020226-1727293200-1727296800@www.dancesoul.com.tw
SUMMARY:Street Jazz-Larry
DESCRIPTION:
URL:https://www.dancesoul.com.tw/schedule/street-jazz-larry-19/2024-09-25/
CATEGORIES:STREET JAZZ,常態課_一般,課程
END:VEVENT
BEGIN:VEVENT
DTSTART;TZID=Asia/Shanghai:20240925T205000
DTEND;TZID=Asia/Shanghai:20240925T215000
DTSTAMP:20260421T054029
CREATED:20240829T092826Z
LAST-MODIFIED:20240829T092826Z
UID:10020230-1727297400-1727301000@www.dancesoul.com.tw
SUMMARY:Free Style-承達
DESCRIPTION:
URL:https://www.dancesoul.com.tw/schedule/free-style-%e6%89%bf%e9%81%94-42/2024-09-25/
CATEGORIES:Freestyle,常態課_一般,課程
END:VEVENT
BEGIN:VEVENT
DTSTART;TZID=Asia/Shanghai:20240926T183000
DTEND;TZID=Asia/Shanghai:20240926T193000
DTSTAMP:20260421T054029
CREATED:20240829T093006Z
LAST-MODIFIED:20240829T093006Z
UID:10020234-1727375400-1727379000@www.dancesoul.com.tw
SUMMARY:Choreography-芭比
DESCRIPTION:
URL:https://www.dancesoul.com.tw/schedule/choreography-%e8%8a%ad%e6%af%94-25/2024-09-26/
CATEGORIES:Choreography,常態課_一般,課程
END:VEVENT
BEGIN:VEVENT
DTSTART;TZID=Asia/Shanghai:20240926T194000
DTEND;TZID=Asia/Shanghai:20240926T204000
DTSTAMP:20260421T054029
CREATED:20240829T093139Z
LAST-MODIFIED:20240829T093139Z
UID:10020238-1727379600-1727383200@www.dancesoul.com.tw
SUMMARY:Hip Hop-林彤
DESCRIPTION:
URL:https://www.dancesoul.com.tw/schedule/hip-hop-%e6%9e%97%e5%bd%a4-21/2024-09-26/
CATEGORIES:Hip Hop,常態課_一般,課程
END:VEVENT
BEGIN:VEVENT
DTSTART;TZID=Asia/Shanghai:20240926T205000
DTEND;TZID=Asia/Shanghai:20240926T215000
DTSTAMP:20260421T054029
CREATED:20240829T093303Z
LAST-MODIFIED:20240829T093303Z
UID:10020242-1727383800-1727387400@www.dancesoul.com.tw
SUMMARY:Afro Style-巴豪
DESCRIPTION:
URL:https://www.dancesoul.com.tw/schedule/afro-style-%e5%b7%b4%e8%b1%aa-4/2024-09-26/
CATEGORIES:Afro Style,常態課_一般,課程
END:VEVENT
BEGIN:VEVENT
DTSTART;TZID=Asia/Shanghai:20240927T205000
DTEND;TZID=Asia/Shanghai:20240927T215000
DTSTAMP:20260421T054029
CREATED:20240829T093903Z
LAST-MODIFIED:20240829T093903Z
UID:10020255-1727470200-1727473800@www.dancesoul.com.tw
SUMMARY:Jazz Funk-鈴鐺
DESCRIPTION:
URL:https://www.dancesoul.com.tw/schedule/jazz-funk-%e9%88%b4%e9%90%ba-22/2024-09-27/
CATEGORIES:Jazz Funk,常態課_一般,課程
END:VEVENT
BEGIN:VEVENT
DTSTART;TZID=Asia/Shanghai:20240928T132000
DTEND;TZID=Asia/Shanghai:20240928T142000
DTSTAMP:20260421T054029
CREATED:20240829T072832Z
LAST-MODIFIED:20240829T072832Z
UID:10020136-1727529600-1727533200@www.dancesoul.com.tw
SUMMARY:兒童街舞-薇臻
DESCRIPTION:
URL:https://www.dancesoul.com.tw/schedule/%e5%85%92%e7%ab%a5%e8%a1%97%e8%88%9e-%e8%96%87%e8%87%bb-10/2024-09-28/
CATEGORIES:兒童街舞,兒童課,課程
END:VEVENT
BEGIN:VEVENT
DTSTART;TZID=Asia/Shanghai:20240928T143000
DTEND;TZID=Asia/Shanghai:20240928T153000
DTSTAMP:20260421T054029
CREATED:20240914T083328Z
LAST-MODIFIED:20240914T083328Z
UID:10020307-1727533800-1727537400@www.dancesoul.com.tw
SUMMARY:兒童MV-(當日Dance Soul IG限動公佈歌曲)-鈴鐺代課
DESCRIPTION:
URL:https://www.dancesoul.com.tw/schedule/%e5%85%92%e7%ab%a5mv-%e7%95%b6%e6%97%a5dance-soul-ig%e9%99%90%e5%8b%95%e5%85%ac%e4%bd%88%e6%ad%8c%e6%9b%b2-%e9%88%b4%e9%90%ba%e4%bb%a3%e8%aa%b2/
CATEGORIES:兒童MV,兒童課
END:VEVENT
BEGIN:VEVENT
DTSTART;TZID=Asia/Shanghai:20240928T154000
DTEND;TZID=Asia/Shanghai:20240928T164000
DTSTAMP:20260421T054029
CREATED:20240829T080200Z
LAST-MODIFIED:20240829T080200Z
UID:10020144-1727538000-1727541600@www.dancesoul.com.tw
SUMMARY:兒童基礎街舞-傘傘
DESCRIPTION:
URL:https://www.dancesoul.com.tw/schedule/%e5%85%92%e7%ab%a5%e5%9f%ba%e7%a4%8e%e8%a1%97%e8%88%9e-%e5%82%98%e5%82%98-3/2024-09-28/
CATEGORIES:兒童基礎街舞,兒童課,課程
END:VEVENT
BEGIN:VEVENT
DTSTART;TZID=Asia/Shanghai:20240928T180000
DTEND;TZID=Asia/Shanghai:20240928T190000
DTSTAMP:20260421T054029
CREATED:20240829T080620Z
LAST-MODIFIED:20240829T080620Z
UID:10020152-1727546400-1727550000@www.dancesoul.com.tw
SUMMARY:Popping-紀威
DESCRIPTION:
URL:https://www.dancesoul.com.tw/schedule/popping-%e7%b4%80%e5%a8%81-44/2024-09-28/
CATEGORIES:Poppin,常態課_一般,課程
END:VEVENT
BEGIN:VEVENT
DTSTART;TZID=Asia/Shanghai:20240929T132000
DTEND;TZID=Asia/Shanghai:20240929T142000
DTSTAMP:20260421T054029
CREATED:20240829T081729Z
LAST-MODIFIED:20240829T081729Z
UID:10020165-1727616000-1727619600@www.dancesoul.com.tw
SUMMARY:兒童街舞-羿芃
DESCRIPTION:
URL:https://www.dancesoul.com.tw/schedule/%e5%85%92%e7%ab%a5%e8%a1%97%e8%88%9e-%e7%be%bf%e8%8a%83-9/2024-09-29/
CATEGORIES:兒童街舞,兒童課,課程
END:VEVENT
BEGIN:VEVENT
DTSTART;TZID=Asia/Shanghai:20240929T143000
DTEND;TZID=Asia/Shanghai:20240929T153000
DTSTAMP:20260421T054029
CREATED:20240829T083116Z
LAST-MODIFIED:20240829T083116Z
UID:10020170-1727620200-1727623800@www.dancesoul.com.tw
SUMMARY:兒童MV-(XG - SOMETHING AIN'T RIGHT)-羿芃
DESCRIPTION:
URL:https://www.dancesoul.com.tw/schedule/%e5%85%92%e7%ab%a5mv-xg-something-aint-right-%e7%be%bf%e8%8a%83/2024-09-29/
CATEGORIES:兒童MV,兒童課,課程
END:VEVENT
BEGIN:VEVENT
DTSTART;TZID=Asia/Shanghai:20240929T154000
DTEND;TZID=Asia/Shanghai:20240929T164000
DTSTAMP:20260421T054029
CREATED:20240829T083425Z
LAST-MODIFIED:20240829T083425Z
UID:10020175-1727624400-1727628000@www.dancesoul.com.tw
SUMMARY:兒童 Street Jazz-羿芃
DESCRIPTION:
URL:https://www.dancesoul.com.tw/schedule/%e5%85%92%e7%ab%a5-street-jazz-%e7%be%bf%e8%8a%83/2024-09-29/
CATEGORIES:兒童 Street Jazz,兒童課,課程
END:VEVENT
BEGIN:VEVENT
DTSTART;TZID=Asia/Shanghai:20240929T180000
DTEND;TZID=Asia/Shanghai:20240929T190000
DTSTAMP:20260421T054029
CREATED:20240829T083705Z
LAST-MODIFIED:20240829T083705Z
UID:10020185-1727632800-1727636400@www.dancesoul.com.tw
SUMMARY:Jazz Funk-姿昀
DESCRIPTION:
URL:https://www.dancesoul.com.tw/schedule/jazz-funk-%e5%a7%bf%e6%98%80-2/2024-09-29/
CATEGORIES:Jazz Funk,常態課_一般,課程
END:VEVENT
END:VCALENDAR