BEGIN:VCALENDAR
VERSION:2.0
PRODID:-//DANCE SOUL 舞魂街舞學校 - ECPv6.15.18//NONSGML v1.0//EN
CALSCALE:GREGORIAN
METHOD:PUBLISH
X-ORIGINAL-URL:https://www.dancesoul.com.tw
X-WR-CALDESC:Events for DANCE SOUL 舞魂街舞學校
REFRESH-INTERVAL;VALUE=DURATION:PT1H
X-Robots-Tag:noindex
X-PUBLISHED-TTL:PT1H
BEGIN:VTIMEZONE
TZID:Asia/Shanghai
BEGIN:STANDARD
TZOFFSETFROM:+0800
TZOFFSETTO:+0800
TZNAME:CST
DTSTART:20230101T000000
END:STANDARD
END:VTIMEZONE
BEGIN:VEVENT
DTSTART;TZID=Asia/Shanghai:20241014T205000
DTEND;TZID=Asia/Shanghai:20241014T215000
DTSTAMP:20260421T072136
CREATED:20240924T084356Z
LAST-MODIFIED:20240924T084356Z
UID:10020367-1728939000-1728942600@www.dancesoul.com.tw
SUMMARY:Jazz Funk-魏小美
DESCRIPTION:
URL:https://www.dancesoul.com.tw/schedule/jazz-funk-%e9%ad%8f%e5%b0%8f%e7%be%8e-76/2024-10-14/
CATEGORIES:Jazz Funk,常態課_一般,課程
END:VEVENT
BEGIN:VEVENT
DTSTART;TZID=Asia/Shanghai:20241015T194000
DTEND;TZID=Asia/Shanghai:20241015T204000
DTSTAMP:20260421T072136
CREATED:20240924T084909Z
LAST-MODIFIED:20240924T084909Z
UID:10020377-1729021200-1729024800@www.dancesoul.com.tw
SUMMARY:Street Jazz-Denis
DESCRIPTION:
URL:https://www.dancesoul.com.tw/schedule/street-jazz-denis-49/2024-10-15/
CATEGORIES:STREET JAZZ,常態課_一般,課程
END:VEVENT
BEGIN:VEVENT
DTSTART;TZID=Asia/Shanghai:20241016T194000
DTEND;TZID=Asia/Shanghai:20241016T204000
DTSTAMP:20260421T072136
CREATED:20240924T085245Z
LAST-MODIFIED:20240924T085245Z
UID:10020387-1729107600-1729111200@www.dancesoul.com.tw
SUMMARY:Street Jazz-Larry
DESCRIPTION:
URL:https://www.dancesoul.com.tw/schedule/street-jazz-larry-20/2024-10-16/
CATEGORIES:STREET JAZZ,常態課_一般,課程
END:VEVENT
BEGIN:VEVENT
DTSTART;TZID=Asia/Shanghai:20241016T205000
DTEND;TZID=Asia/Shanghai:20241016T215000
DTSTAMP:20260421T072136
CREATED:20240924T085420Z
LAST-MODIFIED:20240924T085420Z
UID:10020392-1729111800-1729115400@www.dancesoul.com.tw
SUMMARY:Free Style-承達
DESCRIPTION:
URL:https://www.dancesoul.com.tw/schedule/free-style-%e6%89%bf%e9%81%94-43/2024-10-16/
CATEGORIES:Freestyle,常態課_一般,課程
END:VEVENT
BEGIN:VEVENT
DTSTART;TZID=Asia/Shanghai:20241017T183000
DTEND;TZID=Asia/Shanghai:20241017T193000
DTSTAMP:20260421T072137
CREATED:20240924T085521Z
LAST-MODIFIED:20240924T085521Z
UID:10020397-1729189800-1729193400@www.dancesoul.com.tw
SUMMARY:Choreography-芭比
DESCRIPTION:
URL:https://www.dancesoul.com.tw/schedule/choreography-%e8%8a%ad%e6%af%94-26/2024-10-17/
CATEGORIES:Choreography,常態課_一般,課程
END:VEVENT
BEGIN:VEVENT
DTSTART;TZID=Asia/Shanghai:20241017T194000
DTEND;TZID=Asia/Shanghai:20241017T204000
DTSTAMP:20260421T072137
CREATED:20240924T085656Z
LAST-MODIFIED:20240924T085656Z
UID:10020402-1729194000-1729197600@www.dancesoul.com.tw
SUMMARY:Hip Hop-林彤
DESCRIPTION:
URL:https://www.dancesoul.com.tw/schedule/hip-hop-%e6%9e%97%e5%bd%a4-22/2024-10-17/
CATEGORIES:Hip Hop,常態課_一般,課程
END:VEVENT
BEGIN:VEVENT
DTSTART;TZID=Asia/Shanghai:20241017T205000
DTEND;TZID=Asia/Shanghai:20241017T215000
DTSTAMP:20260421T072137
CREATED:20240924T085817Z
LAST-MODIFIED:20240924T085817Z
UID:10020407-1729198200-1729201800@www.dancesoul.com.tw
SUMMARY:Afro Style-巴豪
DESCRIPTION:
URL:https://www.dancesoul.com.tw/schedule/afro-style-%e5%b7%b4%e8%b1%aa-5/2024-10-17/
CATEGORIES:Afro Style,常態課_一般,課程
END:VEVENT
BEGIN:VEVENT
DTSTART;TZID=Asia/Shanghai:20241018T205000
DTEND;TZID=Asia/Shanghai:20241018T215000
DTSTAMP:20260421T072137
CREATED:20240924T093551Z
LAST-MODIFIED:20240924T093551Z
UID:10020420-1729284600-1729288200@www.dancesoul.com.tw
SUMMARY:Jazz Funk-鈴鐺
DESCRIPTION:
URL:https://www.dancesoul.com.tw/schedule/jazz-funk-%e9%88%b4%e9%90%ba-23/2024-10-18/
CATEGORIES:Jazz Funk,常態課_一般,課程
END:VEVENT
BEGIN:VEVENT
DTSTART;TZID=Asia/Shanghai:20241019T132000
DTEND;TZID=Asia/Shanghai:20241019T142000
DTSTAMP:20260421T072137
CREATED:20240924T081208Z
LAST-MODIFIED:20240924T081208Z
UID:10020310-1729344000-1729347600@www.dancesoul.com.tw
SUMMARY:兒童街舞-薇臻
DESCRIPTION:
URL:https://www.dancesoul.com.tw/schedule/%e5%85%92%e7%ab%a5%e8%a1%97%e8%88%9e-%e8%96%87%e8%87%bb-11/2024-10-19/
CATEGORIES:兒童街舞,兒童課,課程
END:VEVENT
BEGIN:VEVENT
DTSTART;TZID=Asia/Shanghai:20241019T143000
DTEND;TZID=Asia/Shanghai:20241019T153000
DTSTAMP:20260421T072137
CREATED:20240924T081611Z
LAST-MODIFIED:20240924T081611Z
UID:10020314-1729348200-1729351800@www.dancesoul.com.tw
SUMMARY:兒童MV-(MEOVV - MEOW)-薇臻
DESCRIPTION:
URL:https://www.dancesoul.com.tw/schedule/%e5%85%92%e7%ab%a5mv-meovv-meow-%e8%96%87%e8%87%bb/2024-10-19/
CATEGORIES:兒童MV,兒童課,課程
END:VEVENT
BEGIN:VEVENT
DTSTART;TZID=Asia/Shanghai:20241019T154000
DTEND;TZID=Asia/Shanghai:20241019T164000
DTSTAMP:20260421T072137
CREATED:20240924T081744Z
LAST-MODIFIED:20240924T081744Z
UID:10020318-1729352400-1729356000@www.dancesoul.com.tw
SUMMARY:兒童基礎街舞-傘傘
DESCRIPTION:
URL:https://www.dancesoul.com.tw/schedule/%e5%85%92%e7%ab%a5%e5%9f%ba%e7%a4%8e%e8%a1%97%e8%88%9e-%e5%82%98%e5%82%98-4/2024-10-19/
CATEGORIES:兒童基礎街舞,兒童課,課程
END:VEVENT
BEGIN:VEVENT
DTSTART;TZID=Asia/Shanghai:20241019T180000
DTEND;TZID=Asia/Shanghai:20241019T190000
DTSTAMP:20260421T072137
CREATED:20240924T082012Z
LAST-MODIFIED:20240924T082012Z
UID:10020326-1729360800-1729364400@www.dancesoul.com.tw
SUMMARY:Popping-紀威
DESCRIPTION:
URL:https://www.dancesoul.com.tw/schedule/popping-%e7%b4%80%e5%a8%81-45/2024-10-19/
CATEGORIES:Poppin,常態課_一般,課程
END:VEVENT
BEGIN:VEVENT
DTSTART;TZID=Asia/Shanghai:20241020T132000
DTEND;TZID=Asia/Shanghai:20241020T142000
DTSTAMP:20260421T072137
CREATED:20240924T082337Z
LAST-MODIFIED:20240924T082337Z
UID:10020338-1729430400-1729434000@www.dancesoul.com.tw
SUMMARY:兒童街舞-羿芃
DESCRIPTION:
URL:https://www.dancesoul.com.tw/schedule/%e5%85%92%e7%ab%a5%e8%a1%97%e8%88%9e-%e7%be%bf%e8%8a%83-10/2024-10-20/
CATEGORIES:兒童街舞,兒童課,課程
END:VEVENT
BEGIN:VEVENT
DTSTART;TZID=Asia/Shanghai:20241020T143000
DTEND;TZID=Asia/Shanghai:20241020T153000
DTSTAMP:20260421T072137
CREATED:20240924T082525Z
LAST-MODIFIED:20240924T082525Z
UID:10020342-1729434600-1729438200@www.dancesoul.com.tw
SUMMARY:兒童MV-(LE SSERAFIM - CRAZY)-羿芃
DESCRIPTION:
URL:https://www.dancesoul.com.tw/schedule/%e5%85%92%e7%ab%a5mv-le-sserafim-crazy-%e7%be%bf%e8%8a%83/2024-10-20/
CATEGORIES:兒童MV,兒童課,課程
END:VEVENT
BEGIN:VEVENT
DTSTART;TZID=Asia/Shanghai:20241020T154000
DTEND;TZID=Asia/Shanghai:20241020T164000
DTSTAMP:20260421T072137
CREATED:20240924T082647Z
LAST-MODIFIED:20240924T082647Z
UID:10020346-1729438800-1729442400@www.dancesoul.com.tw
SUMMARY:兒童 Street Jazz-傘傘
DESCRIPTION:
URL:https://www.dancesoul.com.tw/schedule/%e5%85%92%e7%ab%a5-street-jazz-%e5%82%98%e5%82%98-3/2024-10-20/
CATEGORIES:兒童 Street Jazz,兒童課,課程
END:VEVENT
END:VCALENDAR