BEGIN:VCALENDAR
VERSION:2.0
PRODID:-//DANCE SOUL 舞魂街舞學校 - ECPv6.15.18//NONSGML v1.0//EN
CALSCALE:GREGORIAN
METHOD:PUBLISH
X-WR-CALNAME:DANCE SOUL 舞魂街舞學校
X-ORIGINAL-URL:https://www.dancesoul.com.tw
X-WR-CALDESC:Events for DANCE SOUL 舞魂街舞學校
REFRESH-INTERVAL;VALUE=DURATION:PT1H
X-Robots-Tag:noindex
X-PUBLISHED-TTL:PT1H
BEGIN:VTIMEZONE
TZID:Asia/Shanghai
BEGIN:STANDARD
TZOFFSETFROM:+0800
TZOFFSETTO:+0800
TZNAME:CST
DTSTART:20230101T000000
END:STANDARD
END:VTIMEZONE
BEGIN:VEVENT
DTSTART;TZID=Asia/Shanghai:20241021T205000
DTEND;TZID=Asia/Shanghai:20241021T215000
DTSTAMP:20260421T072856
CREATED:20240924T084356Z
LAST-MODIFIED:20240924T084356Z
UID:10020368-1729543800-1729547400@www.dancesoul.com.tw
SUMMARY:Jazz Funk-魏小美
DESCRIPTION:
URL:https://www.dancesoul.com.tw/schedule/jazz-funk-%e9%ad%8f%e5%b0%8f%e7%be%8e-76/2024-10-21/
CATEGORIES:Jazz Funk,常態課_一般,課程
END:VEVENT
BEGIN:VEVENT
DTSTART;TZID=Asia/Shanghai:20241022T194000
DTEND;TZID=Asia/Shanghai:20241022T204000
DTSTAMP:20260421T072856
CREATED:20240924T084909Z
LAST-MODIFIED:20240924T084909Z
UID:10020378-1729626000-1729629600@www.dancesoul.com.tw
SUMMARY:Street Jazz-Denis
DESCRIPTION:
URL:https://www.dancesoul.com.tw/schedule/street-jazz-denis-49/2024-10-22/
CATEGORIES:STREET JAZZ,常態課_一般,課程
END:VEVENT
BEGIN:VEVENT
DTSTART;TZID=Asia/Shanghai:20241023T194000
DTEND;TZID=Asia/Shanghai:20241023T204000
DTSTAMP:20260421T072856
CREATED:20240924T085245Z
LAST-MODIFIED:20240924T085245Z
UID:10020388-1729712400-1729716000@www.dancesoul.com.tw
SUMMARY:Street Jazz-Larry
DESCRIPTION:
URL:https://www.dancesoul.com.tw/schedule/street-jazz-larry-20/2024-10-23/
CATEGORIES:STREET JAZZ,常態課_一般,課程
END:VEVENT
BEGIN:VEVENT
DTSTART;TZID=Asia/Shanghai:20241023T205000
DTEND;TZID=Asia/Shanghai:20241023T215000
DTSTAMP:20260421T072856
CREATED:20240924T085420Z
LAST-MODIFIED:20240924T085420Z
UID:10020393-1729716600-1729720200@www.dancesoul.com.tw
SUMMARY:Free Style-承達
DESCRIPTION:
URL:https://www.dancesoul.com.tw/schedule/free-style-%e6%89%bf%e9%81%94-43/2024-10-23/
CATEGORIES:Freestyle,常態課_一般,課程
END:VEVENT
BEGIN:VEVENT
DTSTART;TZID=Asia/Shanghai:20241024T183000
DTEND;TZID=Asia/Shanghai:20241024T193000
DTSTAMP:20260421T072856
CREATED:20240924T085521Z
LAST-MODIFIED:20240924T085521Z
UID:10020398-1729794600-1729798200@www.dancesoul.com.tw
SUMMARY:Choreography-芭比
DESCRIPTION:
URL:https://www.dancesoul.com.tw/schedule/choreography-%e8%8a%ad%e6%af%94-26/2024-10-24/
CATEGORIES:Choreography,常態課_一般,課程
END:VEVENT
BEGIN:VEVENT
DTSTART;TZID=Asia/Shanghai:20241024T194000
DTEND;TZID=Asia/Shanghai:20241024T204000
DTSTAMP:20260421T072856
CREATED:20240924T085656Z
LAST-MODIFIED:20240924T085656Z
UID:10020403-1729798800-1729802400@www.dancesoul.com.tw
SUMMARY:Hip Hop-林彤
DESCRIPTION:
URL:https://www.dancesoul.com.tw/schedule/hip-hop-%e6%9e%97%e5%bd%a4-22/2024-10-24/
CATEGORIES:Hip Hop,常態課_一般,課程
END:VEVENT
BEGIN:VEVENT
DTSTART;TZID=Asia/Shanghai:20241024T205000
DTEND;TZID=Asia/Shanghai:20241024T215000
DTSTAMP:20260421T072856
CREATED:20240924T085817Z
LAST-MODIFIED:20240924T085817Z
UID:10020408-1729803000-1729806600@www.dancesoul.com.tw
SUMMARY:Afro Style-巴豪
DESCRIPTION:
URL:https://www.dancesoul.com.tw/schedule/afro-style-%e5%b7%b4%e8%b1%aa-5/2024-10-24/
CATEGORIES:Afro Style,常態課_一般,課程
END:VEVENT
BEGIN:VEVENT
DTSTART;TZID=Asia/Shanghai:20241025T205000
DTEND;TZID=Asia/Shanghai:20241025T215000
DTSTAMP:20260421T072856
CREATED:20240924T093551Z
LAST-MODIFIED:20240924T093551Z
UID:10020421-1729889400-1729893000@www.dancesoul.com.tw
SUMMARY:Jazz Funk-鈴鐺
DESCRIPTION:
URL:https://www.dancesoul.com.tw/schedule/jazz-funk-%e9%88%b4%e9%90%ba-23/2024-10-25/
CATEGORIES:Jazz Funk,常態課_一般,課程
END:VEVENT
BEGIN:VEVENT
DTSTART;TZID=Asia/Shanghai:20241026T132000
DTEND;TZID=Asia/Shanghai:20241026T142000
DTSTAMP:20260421T072856
CREATED:20240924T081208Z
LAST-MODIFIED:20240924T081208Z
UID:10020311-1729948800-1729952400@www.dancesoul.com.tw
SUMMARY:兒童街舞-薇臻
DESCRIPTION:
URL:https://www.dancesoul.com.tw/schedule/%e5%85%92%e7%ab%a5%e8%a1%97%e8%88%9e-%e8%96%87%e8%87%bb-11/2024-10-26/
CATEGORIES:兒童街舞,兒童課,課程
END:VEVENT
BEGIN:VEVENT
DTSTART;TZID=Asia/Shanghai:20241026T143000
DTEND;TZID=Asia/Shanghai:20241026T153000
DTSTAMP:20260421T072856
CREATED:20240924T081611Z
LAST-MODIFIED:20240924T081611Z
UID:10020315-1729953000-1729956600@www.dancesoul.com.tw
SUMMARY:兒童MV-(MEOVV - MEOW)-薇臻
DESCRIPTION:
URL:https://www.dancesoul.com.tw/schedule/%e5%85%92%e7%ab%a5mv-meovv-meow-%e8%96%87%e8%87%bb/2024-10-26/
CATEGORIES:兒童MV,兒童課,課程
END:VEVENT
BEGIN:VEVENT
DTSTART;TZID=Asia/Shanghai:20241026T154000
DTEND;TZID=Asia/Shanghai:20241026T164000
DTSTAMP:20260421T072856
CREATED:20240924T081744Z
LAST-MODIFIED:20240924T081744Z
UID:10020319-1729957200-1729960800@www.dancesoul.com.tw
SUMMARY:兒童基礎街舞-傘傘
DESCRIPTION:
URL:https://www.dancesoul.com.tw/schedule/%e5%85%92%e7%ab%a5%e5%9f%ba%e7%a4%8e%e8%a1%97%e8%88%9e-%e5%82%98%e5%82%98-4/2024-10-26/
CATEGORIES:兒童基礎街舞,兒童課,課程
END:VEVENT
BEGIN:VEVENT
DTSTART;TZID=Asia/Shanghai:20241026T180000
DTEND;TZID=Asia/Shanghai:20241026T190000
DTSTAMP:20260421T072856
CREATED:20240924T082012Z
LAST-MODIFIED:20240924T082012Z
UID:10020327-1729965600-1729969200@www.dancesoul.com.tw
SUMMARY:Popping-紀威
DESCRIPTION:
URL:https://www.dancesoul.com.tw/schedule/popping-%e7%b4%80%e5%a8%81-45/2024-10-26/
CATEGORIES:Poppin,常態課_一般,課程
END:VEVENT
BEGIN:VEVENT
DTSTART;TZID=Asia/Shanghai:20241027T132000
DTEND;TZID=Asia/Shanghai:20241027T142000
DTSTAMP:20260421T072856
CREATED:20240924T082337Z
LAST-MODIFIED:20240924T082337Z
UID:10020339-1730035200-1730038800@www.dancesoul.com.tw
SUMMARY:兒童街舞-羿芃
DESCRIPTION:
URL:https://www.dancesoul.com.tw/schedule/%e5%85%92%e7%ab%a5%e8%a1%97%e8%88%9e-%e7%be%bf%e8%8a%83-10/2024-10-27/
CATEGORIES:兒童街舞,兒童課,課程
END:VEVENT
BEGIN:VEVENT
DTSTART;TZID=Asia/Shanghai:20241027T143000
DTEND;TZID=Asia/Shanghai:20241027T153000
DTSTAMP:20260421T072856
CREATED:20240924T082525Z
LAST-MODIFIED:20240924T082525Z
UID:10020343-1730039400-1730043000@www.dancesoul.com.tw
SUMMARY:兒童MV-(LE SSERAFIM - CRAZY)-羿芃
DESCRIPTION:
URL:https://www.dancesoul.com.tw/schedule/%e5%85%92%e7%ab%a5mv-le-sserafim-crazy-%e7%be%bf%e8%8a%83/2024-10-27/
CATEGORIES:兒童MV,兒童課,課程
END:VEVENT
BEGIN:VEVENT
DTSTART;TZID=Asia/Shanghai:20241027T154000
DTEND;TZID=Asia/Shanghai:20241027T164000
DTSTAMP:20260421T072856
CREATED:20240924T082647Z
LAST-MODIFIED:20240924T082647Z
UID:10020347-1730043600-1730047200@www.dancesoul.com.tw
SUMMARY:兒童 Street Jazz-傘傘
DESCRIPTION:
URL:https://www.dancesoul.com.tw/schedule/%e5%85%92%e7%ab%a5-street-jazz-%e5%82%98%e5%82%98-3/2024-10-27/
CATEGORIES:兒童 Street Jazz,兒童課,課程
END:VEVENT
BEGIN:VEVENT
DTSTART;TZID=Asia/Shanghai:20241027T180000
DTEND;TZID=Asia/Shanghai:20241027T190000
DTSTAMP:20260421T072856
CREATED:20240924T083216Z
LAST-MODIFIED:20240924T083216Z
UID:10020358-1730052000-1730055600@www.dancesoul.com.tw
SUMMARY:Jazz Funk-姿昀
DESCRIPTION:
URL:https://www.dancesoul.com.tw/schedule/jazz-funk-%e5%a7%bf%e6%98%80-4/
CATEGORIES:Jazz Funk,常態課_一般,課程
END:VEVENT
END:VCALENDAR