BEGIN:VCALENDAR
VERSION:2.0
PRODID:-//DANCE SOUL 舞魂街舞學校 - ECPv6.15.18//NONSGML v1.0//EN
CALSCALE:GREGORIAN
METHOD:PUBLISH
X-WR-CALNAME:DANCE SOUL 舞魂街舞學校
X-ORIGINAL-URL:https://www.dancesoul.com.tw
X-WR-CALDESC:Events for DANCE SOUL 舞魂街舞學校
REFRESH-INTERVAL;VALUE=DURATION:PT1H
X-Robots-Tag:noindex
X-PUBLISHED-TTL:PT1H
BEGIN:VTIMEZONE
TZID:Asia/Shanghai
BEGIN:STANDARD
TZOFFSETFROM:+0800
TZOFFSETTO:+0800
TZNAME:CST
DTSTART:20240101T000000
END:STANDARD
END:VTIMEZONE
BEGIN:VEVENT
DTSTART;TZID=Asia/Shanghai:20250113T203000
DTEND;TZID=Asia/Shanghai:20250113T213000
DTSTAMP:20260425T222231
CREATED:20241230T071800Z
LAST-MODIFIED:20241230T071800Z
UID:10020768-1736800200-1736803800@www.dancesoul.com.tw
SUMMARY:Jazz Funk-魏小美
DESCRIPTION:
URL:https://www.dancesoul.com.tw/schedule/jazz-funk-%e9%ad%8f%e5%b0%8f%e7%be%8e-79/2025-01-13/
CATEGORIES:Jazz Funk,Jazz Funk 初級,Waacking 初級,常態課_一般,課程
END:VEVENT
BEGIN:VEVENT
DTSTART;TZID=Asia/Shanghai:20250114T192500
DTEND;TZID=Asia/Shanghai:20250114T202500
DTSTAMP:20260425T222231
CREATED:20241230T081518Z
LAST-MODIFIED:20241230T081518Z
UID:10020827-1736882700-1736886300@www.dancesoul.com.tw
SUMMARY:Street Jazz-Denis
DESCRIPTION:
URL:https://www.dancesoul.com.tw/schedule/street-jazz-denis-52/2025-01-14/
CATEGORIES:STREET JAZZ,課程
END:VEVENT
BEGIN:VEVENT
DTSTART;TZID=Asia/Shanghai:20250114T213500
DTEND;TZID=Asia/Shanghai:20250114T223500
DTSTAMP:20260425T222231
CREATED:20241230T081904Z
LAST-MODIFIED:20241231T031327Z
UID:10020938-1736890500-1736894100@www.dancesoul.com.tw
SUMMARY:Krump-Coffee
DESCRIPTION:
URL:https://www.dancesoul.com.tw/schedule/krump-coffee/2025-01-14/
CATEGORIES:Krump,常態課_一般,課程
END:VEVENT
BEGIN:VEVENT
DTSTART;TZID=Asia/Shanghai:20250115T192500
DTEND;TZID=Asia/Shanghai:20250115T202500
DTSTAMP:20260425T222231
CREATED:20241230T082213Z
LAST-MODIFIED:20241230T082213Z
UID:10020841-1736969100-1736972700@www.dancesoul.com.tw
SUMMARY:Street Jazz-Larry
DESCRIPTION:
URL:https://www.dancesoul.com.tw/schedule/street-jazz-larry-23/2025-01-15/
CATEGORIES:STREET JAZZ,常態課_一般,課程
END:VEVENT
BEGIN:VEVENT
DTSTART;TZID=Asia/Shanghai:20250115T203000
DTEND;TZID=Asia/Shanghai:20250115T213000
DTSTAMP:20260425T222231
CREATED:20241230T082328Z
LAST-MODIFIED:20241230T082328Z
UID:10020846-1736973000-1736976600@www.dancesoul.com.tw
SUMMARY:Free Style-承達
DESCRIPTION:
URL:https://www.dancesoul.com.tw/schedule/free-style-%e6%89%bf%e9%81%94-46/2025-01-15/
CATEGORIES:Freestyle,常態課_一般,課程
END:VEVENT
BEGIN:VEVENT
DTSTART;TZID=Asia/Shanghai:20250116T182000
DTEND;TZID=Asia/Shanghai:20250116T190000
DTSTAMP:20260425T222231
CREATED:20241230T082609Z
LAST-MODIFIED:20241230T082609Z
UID:10020850-1737051600-1737054000@www.dancesoul.com.tw
SUMMARY:Jazz Funk-瑜庭
DESCRIPTION:
URL:https://www.dancesoul.com.tw/schedule/jazz-funk-%e7%91%9c%e5%ba%ad-2/2025-01-16/
CATEGORIES:Jazz Funk,Jazz Funk 初級,Waacking 初級,常態課_一般,課程
END:VEVENT
BEGIN:VEVENT
DTSTART;TZID=Asia/Shanghai:20250116T192500
DTEND;TZID=Asia/Shanghai:20250116T202500
DTSTAMP:20260425T222231
CREATED:20241230T082740Z
LAST-MODIFIED:20241230T082740Z
UID:10020854-1737055500-1737059100@www.dancesoul.com.tw
SUMMARY:Choreography-芭比
DESCRIPTION:
URL:https://www.dancesoul.com.tw/schedule/choreography-%e8%8a%ad%e6%af%94-29/2025-01-16/
CATEGORIES:Choreography,常態課_一般,課程
END:VEVENT
BEGIN:VEVENT
DTSTART;TZID=Asia/Shanghai:20250116T203000
DTEND;TZID=Asia/Shanghai:20250116T213000
DTSTAMP:20260425T222231
CREATED:20241230T082850Z
LAST-MODIFIED:20241230T082850Z
UID:10020858-1737059400-1737063000@www.dancesoul.com.tw
SUMMARY:Hip Hop-林彤
DESCRIPTION:
URL:https://www.dancesoul.com.tw/schedule/hip-hop-%e6%9e%97%e5%bd%a4-25/2025-01-16/
CATEGORIES:Hip Hop,常態課_一般,課程
END:VEVENT
BEGIN:VEVENT
DTSTART;TZID=Asia/Shanghai:20250116T213500
DTEND;TZID=Asia/Shanghai:20250116T223500
DTSTAMP:20260425T222231
CREATED:20241230T083105Z
LAST-MODIFIED:20241230T083152Z
UID:10020866-1737063300-1737066900@www.dancesoul.com.tw
SUMMARY:Choreography-巴豪
DESCRIPTION:
URL:https://www.dancesoul.com.tw/schedule/choreography-%e5%b7%b4%e8%b1%aa/2025-01-16/
CATEGORIES:Choreography,常態課_一般,課程
END:VEVENT
BEGIN:VEVENT
DTSTART;TZID=Asia/Shanghai:20250117T203000
DTEND;TZID=Asia/Shanghai:20250117T213000
DTSTAMP:20260425T222231
CREATED:20241230T083806Z
LAST-MODIFIED:20241230T083806Z
UID:10020929-1737145800-1737149400@www.dancesoul.com.tw
SUMMARY:Jazz Funk-鈴鐺
DESCRIPTION:
URL:https://www.dancesoul.com.tw/schedule/jazz-funk-%e9%88%b4%e9%90%ba-26/2025-01-17/
CATEGORIES:Jazz Funk,Jazz Funk 初級,Waacking 初級,常態課_一般,課程
END:VEVENT
BEGIN:VEVENT
DTSTART;TZID=Asia/Shanghai:20250118T132000
DTEND;TZID=Asia/Shanghai:20250118T142000
DTSTAMP:20260425T222231
CREATED:20241230T071935Z
LAST-MODIFIED:20241230T071935Z
UID:10020773-1737206400-1737210000@www.dancesoul.com.tw
SUMMARY:兒童街舞-薇臻
DESCRIPTION:
URL:https://www.dancesoul.com.tw/schedule/%e5%85%92%e7%ab%a5%e8%a1%97%e8%88%9e-%e8%96%87%e8%87%bb-14/2025-01-18/
CATEGORIES:Popping 初級,兒童街舞,兒童課,課程
END:VEVENT
BEGIN:VEVENT
DTSTART;TZID=Asia/Shanghai:20250118T143000
DTEND;TZID=Asia/Shanghai:20250118T153000
DTSTAMP:20260425T222231
CREATED:20241230T072047Z
LAST-MODIFIED:20241230T072047Z
UID:10020777-1737210600-1737214200@www.dancesoul.com.tw
SUMMARY:兒童MV-(MEOVV - BODY)-薇臻
DESCRIPTION:
URL:https://www.dancesoul.com.tw/schedule/%e5%85%92%e7%ab%a5mv-meovv-body-%e8%96%87%e8%87%bb/2025-01-18/
CATEGORIES:Popping 初級,兒童MV,兒童課,課程
END:VEVENT
BEGIN:VEVENT
DTSTART;TZID=Asia/Shanghai:20250118T154000
DTEND;TZID=Asia/Shanghai:20250118T164000
DTSTAMP:20260425T222231
CREATED:20241230T072353Z
LAST-MODIFIED:20241230T072353Z
UID:10020781-1737214800-1737218400@www.dancesoul.com.tw
SUMMARY:兒童Krump-Coffee
DESCRIPTION:
URL:https://www.dancesoul.com.tw/schedule/%e5%85%92%e7%ab%a5krump-coffee/2025-01-18/
CATEGORIES:Popping 初級,兒童Krump,兒童課,課程
END:VEVENT
BEGIN:VEVENT
DTSTART;TZID=Asia/Shanghai:20250118T182000
DTEND;TZID=Asia/Shanghai:20250118T192000
DTSTAMP:20260425T222231
CREATED:20241230T072732Z
LAST-MODIFIED:20241230T072732Z
UID:10020789-1737224400-1737228000@www.dancesoul.com.tw
SUMMARY:Popping-紀威
DESCRIPTION:
URL:https://www.dancesoul.com.tw/schedule/popping-%e7%b4%80%e5%a8%81-48/2025-01-18/
CATEGORIES:Poppin,常態課_一般,課程
END:VEVENT
BEGIN:VEVENT
DTSTART;TZID=Asia/Shanghai:20250119T132000
DTEND;TZID=Asia/Shanghai:20250119T142000
DTSTAMP:20260425T222231
CREATED:20241230T073118Z
LAST-MODIFIED:20241230T073118Z
UID:10020801-1737292800-1737296400@www.dancesoul.com.tw
SUMMARY:兒童街舞-羿芃
DESCRIPTION:
URL:https://www.dancesoul.com.tw/schedule/%e5%85%92%e7%ab%a5%e8%a1%97%e8%88%9e-%e7%be%bf%e8%8a%83-13/2025-01-19/
CATEGORIES:Popping 初級,兒童街舞,兒童課,課程
END:VEVENT
BEGIN:VEVENT
DTSTART;TZID=Asia/Shanghai:20250119T143000
DTEND;TZID=Asia/Shanghai:20250119T153000
DTSTAMP:20260425T222231
CREATED:20241230T073451Z
LAST-MODIFIED:20241230T073451Z
UID:10020805-1737297000-1737300600@www.dancesoul.com.tw
SUMMARY:兒童MV-(TWICE - Strategy)-羿芃
DESCRIPTION:
URL:https://www.dancesoul.com.tw/schedule/%e5%85%92%e7%ab%a5mv-twice-strategy-%e7%be%bf%e8%8a%83/2025-01-19/
CATEGORIES:Popping 初級,兒童MV,兒童課,課程
END:VEVENT
BEGIN:VEVENT
DTSTART;TZID=Asia/Shanghai:20250119T154000
DTEND;TZID=Asia/Shanghai:20250119T164000
DTSTAMP:20260425T222231
CREATED:20241230T073526Z
LAST-MODIFIED:20241230T073526Z
UID:10020809-1737301200-1737304800@www.dancesoul.com.tw
SUMMARY:兒童 Street Jazz-傘傘
DESCRIPTION:
URL:https://www.dancesoul.com.tw/schedule/%e5%85%92%e7%ab%a5-street-jazz-%e5%82%98%e5%82%98-5/2025-01-19/
CATEGORIES:Popping 初級,兒童 Street Jazz,兒童課,課程
END:VEVENT
BEGIN:VEVENT
DTSTART;TZID=Asia/Shanghai:20250119T182000
DTEND;TZID=Asia/Shanghai:20250119T192000
DTSTAMP:20260425T222231
CREATED:20241230T073837Z
LAST-MODIFIED:20241230T073837Z
UID:10020817-1737310800-1737314400@www.dancesoul.com.tw
SUMMARY:Jazz Funk-姿昀
DESCRIPTION:
URL:https://www.dancesoul.com.tw/schedule/jazz-funk-%e5%a7%bf%e6%98%80-7/2025-01-19/
CATEGORIES:Jazz Funk,Jazz Funk 初級,Waacking 初級,常態課_一般,課程
END:VEVENT
END:VCALENDAR