BEGIN:VCALENDAR
VERSION:2.0
PRODID:-//DANCE SOUL 舞魂街舞學校 - ECPv6.15.18//NONSGML v1.0//EN
CALSCALE:GREGORIAN
METHOD:PUBLISH
X-ORIGINAL-URL:https://www.dancesoul.com.tw
X-WR-CALDESC:Events for DANCE SOUL 舞魂街舞學校
REFRESH-INTERVAL;VALUE=DURATION:PT1H
X-Robots-Tag:noindex
X-PUBLISHED-TTL:PT1H
BEGIN:VTIMEZONE
TZID:Asia/Shanghai
BEGIN:STANDARD
TZOFFSETFROM:+0800
TZOFFSETTO:+0800
TZNAME:CST
DTSTART:20250101T000000
END:STANDARD
END:VTIMEZONE
BEGIN:VEVENT
DTSTART;TZID=Asia/Shanghai:20260316T213500
DTEND;TZID=Asia/Shanghai:20260316T223500
DTSTAMP:20260421T042722
CREATED:20260327T082216Z
LAST-MODIFIED:20260327T082217Z
UID:10032393-1773696900-1773700500@www.dancesoul.com.tw
SUMMARY:Jazz Funk-姿昀
DESCRIPTION:
URL:https://www.dancesoul.com.tw/schedule/jazz-funk-%e5%a7%bf%e6%98%80-15-2/2026-03-16/
CATEGORIES:Jazz Funk,課程
END:VEVENT
BEGIN:VEVENT
DTSTART;TZID=Asia/Shanghai:20260317T192500
DTEND;TZID=Asia/Shanghai:20260317T202500
DTSTAMP:20260421T042722
CREATED:20260327T083744Z
LAST-MODIFIED:20260327T083744Z
UID:10034241-1773775500-1773779100@www.dancesoul.com.tw
SUMMARY:Choreography-羅毅
DESCRIPTION:
URL:https://www.dancesoul.com.tw/schedule/choreography-%e7%be%85%e6%af%85-2-2/2026-03-17/
CATEGORIES:Choreography,常態課_一般,課程
END:VEVENT
BEGIN:VEVENT
DTSTART;TZID=Asia/Shanghai:20260317T202000
DTEND;TZID=Asia/Shanghai:20260317T212000
DTSTAMP:20260421T042722
CREATED:20250828T100203Z
LAST-MODIFIED:20250828T100203Z
UID:10023903-1773778800-1773782400@www.dancesoul.com.tw
SUMMARY:Free Style-俊宏
DESCRIPTION:
URL:https://www.dancesoul.com.tw/schedule/free-style-%e4%bf%8a%e5%ae%8f-29/2026-03-17/
CATEGORIES:Freestyle,常態課_一般,課程
END:VEVENT
BEGIN:VEVENT
DTSTART;TZID=Asia/Shanghai:20260317T213500
DTEND;TZID=Asia/Shanghai:20260317T223500
DTSTAMP:20260421T042722
CREATED:20260327T081822Z
LAST-MODIFIED:20260327T081932Z
UID:10032109-1773783300-1773786900@www.dancesoul.com.tw
SUMMARY:Hip Hop-承翰
DESCRIPTION:
URL:https://www.dancesoul.com.tw/schedule/hip-hop-%e6%89%bf%e7%bf%b0-2-3/2026-03-17/
CATEGORIES:Hip Hop,常態課_一般,課程
END:VEVENT
BEGIN:VEVENT
DTSTART;TZID=Asia/Shanghai:20260318T192500
DTEND;TZID=Asia/Shanghai:20260318T202500
DTSTAMP:20260421T042722
CREATED:20250828T102504Z
LAST-MODIFIED:20250828T102504Z
UID:10024686-1773861900-1773865500@www.dancesoul.com.tw
SUMMARY:Street Jazz-Larry
DESCRIPTION:
URL:https://www.dancesoul.com.tw/schedule/street-jazz-larry-30/2026-03-18/
CATEGORIES:STREET JAZZ,常態課_一般,課程
END:VEVENT
BEGIN:VEVENT
DTSTART;TZID=Asia/Shanghai:20260318T203000
DTEND;TZID=Asia/Shanghai:20260318T213000
DTSTAMP:20260421T042722
CREATED:20250828T103540Z
LAST-MODIFIED:20250828T103540Z
UID:10024947-1773865800-1773869400@www.dancesoul.com.tw
SUMMARY:Street Jazz-Kyle
DESCRIPTION:
URL:https://www.dancesoul.com.tw/schedule/street-jazz-kyle-4/2026-03-18/
CATEGORIES:STREET JAZZ,常態課_一般,課程
END:VEVENT
BEGIN:VEVENT
DTSTART;TZID=Asia/Shanghai:20260319T182000
DTEND;TZID=Asia/Shanghai:20260319T192000
DTSTAMP:20260421T042722
CREATED:20251202T055643Z
LAST-MODIFIED:20251202T055645Z
UID:10025469-1773944400-1773948000@www.dancesoul.com.tw
SUMMARY:Street Jazz-羊羊
DESCRIPTION:
URL:https://www.dancesoul.com.tw/schedule/hip-hop-%e4%bd%90%e4%bd%90-2-2/2026-03-19/
CATEGORIES:Hip Hop,常態課_一般,課程
END:VEVENT
BEGIN:VEVENT
DTSTART;TZID=Asia/Shanghai:20260319T213500
DTEND;TZID=Asia/Shanghai:20260319T223500
DTSTAMP:20260421T042722
CREATED:20250828T104929Z
LAST-MODIFIED:20250828T104929Z
UID:10026249-1773956100-1773959700@www.dancesoul.com.tw
SUMMARY:Choreography-巴豪
DESCRIPTION:
URL:https://www.dancesoul.com.tw/schedule/choreography-%e5%b7%b4%e8%b1%aa-7/2026-03-19/
CATEGORIES:Choreography,常態課_一般,課程
END:VEVENT
BEGIN:VEVENT
DTSTART;TZID=Asia/Shanghai:20260321T132000
DTEND;TZID=Asia/Shanghai:20260321T142000
DTSTAMP:20260421T042722
CREATED:20251201T070320Z
LAST-MODIFIED:20260315T072345Z
UID:10027289-1774099200-1774102800@www.dancesoul.com.tw
SUMMARY:兒童MV(初)(i-dle - 'Mona(Feat.skaiwater)')-薇臻
DESCRIPTION:
URL:https://www.dancesoul.com.tw/schedule/%e5%85%92%e7%ab%a5%e8%a1%97%e8%88%9e-%e8%96%87%e8%87%bb-21-2-2-2/2026-03-21/
CATEGORIES:兒童街舞,兒童課
END:VEVENT
BEGIN:VEVENT
DTSTART;TZID=Asia/Shanghai:20260321T143000
DTEND;TZID=Asia/Shanghai:20260321T153000
DTSTAMP:20260421T042722
CREATED:20251202T055414Z
LAST-MODIFIED:20260315T072223Z
UID:10027550-1774103400-1774107000@www.dancesoul.com.tw
SUMMARY:兒童MV(IVE - 'BANG BANG')-薇臻
DESCRIPTION:
URL:https://www.dancesoul.com.tw/schedule/%e5%85%92%e7%ab%a5mvbabymonster-hot-sauce-%e8%96%87%e8%87%bb-2/2026-03-21/
CATEGORIES:MV課,兒童MV,課程
END:VEVENT
BEGIN:VEVENT
DTSTART;TZID=Asia/Shanghai:20260321T154000
DTEND;TZID=Asia/Shanghai:20260321T164000
DTSTAMP:20260421T042722
CREATED:20250901T055134Z
LAST-MODIFIED:20260327T083158Z
UID:10033452-1774107600-1774111200@www.dancesoul.com.tw
SUMMARY:兒童Popping-勁宏
DESCRIPTION:
URL:https://www.dancesoul.com.tw/schedule/%e5%85%92%e7%ab%a5popping-%e5%8b%81%e5%ae%8f-2/2026-03-21/
CATEGORIES:兒童街舞,課程
END:VEVENT
BEGIN:VEVENT
DTSTART;TZID=Asia/Shanghai:20260321T182000
DTEND;TZID=Asia/Shanghai:20260321T192000
DTSTAMP:20260421T042722
CREATED:20250901T055441Z
LAST-MODIFIED:20250901T055457Z
UID:10028073-1774117200-1774120800@www.dancesoul.com.tw
SUMMARY:Popping-紀威
DESCRIPTION:
URL:https://www.dancesoul.com.tw/schedule/popping-%e7%b4%80%e5%a8%81-54/2026-03-21/
CATEGORIES:Poppin,常態課_一般,課程
END:VEVENT
BEGIN:VEVENT
DTSTART;TZID=Asia/Shanghai:20260322T132000
DTEND;TZID=Asia/Shanghai:20260322T142000
DTSTAMP:20260421T042722
CREATED:20250901T055750Z
LAST-MODIFIED:20250901T055750Z
UID:10028856-1774185600-1774189200@www.dancesoul.com.tw
SUMMARY:兒童街舞-羿芃
DESCRIPTION:
URL:https://www.dancesoul.com.tw/schedule/%e5%85%92%e7%ab%a5%e8%a1%97%e8%88%9e-%e7%be%bf%e8%8a%83-20/2026-03-22/
CATEGORIES:兒童街舞,課程
END:VEVENT
BEGIN:VEVENT
DTSTART;TZID=Asia/Shanghai:20260322T143000
DTEND;TZID=Asia/Shanghai:20260322T153000
DTSTAMP:20260421T042722
CREATED:20260315T071830Z
LAST-MODIFIED:20260315T071830Z
UID:10029117-1774189800-1774193400@www.dancesoul.com.tw
SUMMARY:兒童MV(ILLIT-opps!)-羿芃
DESCRIPTION:
URL:https://www.dancesoul.com.tw/schedule/%e5%85%92%e7%ab%a5mvizna-sass-%e7%be%bf%e8%8a%83-2-2/2026-03-22/
CATEGORIES:兒童MV,兒童課
END:VEVENT
BEGIN:VEVENT
DTSTART;TZID=Asia/Shanghai:20260322T154000
DTEND;TZID=Asia/Shanghai:20260322T164000
DTSTAMP:20260421T042722
CREATED:20250901T060229Z
LAST-MODIFIED:20250901T060229Z
UID:10029378-1774194000-1774197600@www.dancesoul.com.tw
SUMMARY:兒童Street Jazz-傘傘
DESCRIPTION:
URL:https://www.dancesoul.com.tw/schedule/%e5%85%92%e7%ab%a5street-jazz-%e5%82%98%e5%82%98-4/2026-03-22/
CATEGORIES:兒童街舞,兒童課
END:VEVENT
BEGIN:VEVENT
DTSTART;TZID=Asia/Shanghai:20260322T192500
DTEND;TZID=Asia/Shanghai:20260322T202500
DTSTAMP:20260421T042722
CREATED:20260327T081608Z
LAST-MODIFIED:20260327T081608Z
UID:10032077-1774207500-1774211100@www.dancesoul.com.tw
SUMMARY:Hip Hop-ROD
DESCRIPTION:
URL:https://www.dancesoul.com.tw/schedule/hip-hop-%e6%89%bf%e7%bf%b0-2-2/2026-03-22/
CATEGORIES:Hip Hop,常態課_一般,課程
END:VEVENT
END:VCALENDAR