BEGIN:VCALENDAR
VERSION:2.0
PRODID:-//DANCE SOUL 舞魂街舞學校 - ECPv6.15.18//NONSGML v1.0//EN
CALSCALE:GREGORIAN
METHOD:PUBLISH
X-ORIGINAL-URL:https://www.dancesoul.com.tw
X-WR-CALDESC:Events for DANCE SOUL 舞魂街舞學校
REFRESH-INTERVAL;VALUE=DURATION:PT1H
X-Robots-Tag:noindex
X-PUBLISHED-TTL:PT1H
BEGIN:VTIMEZONE
TZID:Asia/Shanghai
BEGIN:STANDARD
TZOFFSETFROM:+0800
TZOFFSETTO:+0800
TZNAME:CST
DTSTART:20250101T000000
END:STANDARD
END:VTIMEZONE
BEGIN:VEVENT
DTSTART;TZID=Asia/Shanghai:20260413T213500
DTEND;TZID=Asia/Shanghai:20260413T223500
DTSTAMP:20260421T020820
CREATED:20260327T082216Z
LAST-MODIFIED:20260327T082217Z
UID:10032397-1776116100-1776119700@www.dancesoul.com.tw
SUMMARY:Jazz Funk-姿昀
DESCRIPTION:
URL:https://www.dancesoul.com.tw/schedule/jazz-funk-%e5%a7%bf%e6%98%80-15-2/2026-04-13/
CATEGORIES:Jazz Funk,課程
END:VEVENT
BEGIN:VEVENT
DTSTART;TZID=Asia/Shanghai:20260414T192500
DTEND;TZID=Asia/Shanghai:20260414T202500
DTSTAMP:20260421T020820
CREATED:20260327T083744Z
LAST-MODIFIED:20260327T083744Z
UID:10034245-1776194700-1776198300@www.dancesoul.com.tw
SUMMARY:Choreography-羅毅
DESCRIPTION:
URL:https://www.dancesoul.com.tw/schedule/choreography-%e7%be%85%e6%af%85-2-2/2026-04-14/
CATEGORIES:Choreography,常態課_一般,課程
END:VEVENT
BEGIN:VEVENT
DTSTART;TZID=Asia/Shanghai:20260414T202000
DTEND;TZID=Asia/Shanghai:20260414T212000
DTSTAMP:20260421T020820
CREATED:20250828T100203Z
LAST-MODIFIED:20250828T100203Z
UID:10023907-1776198000-1776201600@www.dancesoul.com.tw
SUMMARY:Free Style-俊宏
DESCRIPTION:
URL:https://www.dancesoul.com.tw/schedule/free-style-%e4%bf%8a%e5%ae%8f-29/2026-04-14/
CATEGORIES:Freestyle,常態課_一般,課程
END:VEVENT
BEGIN:VEVENT
DTSTART;TZID=Asia/Shanghai:20260414T213500
DTEND;TZID=Asia/Shanghai:20260414T223500
DTSTAMP:20260421T020820
CREATED:20260327T081822Z
LAST-MODIFIED:20260327T081932Z
UID:10032113-1776202500-1776206100@www.dancesoul.com.tw
SUMMARY:Hip Hop-承翰
DESCRIPTION:
URL:https://www.dancesoul.com.tw/schedule/hip-hop-%e6%89%bf%e7%bf%b0-2-3/2026-04-14/
CATEGORIES:Hip Hop,常態課_一般,課程
END:VEVENT
BEGIN:VEVENT
DTSTART;TZID=Asia/Shanghai:20260415T192500
DTEND;TZID=Asia/Shanghai:20260415T202500
DTSTAMP:20260421T020820
CREATED:20250828T102504Z
LAST-MODIFIED:20250828T102504Z
UID:10024690-1776281100-1776284700@www.dancesoul.com.tw
SUMMARY:Street Jazz-Larry
DESCRIPTION:
URL:https://www.dancesoul.com.tw/schedule/street-jazz-larry-30/2026-04-15/
CATEGORIES:STREET JAZZ,常態課_一般,課程
END:VEVENT
BEGIN:VEVENT
DTSTART;TZID=Asia/Shanghai:20260415T203000
DTEND;TZID=Asia/Shanghai:20260415T213000
DTSTAMP:20260421T020820
CREATED:20250828T103540Z
LAST-MODIFIED:20250828T103540Z
UID:10024951-1776285000-1776288600@www.dancesoul.com.tw
SUMMARY:Street Jazz-Kyle
DESCRIPTION:
URL:https://www.dancesoul.com.tw/schedule/street-jazz-kyle-4/2026-04-15/
CATEGORIES:STREET JAZZ,常態課_一般,課程
END:VEVENT
BEGIN:VEVENT
DTSTART;TZID=Asia/Shanghai:20260416T182000
DTEND;TZID=Asia/Shanghai:20260416T192000
DTSTAMP:20260421T020820
CREATED:20251202T055643Z
LAST-MODIFIED:20251202T055645Z
UID:10025473-1776363600-1776367200@www.dancesoul.com.tw
SUMMARY:Street Jazz-羊羊
DESCRIPTION:
URL:https://www.dancesoul.com.tw/schedule/hip-hop-%e4%bd%90%e4%bd%90-2-2/2026-04-16/
CATEGORIES:Hip Hop,常態課_一般,課程
END:VEVENT
BEGIN:VEVENT
DTSTART;TZID=Asia/Shanghai:20260416T213500
DTEND;TZID=Asia/Shanghai:20260416T223500
DTSTAMP:20260421T020820
CREATED:20250828T104929Z
LAST-MODIFIED:20250828T104929Z
UID:10026253-1776375300-1776378900@www.dancesoul.com.tw
SUMMARY:Choreography-巴豪
DESCRIPTION:
URL:https://www.dancesoul.com.tw/schedule/choreography-%e5%b7%b4%e8%b1%aa-7/2026-04-16/
CATEGORIES:Choreography,常態課_一般,課程
END:VEVENT
BEGIN:VEVENT
DTSTART;TZID=Asia/Shanghai:20260418T132000
DTEND;TZID=Asia/Shanghai:20260418T142000
DTSTAMP:20260421T020820
CREATED:20251201T070320Z
LAST-MODIFIED:20260315T072345Z
UID:10027293-1776518400-1776522000@www.dancesoul.com.tw
SUMMARY:兒童MV(初)(i-dle - 'Mona(Feat.skaiwater)')-薇臻
DESCRIPTION:
URL:https://www.dancesoul.com.tw/schedule/%e5%85%92%e7%ab%a5%e8%a1%97%e8%88%9e-%e8%96%87%e8%87%bb-21-2-2-2/2026-04-18/
CATEGORIES:兒童街舞,兒童課
END:VEVENT
BEGIN:VEVENT
DTSTART;TZID=Asia/Shanghai:20260418T143000
DTEND;TZID=Asia/Shanghai:20260418T153000
DTSTAMP:20260421T020820
CREATED:20251202T055414Z
LAST-MODIFIED:20260315T072223Z
UID:10027554-1776522600-1776526200@www.dancesoul.com.tw
SUMMARY:兒童MV(IVE - 'BANG BANG')-薇臻
DESCRIPTION:
URL:https://www.dancesoul.com.tw/schedule/%e5%85%92%e7%ab%a5mvbabymonster-hot-sauce-%e8%96%87%e8%87%bb-2/2026-04-18/
CATEGORIES:MV課,兒童MV,課程
END:VEVENT
BEGIN:VEVENT
DTSTART;TZID=Asia/Shanghai:20260418T154000
DTEND;TZID=Asia/Shanghai:20260418T164000
DTSTAMP:20260421T020820
CREATED:20250901T055134Z
LAST-MODIFIED:20260327T083158Z
UID:10033456-1776526800-1776530400@www.dancesoul.com.tw
SUMMARY:兒童Popping-勁宏
DESCRIPTION:
URL:https://www.dancesoul.com.tw/schedule/%e5%85%92%e7%ab%a5popping-%e5%8b%81%e5%ae%8f-2/2026-04-18/
CATEGORIES:兒童街舞,課程
END:VEVENT
BEGIN:VEVENT
DTSTART;TZID=Asia/Shanghai:20260418T182000
DTEND;TZID=Asia/Shanghai:20260418T192000
DTSTAMP:20260421T020820
CREATED:20250901T055441Z
LAST-MODIFIED:20250901T055457Z
UID:10028077-1776536400-1776540000@www.dancesoul.com.tw
SUMMARY:Popping-紀威
DESCRIPTION:
URL:https://www.dancesoul.com.tw/schedule/popping-%e7%b4%80%e5%a8%81-54/2026-04-18/
CATEGORIES:Poppin,常態課_一般,課程
END:VEVENT
BEGIN:VEVENT
DTSTART;TZID=Asia/Shanghai:20260419T132000
DTEND;TZID=Asia/Shanghai:20260419T142000
DTSTAMP:20260421T020820
CREATED:20250901T055750Z
LAST-MODIFIED:20250901T055750Z
UID:10028860-1776604800-1776608400@www.dancesoul.com.tw
SUMMARY:兒童街舞-羿芃
DESCRIPTION:
URL:https://www.dancesoul.com.tw/schedule/%e5%85%92%e7%ab%a5%e8%a1%97%e8%88%9e-%e7%be%bf%e8%8a%83-20/2026-04-19/
CATEGORIES:兒童街舞,課程
END:VEVENT
BEGIN:VEVENT
DTSTART;TZID=Asia/Shanghai:20260419T143000
DTEND;TZID=Asia/Shanghai:20260419T153000
DTSTAMP:20260421T020820
CREATED:20260315T071830Z
LAST-MODIFIED:20260315T071830Z
UID:10029121-1776609000-1776612600@www.dancesoul.com.tw
SUMMARY:兒童MV(ILLIT-opps!)-羿芃
DESCRIPTION:
URL:https://www.dancesoul.com.tw/schedule/%e5%85%92%e7%ab%a5mvizna-sass-%e7%be%bf%e8%8a%83-2-2/2026-04-19/
CATEGORIES:兒童MV,兒童課
END:VEVENT
BEGIN:VEVENT
DTSTART;TZID=Asia/Shanghai:20260419T154000
DTEND;TZID=Asia/Shanghai:20260419T164000
DTSTAMP:20260421T020820
CREATED:20250901T060229Z
LAST-MODIFIED:20250901T060229Z
UID:10029382-1776613200-1776616800@www.dancesoul.com.tw
SUMMARY:兒童Street Jazz-傘傘
DESCRIPTION:
URL:https://www.dancesoul.com.tw/schedule/%e5%85%92%e7%ab%a5street-jazz-%e5%82%98%e5%82%98-4/2026-04-19/
CATEGORIES:兒童街舞,兒童課
END:VEVENT
BEGIN:VEVENT
DTSTART;TZID=Asia/Shanghai:20260419T192500
DTEND;TZID=Asia/Shanghai:20260419T202500
DTSTAMP:20260421T020820
CREATED:20260327T081608Z
LAST-MODIFIED:20260327T081608Z
UID:10030165-1776626700-1776630300@www.dancesoul.com.tw
SUMMARY:Hip Hop-ROD
DESCRIPTION:
URL:https://www.dancesoul.com.tw/schedule/hip-hop-%e6%89%bf%e7%bf%b0-2-2/2026-04-19/
CATEGORIES:Hip Hop,常態課_一般,課程
END:VEVENT
END:VCALENDAR