BEGIN:VCALENDAR
VERSION:2.0
PRODID:-//DANCE SOUL 舞魂街舞學校 - ECPv6.15.18//NONSGML v1.0//EN
CALSCALE:GREGORIAN
METHOD:PUBLISH
X-WR-CALNAME:DANCE SOUL 舞魂街舞學校
X-ORIGINAL-URL:https://www.dancesoul.com.tw
X-WR-CALDESC:Events for DANCE SOUL 舞魂街舞學校
REFRESH-INTERVAL;VALUE=DURATION:PT1H
X-Robots-Tag:noindex
X-PUBLISHED-TTL:PT1H
BEGIN:VTIMEZONE
TZID:Asia/Shanghai
BEGIN:STANDARD
TZOFFSETFROM:+0800
TZOFFSETTO:+0800
TZNAME:CST
DTSTART:20250101T000000
END:STANDARD
END:VTIMEZONE
BEGIN:VEVENT
DTSTART;TZID=Asia/Shanghai:20260914T213500
DTEND;TZID=Asia/Shanghai:20260914T223500
DTSTAMP:20260422T033129
CREATED:20260327T082216Z
LAST-MODIFIED:20260327T082217Z
UID:10032419-1789421700-1789425300@www.dancesoul.com.tw
SUMMARY:Jazz Funk-姿昀
DESCRIPTION:
URL:https://www.dancesoul.com.tw/schedule/jazz-funk-%e5%a7%bf%e6%98%80-15-2/2026-09-14/
CATEGORIES:Jazz Funk,課程
END:VEVENT
BEGIN:VEVENT
DTSTART;TZID=Asia/Shanghai:20260915T192500
DTEND;TZID=Asia/Shanghai:20260915T202500
DTSTAMP:20260422T033129
CREATED:20260327T083744Z
LAST-MODIFIED:20260327T083744Z
UID:10034267-1789500300-1789503900@www.dancesoul.com.tw
SUMMARY:Choreography-羅毅
DESCRIPTION:
URL:https://www.dancesoul.com.tw/schedule/choreography-%e7%be%85%e6%af%85-2-2/2026-09-15/
CATEGORIES:Choreography,常態課_一般,課程
END:VEVENT
BEGIN:VEVENT
DTSTART;TZID=Asia/Shanghai:20260915T202000
DTEND;TZID=Asia/Shanghai:20260915T212000
DTSTAMP:20260422T033129
CREATED:20250828T100203Z
LAST-MODIFIED:20250828T100203Z
UID:10023929-1789503600-1789507200@www.dancesoul.com.tw
SUMMARY:Free Style-俊宏
DESCRIPTION:
URL:https://www.dancesoul.com.tw/schedule/free-style-%e4%bf%8a%e5%ae%8f-29/2026-09-15/
CATEGORIES:Freestyle,常態課_一般,課程
END:VEVENT
BEGIN:VEVENT
DTSTART;TZID=Asia/Shanghai:20260915T213500
DTEND;TZID=Asia/Shanghai:20260915T223500
DTSTAMP:20260422T033129
CREATED:20260327T081822Z
LAST-MODIFIED:20260327T081932Z
UID:10032135-1789508100-1789511700@www.dancesoul.com.tw
SUMMARY:Hip Hop-承翰
DESCRIPTION:
URL:https://www.dancesoul.com.tw/schedule/hip-hop-%e6%89%bf%e7%bf%b0-2-3/2026-09-15/
CATEGORIES:Hip Hop,常態課_一般,課程
END:VEVENT
BEGIN:VEVENT
DTSTART;TZID=Asia/Shanghai:20260916T192500
DTEND;TZID=Asia/Shanghai:20260916T202500
DTSTAMP:20260422T033129
CREATED:20250828T102504Z
LAST-MODIFIED:20250828T102504Z
UID:10024712-1789586700-1789590300@www.dancesoul.com.tw
SUMMARY:Street Jazz-Larry
DESCRIPTION:
URL:https://www.dancesoul.com.tw/schedule/street-jazz-larry-30/2026-09-16/
CATEGORIES:STREET JAZZ,常態課_一般,課程
END:VEVENT
BEGIN:VEVENT
DTSTART;TZID=Asia/Shanghai:20260916T203000
DTEND;TZID=Asia/Shanghai:20260916T213000
DTSTAMP:20260422T033129
CREATED:20250828T103540Z
LAST-MODIFIED:20250828T103540Z
UID:10024973-1789590600-1789594200@www.dancesoul.com.tw
SUMMARY:Street Jazz-Kyle
DESCRIPTION:
URL:https://www.dancesoul.com.tw/schedule/street-jazz-kyle-4/2026-09-16/
CATEGORIES:STREET JAZZ,常態課_一般,課程
END:VEVENT
BEGIN:VEVENT
DTSTART;TZID=Asia/Shanghai:20260917T182000
DTEND;TZID=Asia/Shanghai:20260917T192000
DTSTAMP:20260422T033129
CREATED:20251202T055643Z
LAST-MODIFIED:20251202T055645Z
UID:10025495-1789669200-1789672800@www.dancesoul.com.tw
SUMMARY:Street Jazz-羊羊
DESCRIPTION:
URL:https://www.dancesoul.com.tw/schedule/hip-hop-%e4%bd%90%e4%bd%90-2-2/2026-09-17/
CATEGORIES:Hip Hop,常態課_一般,課程
END:VEVENT
BEGIN:VEVENT
DTSTART;TZID=Asia/Shanghai:20260917T213500
DTEND;TZID=Asia/Shanghai:20260917T223500
DTSTAMP:20260422T033129
CREATED:20250828T104929Z
LAST-MODIFIED:20250828T104929Z
UID:10026275-1789680900-1789684500@www.dancesoul.com.tw
SUMMARY:Choreography-巴豪
DESCRIPTION:
URL:https://www.dancesoul.com.tw/schedule/choreography-%e5%b7%b4%e8%b1%aa-7/2026-09-17/
CATEGORIES:Choreography,常態課_一般,課程
END:VEVENT
BEGIN:VEVENT
DTSTART;TZID=Asia/Shanghai:20260919T132000
DTEND;TZID=Asia/Shanghai:20260919T142000
DTSTAMP:20260422T033129
CREATED:20251201T070320Z
LAST-MODIFIED:20260315T072345Z
UID:10027315-1789824000-1789827600@www.dancesoul.com.tw
SUMMARY:兒童MV(初)(i-dle - 'Mona(Feat.skaiwater)')-薇臻
DESCRIPTION:
URL:https://www.dancesoul.com.tw/schedule/%e5%85%92%e7%ab%a5%e8%a1%97%e8%88%9e-%e8%96%87%e8%87%bb-21-2-2-2/2026-09-19/
CATEGORIES:兒童街舞,兒童課
END:VEVENT
BEGIN:VEVENT
DTSTART;TZID=Asia/Shanghai:20260919T143000
DTEND;TZID=Asia/Shanghai:20260919T153000
DTSTAMP:20260422T033129
CREATED:20251202T055414Z
LAST-MODIFIED:20260315T072223Z
UID:10027576-1789828200-1789831800@www.dancesoul.com.tw
SUMMARY:兒童MV(IVE - 'BANG BANG')-薇臻
DESCRIPTION:
URL:https://www.dancesoul.com.tw/schedule/%e5%85%92%e7%ab%a5mvbabymonster-hot-sauce-%e8%96%87%e8%87%bb-2/2026-09-19/
CATEGORIES:MV課,兒童MV,課程
END:VEVENT
BEGIN:VEVENT
DTSTART;TZID=Asia/Shanghai:20260919T154000
DTEND;TZID=Asia/Shanghai:20260919T164000
DTSTAMP:20260422T033129
CREATED:20250901T055134Z
LAST-MODIFIED:20260327T083158Z
UID:10033478-1789832400-1789836000@www.dancesoul.com.tw
SUMMARY:兒童Popping-勁宏
DESCRIPTION:
URL:https://www.dancesoul.com.tw/schedule/%e5%85%92%e7%ab%a5popping-%e5%8b%81%e5%ae%8f-2/2026-09-19/
CATEGORIES:兒童街舞,課程
END:VEVENT
BEGIN:VEVENT
DTSTART;TZID=Asia/Shanghai:20260919T182000
DTEND;TZID=Asia/Shanghai:20260919T192000
DTSTAMP:20260422T033129
CREATED:20250901T055441Z
LAST-MODIFIED:20250901T055457Z
UID:10028099-1789842000-1789845600@www.dancesoul.com.tw
SUMMARY:Popping-紀威
DESCRIPTION:
URL:https://www.dancesoul.com.tw/schedule/popping-%e7%b4%80%e5%a8%81-54/2026-09-19/
CATEGORIES:Poppin,常態課_一般,課程
END:VEVENT
BEGIN:VEVENT
DTSTART;TZID=Asia/Shanghai:20260920T132000
DTEND;TZID=Asia/Shanghai:20260920T142000
DTSTAMP:20260422T033129
CREATED:20250901T055750Z
LAST-MODIFIED:20250901T055750Z
UID:10028882-1789910400-1789914000@www.dancesoul.com.tw
SUMMARY:兒童街舞-羿芃
DESCRIPTION:
URL:https://www.dancesoul.com.tw/schedule/%e5%85%92%e7%ab%a5%e8%a1%97%e8%88%9e-%e7%be%bf%e8%8a%83-20/2026-09-20/
CATEGORIES:兒童街舞,課程
END:VEVENT
BEGIN:VEVENT
DTSTART;TZID=Asia/Shanghai:20260920T143000
DTEND;TZID=Asia/Shanghai:20260920T153000
DTSTAMP:20260422T033129
CREATED:20260315T071830Z
LAST-MODIFIED:20260315T071830Z
UID:10029143-1789914600-1789918200@www.dancesoul.com.tw
SUMMARY:兒童MV(ILLIT-opps!)-羿芃
DESCRIPTION:
URL:https://www.dancesoul.com.tw/schedule/%e5%85%92%e7%ab%a5mvizna-sass-%e7%be%bf%e8%8a%83-2-2/2026-09-20/
CATEGORIES:兒童MV,兒童課
END:VEVENT
BEGIN:VEVENT
DTSTART;TZID=Asia/Shanghai:20260920T154000
DTEND;TZID=Asia/Shanghai:20260920T164000
DTSTAMP:20260422T033129
CREATED:20250901T060229Z
LAST-MODIFIED:20250901T060229Z
UID:10029404-1789918800-1789922400@www.dancesoul.com.tw
SUMMARY:兒童Street Jazz-傘傘
DESCRIPTION:
URL:https://www.dancesoul.com.tw/schedule/%e5%85%92%e7%ab%a5street-jazz-%e5%82%98%e5%82%98-4/2026-09-20/
CATEGORIES:兒童街舞,兒童課
END:VEVENT
BEGIN:VEVENT
DTSTART;TZID=Asia/Shanghai:20260920T192500
DTEND;TZID=Asia/Shanghai:20260920T202500
DTSTAMP:20260422T033129
CREATED:20260327T081608Z
LAST-MODIFIED:20260327T081608Z
UID:10030187-1789932300-1789935900@www.dancesoul.com.tw
SUMMARY:Hip Hop-ROD
DESCRIPTION:
URL:https://www.dancesoul.com.tw/schedule/hip-hop-%e6%89%bf%e7%bf%b0-2-2/2026-09-20/
CATEGORIES:Hip Hop,常態課_一般,課程
END:VEVENT
END:VCALENDAR