BEGIN:VCALENDAR
VERSION:2.0
PRODID:-//DANCE SOUL 舞魂街舞學校 - ECPv6.15.18//NONSGML v1.0//EN
CALSCALE:GREGORIAN
METHOD:PUBLISH
X-ORIGINAL-URL:https://www.dancesoul.com.tw
X-WR-CALDESC:Events for DANCE SOUL 舞魂街舞學校
REFRESH-INTERVAL;VALUE=DURATION:PT1H
X-Robots-Tag:noindex
X-PUBLISHED-TTL:PT1H
BEGIN:VTIMEZONE
TZID:Asia/Shanghai
BEGIN:STANDARD
TZOFFSETFROM:+0800
TZOFFSETTO:+0800
TZNAME:CST
DTSTART:20260101T000000
END:STANDARD
END:VTIMEZONE
BEGIN:VEVENT
DTSTART;TZID=Asia/Shanghai:20270201T213500
DTEND;TZID=Asia/Shanghai:20270201T223500
DTSTAMP:20260423T060133
CREATED:20260327T082216Z
LAST-MODIFIED:20260327T082217Z
UID:10032439-1801517700-1801521300@www.dancesoul.com.tw
SUMMARY:Jazz Funk-姿昀
DESCRIPTION:
URL:https://www.dancesoul.com.tw/schedule/jazz-funk-%e5%a7%bf%e6%98%80-15-2/2027-02-01/
CATEGORIES:Jazz Funk,課程
END:VEVENT
BEGIN:VEVENT
DTSTART;TZID=Asia/Shanghai:20270202T192500
DTEND;TZID=Asia/Shanghai:20270202T202500
DTSTAMP:20260423T060133
CREATED:20260327T083744Z
LAST-MODIFIED:20260327T083744Z
UID:10034287-1801596300-1801599900@www.dancesoul.com.tw
SUMMARY:Choreography-羅毅
DESCRIPTION:
URL:https://www.dancesoul.com.tw/schedule/choreography-%e7%be%85%e6%af%85-2-2/2027-02-02/
CATEGORIES:Choreography,常態課_一般,課程
END:VEVENT
BEGIN:VEVENT
DTSTART;TZID=Asia/Shanghai:20270202T202000
DTEND;TZID=Asia/Shanghai:20270202T212000
DTSTAMP:20260423T060133
CREATED:20250828T100203Z
LAST-MODIFIED:20250828T100203Z
UID:10023949-1801599600-1801603200@www.dancesoul.com.tw
SUMMARY:Free Style-俊宏
DESCRIPTION:
URL:https://www.dancesoul.com.tw/schedule/free-style-%e4%bf%8a%e5%ae%8f-29/2027-02-02/
CATEGORIES:Freestyle,常態課_一般,課程
END:VEVENT
BEGIN:VEVENT
DTSTART;TZID=Asia/Shanghai:20270202T213500
DTEND;TZID=Asia/Shanghai:20270202T223500
DTSTAMP:20260423T060133
CREATED:20260327T081822Z
LAST-MODIFIED:20260327T081932Z
UID:10032155-1801604100-1801607700@www.dancesoul.com.tw
SUMMARY:Hip Hop-承翰
DESCRIPTION:
URL:https://www.dancesoul.com.tw/schedule/hip-hop-%e6%89%bf%e7%bf%b0-2-3/2027-02-02/
CATEGORIES:Hip Hop,常態課_一般,課程
END:VEVENT
BEGIN:VEVENT
DTSTART;TZID=Asia/Shanghai:20270203T192500
DTEND;TZID=Asia/Shanghai:20270203T202500
DTSTAMP:20260423T060133
CREATED:20250828T102504Z
LAST-MODIFIED:20250828T102504Z
UID:10024732-1801682700-1801686300@www.dancesoul.com.tw
SUMMARY:Street Jazz-Larry
DESCRIPTION:
URL:https://www.dancesoul.com.tw/schedule/street-jazz-larry-30/2027-02-03/
CATEGORIES:STREET JAZZ,常態課_一般,課程
END:VEVENT
BEGIN:VEVENT
DTSTART;TZID=Asia/Shanghai:20270203T203000
DTEND;TZID=Asia/Shanghai:20270203T213000
DTSTAMP:20260423T060133
CREATED:20250828T103540Z
LAST-MODIFIED:20250828T103540Z
UID:10024993-1801686600-1801690200@www.dancesoul.com.tw
SUMMARY:Street Jazz-Kyle
DESCRIPTION:
URL:https://www.dancesoul.com.tw/schedule/street-jazz-kyle-4/2027-02-03/
CATEGORIES:STREET JAZZ,常態課_一般,課程
END:VEVENT
BEGIN:VEVENT
DTSTART;TZID=Asia/Shanghai:20270204T182000
DTEND;TZID=Asia/Shanghai:20270204T192000
DTSTAMP:20260423T060133
CREATED:20251202T055643Z
LAST-MODIFIED:20251202T055645Z
UID:10025515-1801765200-1801768800@www.dancesoul.com.tw
SUMMARY:Street Jazz-羊羊
DESCRIPTION:
URL:https://www.dancesoul.com.tw/schedule/hip-hop-%e4%bd%90%e4%bd%90-2-2/2027-02-04/
CATEGORIES:Hip Hop,常態課_一般,課程
END:VEVENT
BEGIN:VEVENT
DTSTART;TZID=Asia/Shanghai:20270204T213500
DTEND;TZID=Asia/Shanghai:20270204T223500
DTSTAMP:20260423T060133
CREATED:20250828T104929Z
LAST-MODIFIED:20250828T104929Z
UID:10026295-1801776900-1801780500@www.dancesoul.com.tw
SUMMARY:Choreography-巴豪
DESCRIPTION:
URL:https://www.dancesoul.com.tw/schedule/choreography-%e5%b7%b4%e8%b1%aa-7/2027-02-04/
CATEGORIES:Choreography,常態課_一般,課程
END:VEVENT
BEGIN:VEVENT
DTSTART;TZID=Asia/Shanghai:20270206T132000
DTEND;TZID=Asia/Shanghai:20270206T142000
DTSTAMP:20260423T060133
CREATED:20251201T070320Z
LAST-MODIFIED:20260315T072345Z
UID:10027335-1801920000-1801923600@www.dancesoul.com.tw
SUMMARY:兒童MV(初)(i-dle - 'Mona(Feat.skaiwater)')-薇臻
DESCRIPTION:
URL:https://www.dancesoul.com.tw/schedule/%e5%85%92%e7%ab%a5%e8%a1%97%e8%88%9e-%e8%96%87%e8%87%bb-21-2-2-2/2027-02-06/
CATEGORIES:兒童街舞,兒童課
END:VEVENT
BEGIN:VEVENT
DTSTART;TZID=Asia/Shanghai:20270206T143000
DTEND;TZID=Asia/Shanghai:20270206T153000
DTSTAMP:20260423T060133
CREATED:20251202T055414Z
LAST-MODIFIED:20260315T072223Z
UID:10027596-1801924200-1801927800@www.dancesoul.com.tw
SUMMARY:兒童MV(IVE - 'BANG BANG')-薇臻
DESCRIPTION:
URL:https://www.dancesoul.com.tw/schedule/%e5%85%92%e7%ab%a5mvbabymonster-hot-sauce-%e8%96%87%e8%87%bb-2/2027-02-06/
CATEGORIES:MV課,兒童MV,課程
END:VEVENT
BEGIN:VEVENT
DTSTART;TZID=Asia/Shanghai:20270206T154000
DTEND;TZID=Asia/Shanghai:20270206T164000
DTSTAMP:20260423T060133
CREATED:20250901T055134Z
LAST-MODIFIED:20260327T083158Z
UID:10033498-1801928400-1801932000@www.dancesoul.com.tw
SUMMARY:兒童Popping-勁宏
DESCRIPTION:
URL:https://www.dancesoul.com.tw/schedule/%e5%85%92%e7%ab%a5popping-%e5%8b%81%e5%ae%8f-2/2027-02-06/
CATEGORIES:兒童街舞,課程
END:VEVENT
BEGIN:VEVENT
DTSTART;TZID=Asia/Shanghai:20270206T182000
DTEND;TZID=Asia/Shanghai:20270206T192000
DTSTAMP:20260423T060133
CREATED:20250901T055441Z
LAST-MODIFIED:20250901T055457Z
UID:10028119-1801938000-1801941600@www.dancesoul.com.tw
SUMMARY:Popping-紀威
DESCRIPTION:
URL:https://www.dancesoul.com.tw/schedule/popping-%e7%b4%80%e5%a8%81-54/2027-02-06/
CATEGORIES:Poppin,常態課_一般,課程
END:VEVENT
BEGIN:VEVENT
DTSTART;TZID=Asia/Shanghai:20270207T132000
DTEND;TZID=Asia/Shanghai:20270207T142000
DTSTAMP:20260423T060133
CREATED:20250901T055750Z
LAST-MODIFIED:20250901T055750Z
UID:10028902-1802006400-1802010000@www.dancesoul.com.tw
SUMMARY:兒童街舞-羿芃
DESCRIPTION:
URL:https://www.dancesoul.com.tw/schedule/%e5%85%92%e7%ab%a5%e8%a1%97%e8%88%9e-%e7%be%bf%e8%8a%83-20/2027-02-07/
CATEGORIES:兒童街舞,課程
END:VEVENT
BEGIN:VEVENT
DTSTART;TZID=Asia/Shanghai:20270207T143000
DTEND;TZID=Asia/Shanghai:20270207T153000
DTSTAMP:20260423T060133
CREATED:20260315T071830Z
LAST-MODIFIED:20260315T071830Z
UID:10029163-1802010600-1802014200@www.dancesoul.com.tw
SUMMARY:兒童MV(ILLIT-opps!)-羿芃
DESCRIPTION:
URL:https://www.dancesoul.com.tw/schedule/%e5%85%92%e7%ab%a5mvizna-sass-%e7%be%bf%e8%8a%83-2-2/2027-02-07/
CATEGORIES:兒童MV,兒童課
END:VEVENT
BEGIN:VEVENT
DTSTART;TZID=Asia/Shanghai:20270207T154000
DTEND;TZID=Asia/Shanghai:20270207T164000
DTSTAMP:20260423T060133
CREATED:20250901T060229Z
LAST-MODIFIED:20250901T060229Z
UID:10029424-1802014800-1802018400@www.dancesoul.com.tw
SUMMARY:兒童Street Jazz-傘傘
DESCRIPTION:
URL:https://www.dancesoul.com.tw/schedule/%e5%85%92%e7%ab%a5street-jazz-%e5%82%98%e5%82%98-4/2027-02-07/
CATEGORIES:兒童街舞,兒童課
END:VEVENT
BEGIN:VEVENT
DTSTART;TZID=Asia/Shanghai:20270207T192500
DTEND;TZID=Asia/Shanghai:20270207T202500
DTSTAMP:20260423T060133
CREATED:20260327T081608Z
LAST-MODIFIED:20260327T081608Z
UID:10030207-1802028300-1802031900@www.dancesoul.com.tw
SUMMARY:Hip Hop-ROD
DESCRIPTION:
URL:https://www.dancesoul.com.tw/schedule/hip-hop-%e6%89%bf%e7%bf%b0-2-2/2027-02-07/
CATEGORIES:Hip Hop,常態課_一般,課程
END:VEVENT
END:VCALENDAR