BEGIN:VCALENDAR
VERSION:2.0
PRODID:-//DANCE SOUL 舞魂街舞學校 - ECPv6.15.18//NONSGML v1.0//EN
CALSCALE:GREGORIAN
METHOD:PUBLISH
X-ORIGINAL-URL:https://www.dancesoul.com.tw
X-WR-CALDESC:Events for DANCE SOUL 舞魂街舞學校
REFRESH-INTERVAL;VALUE=DURATION:PT1H
X-Robots-Tag:noindex
X-PUBLISHED-TTL:PT1H
BEGIN:VTIMEZONE
TZID:Asia/Shanghai
BEGIN:STANDARD
TZOFFSETFROM:+0800
TZOFFSETTO:+0800
TZNAME:CST
DTSTART:20260101T000000
END:STANDARD
END:VTIMEZONE
BEGIN:VEVENT
DTSTART;TZID=Asia/Shanghai:20270222T213500
DTEND;TZID=Asia/Shanghai:20270222T223500
DTSTAMP:20260423T060133
CREATED:20260327T082216Z
LAST-MODIFIED:20260327T082217Z
UID:10032442-1803332100-1803335700@www.dancesoul.com.tw
SUMMARY:Jazz Funk-姿昀
DESCRIPTION:
URL:https://www.dancesoul.com.tw/schedule/jazz-funk-%e5%a7%bf%e6%98%80-15-2/2027-02-22/
CATEGORIES:Jazz Funk,課程
END:VEVENT
BEGIN:VEVENT
DTSTART;TZID=Asia/Shanghai:20270223T192500
DTEND;TZID=Asia/Shanghai:20270223T202500
DTSTAMP:20260423T060133
CREATED:20260327T083744Z
LAST-MODIFIED:20260327T083744Z
UID:10034290-1803410700-1803414300@www.dancesoul.com.tw
SUMMARY:Choreography-羅毅
DESCRIPTION:
URL:https://www.dancesoul.com.tw/schedule/choreography-%e7%be%85%e6%af%85-2-2/2027-02-23/
CATEGORIES:Choreography,常態課_一般,課程
END:VEVENT
BEGIN:VEVENT
DTSTART;TZID=Asia/Shanghai:20270223T202000
DTEND;TZID=Asia/Shanghai:20270223T212000
DTSTAMP:20260423T060133
CREATED:20250828T100203Z
LAST-MODIFIED:20250828T100203Z
UID:10023952-1803414000-1803417600@www.dancesoul.com.tw
SUMMARY:Free Style-俊宏
DESCRIPTION:
URL:https://www.dancesoul.com.tw/schedule/free-style-%e4%bf%8a%e5%ae%8f-29/2027-02-23/
CATEGORIES:Freestyle,常態課_一般,課程
END:VEVENT
BEGIN:VEVENT
DTSTART;TZID=Asia/Shanghai:20270223T213500
DTEND;TZID=Asia/Shanghai:20270223T223500
DTSTAMP:20260423T060133
CREATED:20260327T081822Z
LAST-MODIFIED:20260327T081932Z
UID:10032158-1803418500-1803422100@www.dancesoul.com.tw
SUMMARY:Hip Hop-承翰
DESCRIPTION:
URL:https://www.dancesoul.com.tw/schedule/hip-hop-%e6%89%bf%e7%bf%b0-2-3/2027-02-23/
CATEGORIES:Hip Hop,常態課_一般,課程
END:VEVENT
BEGIN:VEVENT
DTSTART;TZID=Asia/Shanghai:20270224T192500
DTEND;TZID=Asia/Shanghai:20270224T202500
DTSTAMP:20260423T060133
CREATED:20250828T102504Z
LAST-MODIFIED:20250828T102504Z
UID:10024735-1803497100-1803500700@www.dancesoul.com.tw
SUMMARY:Street Jazz-Larry
DESCRIPTION:
URL:https://www.dancesoul.com.tw/schedule/street-jazz-larry-30/2027-02-24/
CATEGORIES:STREET JAZZ,常態課_一般,課程
END:VEVENT
BEGIN:VEVENT
DTSTART;TZID=Asia/Shanghai:20270224T203000
DTEND;TZID=Asia/Shanghai:20270224T213000
DTSTAMP:20260423T060133
CREATED:20250828T103540Z
LAST-MODIFIED:20250828T103540Z
UID:10024996-1803501000-1803504600@www.dancesoul.com.tw
SUMMARY:Street Jazz-Kyle
DESCRIPTION:
URL:https://www.dancesoul.com.tw/schedule/street-jazz-kyle-4/2027-02-24/
CATEGORIES:STREET JAZZ,常態課_一般,課程
END:VEVENT
BEGIN:VEVENT
DTSTART;TZID=Asia/Shanghai:20270225T182000
DTEND;TZID=Asia/Shanghai:20270225T192000
DTSTAMP:20260423T060133
CREATED:20251202T055643Z
LAST-MODIFIED:20251202T055645Z
UID:10025518-1803579600-1803583200@www.dancesoul.com.tw
SUMMARY:Street Jazz-羊羊
DESCRIPTION:
URL:https://www.dancesoul.com.tw/schedule/hip-hop-%e4%bd%90%e4%bd%90-2-2/2027-02-25/
CATEGORIES:Hip Hop,常態課_一般,課程
END:VEVENT
BEGIN:VEVENT
DTSTART;TZID=Asia/Shanghai:20270225T213500
DTEND;TZID=Asia/Shanghai:20270225T223500
DTSTAMP:20260423T060133
CREATED:20250828T104929Z
LAST-MODIFIED:20250828T104929Z
UID:10026298-1803591300-1803594900@www.dancesoul.com.tw
SUMMARY:Choreography-巴豪
DESCRIPTION:
URL:https://www.dancesoul.com.tw/schedule/choreography-%e5%b7%b4%e8%b1%aa-7/2027-02-25/
CATEGORIES:Choreography,常態課_一般,課程
END:VEVENT
BEGIN:VEVENT
DTSTART;TZID=Asia/Shanghai:20270227T132000
DTEND;TZID=Asia/Shanghai:20270227T142000
DTSTAMP:20260423T060133
CREATED:20251201T070320Z
LAST-MODIFIED:20260315T072345Z
UID:10027338-1803734400-1803738000@www.dancesoul.com.tw
SUMMARY:兒童MV(初)(i-dle - 'Mona(Feat.skaiwater)')-薇臻
DESCRIPTION:
URL:https://www.dancesoul.com.tw/schedule/%e5%85%92%e7%ab%a5%e8%a1%97%e8%88%9e-%e8%96%87%e8%87%bb-21-2-2-2/2027-02-27/
CATEGORIES:兒童街舞,兒童課
END:VEVENT
BEGIN:VEVENT
DTSTART;TZID=Asia/Shanghai:20270227T143000
DTEND;TZID=Asia/Shanghai:20270227T153000
DTSTAMP:20260423T060133
CREATED:20251202T055414Z
LAST-MODIFIED:20260315T072223Z
UID:10027599-1803738600-1803742200@www.dancesoul.com.tw
SUMMARY:兒童MV(IVE - 'BANG BANG')-薇臻
DESCRIPTION:
URL:https://www.dancesoul.com.tw/schedule/%e5%85%92%e7%ab%a5mvbabymonster-hot-sauce-%e8%96%87%e8%87%bb-2/2027-02-27/
CATEGORIES:MV課,兒童MV,課程
END:VEVENT
BEGIN:VEVENT
DTSTART;TZID=Asia/Shanghai:20270227T154000
DTEND;TZID=Asia/Shanghai:20270227T164000
DTSTAMP:20260423T060133
CREATED:20250901T055134Z
LAST-MODIFIED:20260327T083158Z
UID:10033501-1803742800-1803746400@www.dancesoul.com.tw
SUMMARY:兒童Popping-勁宏
DESCRIPTION:
URL:https://www.dancesoul.com.tw/schedule/%e5%85%92%e7%ab%a5popping-%e5%8b%81%e5%ae%8f-2/2027-02-27/
CATEGORIES:兒童街舞,課程
END:VEVENT
BEGIN:VEVENT
DTSTART;TZID=Asia/Shanghai:20270227T182000
DTEND;TZID=Asia/Shanghai:20270227T192000
DTSTAMP:20260423T060133
CREATED:20250901T055441Z
LAST-MODIFIED:20250901T055457Z
UID:10028122-1803752400-1803756000@www.dancesoul.com.tw
SUMMARY:Popping-紀威
DESCRIPTION:
URL:https://www.dancesoul.com.tw/schedule/popping-%e7%b4%80%e5%a8%81-54/2027-02-27/
CATEGORIES:Poppin,常態課_一般,課程
END:VEVENT
BEGIN:VEVENT
DTSTART;TZID=Asia/Shanghai:20270228T132000
DTEND;TZID=Asia/Shanghai:20270228T142000
DTSTAMP:20260423T060133
CREATED:20250901T055750Z
LAST-MODIFIED:20250901T055750Z
UID:10028905-1803820800-1803824400@www.dancesoul.com.tw
SUMMARY:兒童街舞-羿芃
DESCRIPTION:
URL:https://www.dancesoul.com.tw/schedule/%e5%85%92%e7%ab%a5%e8%a1%97%e8%88%9e-%e7%be%bf%e8%8a%83-20/2027-02-28/
CATEGORIES:兒童街舞,課程
END:VEVENT
BEGIN:VEVENT
DTSTART;TZID=Asia/Shanghai:20270228T143000
DTEND;TZID=Asia/Shanghai:20270228T153000
DTSTAMP:20260423T060133
CREATED:20260315T071830Z
LAST-MODIFIED:20260315T071830Z
UID:10029166-1803825000-1803828600@www.dancesoul.com.tw
SUMMARY:兒童MV(ILLIT-opps!)-羿芃
DESCRIPTION:
URL:https://www.dancesoul.com.tw/schedule/%e5%85%92%e7%ab%a5mvizna-sass-%e7%be%bf%e8%8a%83-2-2/2027-02-28/
CATEGORIES:兒童MV,兒童課
END:VEVENT
BEGIN:VEVENT
DTSTART;TZID=Asia/Shanghai:20270228T154000
DTEND;TZID=Asia/Shanghai:20270228T164000
DTSTAMP:20260423T060133
CREATED:20250901T060229Z
LAST-MODIFIED:20250901T060229Z
UID:10029427-1803829200-1803832800@www.dancesoul.com.tw
SUMMARY:兒童Street Jazz-傘傘
DESCRIPTION:
URL:https://www.dancesoul.com.tw/schedule/%e5%85%92%e7%ab%a5street-jazz-%e5%82%98%e5%82%98-4/2027-02-28/
CATEGORIES:兒童街舞,兒童課
END:VEVENT
BEGIN:VEVENT
DTSTART;TZID=Asia/Shanghai:20270228T192500
DTEND;TZID=Asia/Shanghai:20270228T202500
DTSTAMP:20260423T060133
CREATED:20260327T081608Z
LAST-MODIFIED:20260327T081608Z
UID:10030210-1803842700-1803846300@www.dancesoul.com.tw
SUMMARY:Hip Hop-ROD
DESCRIPTION:
URL:https://www.dancesoul.com.tw/schedule/hip-hop-%e6%89%bf%e7%bf%b0-2-2/2027-02-28/
CATEGORIES:Hip Hop,常態課_一般,課程
END:VEVENT
END:VCALENDAR