BEGIN:VCALENDAR
VERSION:2.0
PRODID:-//DANCE SOUL 舞魂街舞學校 - ECPv6.15.18//NONSGML v1.0//EN
CALSCALE:GREGORIAN
METHOD:PUBLISH
X-WR-CALNAME:DANCE SOUL 舞魂街舞學校
X-ORIGINAL-URL:https://www.dancesoul.com.tw
X-WR-CALDESC:Events for DANCE SOUL 舞魂街舞學校
REFRESH-INTERVAL;VALUE=DURATION:PT1H
X-Robots-Tag:noindex
X-PUBLISHED-TTL:PT1H
BEGIN:VTIMEZONE
TZID:Asia/Shanghai
BEGIN:STANDARD
TZOFFSETFROM:+0800
TZOFFSETTO:+0800
TZNAME:CST
DTSTART:20260101T000000
END:STANDARD
END:VTIMEZONE
BEGIN:VEVENT
DTSTART;TZID=Asia/Shanghai:20270426T213500
DTEND;TZID=Asia/Shanghai:20270426T223500
DTSTAMP:20260426T080118
CREATED:20260327T082216Z
LAST-MODIFIED:20260327T082217Z
UID:10032451-1808775300-1808778900@www.dancesoul.com.tw
SUMMARY:Jazz Funk-姿昀
DESCRIPTION:
URL:https://www.dancesoul.com.tw/schedule/jazz-funk-%e5%a7%bf%e6%98%80-15-2/2027-04-26/
CATEGORIES:Jazz Funk,課程
END:VEVENT
BEGIN:VEVENT
DTSTART;TZID=Asia/Shanghai:20270427T192500
DTEND;TZID=Asia/Shanghai:20270427T202500
DTSTAMP:20260426T080118
CREATED:20260327T083744Z
LAST-MODIFIED:20260327T083744Z
UID:10034299-1808853900-1808857500@www.dancesoul.com.tw
SUMMARY:Choreography-羅毅
DESCRIPTION:
URL:https://www.dancesoul.com.tw/schedule/choreography-%e7%be%85%e6%af%85-2-2/2027-04-27/
CATEGORIES:Choreography,常態課_一般,課程
END:VEVENT
BEGIN:VEVENT
DTSTART;TZID=Asia/Shanghai:20270427T202000
DTEND;TZID=Asia/Shanghai:20270427T212000
DTSTAMP:20260426T080118
CREATED:20250828T100203Z
LAST-MODIFIED:20250828T100203Z
UID:10023961-1808857200-1808860800@www.dancesoul.com.tw
SUMMARY:Free Style-俊宏
DESCRIPTION:
URL:https://www.dancesoul.com.tw/schedule/free-style-%e4%bf%8a%e5%ae%8f-29/2027-04-27/
CATEGORIES:Freestyle,常態課_一般,課程
END:VEVENT
BEGIN:VEVENT
DTSTART;TZID=Asia/Shanghai:20270427T213500
DTEND;TZID=Asia/Shanghai:20270427T223500
DTSTAMP:20260426T080118
CREATED:20260327T081822Z
LAST-MODIFIED:20260327T081932Z
UID:10032167-1808861700-1808865300@www.dancesoul.com.tw
SUMMARY:Hip Hop-承翰
DESCRIPTION:
URL:https://www.dancesoul.com.tw/schedule/hip-hop-%e6%89%bf%e7%bf%b0-2-3/2027-04-27/
CATEGORIES:Hip Hop,常態課_一般,課程
END:VEVENT
BEGIN:VEVENT
DTSTART;TZID=Asia/Shanghai:20270428T192500
DTEND;TZID=Asia/Shanghai:20270428T202500
DTSTAMP:20260426T080118
CREATED:20250828T102504Z
LAST-MODIFIED:20250828T102504Z
UID:10024744-1808940300-1808943900@www.dancesoul.com.tw
SUMMARY:Street Jazz-Larry
DESCRIPTION:
URL:https://www.dancesoul.com.tw/schedule/street-jazz-larry-30/2027-04-28/
CATEGORIES:STREET JAZZ,常態課_一般,課程
END:VEVENT
BEGIN:VEVENT
DTSTART;TZID=Asia/Shanghai:20270428T203000
DTEND;TZID=Asia/Shanghai:20270428T213000
DTSTAMP:20260426T080118
CREATED:20250828T103540Z
LAST-MODIFIED:20250828T103540Z
UID:10025005-1808944200-1808947800@www.dancesoul.com.tw
SUMMARY:Street Jazz-Kyle
DESCRIPTION:
URL:https://www.dancesoul.com.tw/schedule/street-jazz-kyle-4/2027-04-28/
CATEGORIES:STREET JAZZ,常態課_一般,課程
END:VEVENT
BEGIN:VEVENT
DTSTART;TZID=Asia/Shanghai:20270429T182000
DTEND;TZID=Asia/Shanghai:20270429T192000
DTSTAMP:20260426T080118
CREATED:20251202T055643Z
LAST-MODIFIED:20251202T055645Z
UID:10025527-1809022800-1809026400@www.dancesoul.com.tw
SUMMARY:Street Jazz-羊羊
DESCRIPTION:
URL:https://www.dancesoul.com.tw/schedule/hip-hop-%e4%bd%90%e4%bd%90-2-2/2027-04-29/
CATEGORIES:Hip Hop,常態課_一般,課程
END:VEVENT
BEGIN:VEVENT
DTSTART;TZID=Asia/Shanghai:20270429T213500
DTEND;TZID=Asia/Shanghai:20270429T223500
DTSTAMP:20260426T080118
CREATED:20250828T104929Z
LAST-MODIFIED:20250828T104929Z
UID:10026307-1809034500-1809038100@www.dancesoul.com.tw
SUMMARY:Choreography-巴豪
DESCRIPTION:
URL:https://www.dancesoul.com.tw/schedule/choreography-%e5%b7%b4%e8%b1%aa-7/2027-04-29/
CATEGORIES:Choreography,常態課_一般,課程
END:VEVENT
BEGIN:VEVENT
DTSTART;TZID=Asia/Shanghai:20270501T132000
DTEND;TZID=Asia/Shanghai:20270501T142000
DTSTAMP:20260426T080118
CREATED:20251201T070320Z
LAST-MODIFIED:20260315T072345Z
UID:10027347-1809177600-1809181200@www.dancesoul.com.tw
SUMMARY:兒童MV(初)(i-dle - 'Mona(Feat.skaiwater)')-薇臻
DESCRIPTION:
URL:https://www.dancesoul.com.tw/schedule/%e5%85%92%e7%ab%a5%e8%a1%97%e8%88%9e-%e8%96%87%e8%87%bb-21-2-2-2/2027-05-01/
CATEGORIES:兒童街舞,兒童課
END:VEVENT
BEGIN:VEVENT
DTSTART;TZID=Asia/Shanghai:20270501T143000
DTEND;TZID=Asia/Shanghai:20270501T153000
DTSTAMP:20260426T080118
CREATED:20251202T055414Z
LAST-MODIFIED:20260315T072223Z
UID:10027608-1809181800-1809185400@www.dancesoul.com.tw
SUMMARY:兒童MV(IVE - 'BANG BANG')-薇臻
DESCRIPTION:
URL:https://www.dancesoul.com.tw/schedule/%e5%85%92%e7%ab%a5mvbabymonster-hot-sauce-%e8%96%87%e8%87%bb-2/2027-05-01/
CATEGORIES:MV課,兒童MV,課程
END:VEVENT
BEGIN:VEVENT
DTSTART;TZID=Asia/Shanghai:20270501T154000
DTEND;TZID=Asia/Shanghai:20270501T164000
DTSTAMP:20260426T080118
CREATED:20250901T055134Z
LAST-MODIFIED:20260327T083158Z
UID:10033510-1809186000-1809189600@www.dancesoul.com.tw
SUMMARY:兒童Popping-勁宏
DESCRIPTION:
URL:https://www.dancesoul.com.tw/schedule/%e5%85%92%e7%ab%a5popping-%e5%8b%81%e5%ae%8f-2/2027-05-01/
CATEGORIES:兒童街舞,課程
END:VEVENT
BEGIN:VEVENT
DTSTART;TZID=Asia/Shanghai:20270501T182000
DTEND;TZID=Asia/Shanghai:20270501T192000
DTSTAMP:20260426T080118
CREATED:20250901T055441Z
LAST-MODIFIED:20250901T055457Z
UID:10028131-1809195600-1809199200@www.dancesoul.com.tw
SUMMARY:Popping-紀威
DESCRIPTION:
URL:https://www.dancesoul.com.tw/schedule/popping-%e7%b4%80%e5%a8%81-54/2027-05-01/
CATEGORIES:Poppin,常態課_一般,課程
END:VEVENT
BEGIN:VEVENT
DTSTART;TZID=Asia/Shanghai:20270502T132000
DTEND;TZID=Asia/Shanghai:20270502T142000
DTSTAMP:20260426T080118
CREATED:20250901T055750Z
LAST-MODIFIED:20250901T055750Z
UID:10028914-1809264000-1809267600@www.dancesoul.com.tw
SUMMARY:兒童街舞-羿芃
DESCRIPTION:
URL:https://www.dancesoul.com.tw/schedule/%e5%85%92%e7%ab%a5%e8%a1%97%e8%88%9e-%e7%be%bf%e8%8a%83-20/2027-05-02/
CATEGORIES:兒童街舞,課程
END:VEVENT
BEGIN:VEVENT
DTSTART;TZID=Asia/Shanghai:20270502T143000
DTEND;TZID=Asia/Shanghai:20270502T153000
DTSTAMP:20260426T080118
CREATED:20260315T071830Z
LAST-MODIFIED:20260315T071830Z
UID:10029175-1809268200-1809271800@www.dancesoul.com.tw
SUMMARY:兒童MV(ILLIT-opps!)-羿芃
DESCRIPTION:
URL:https://www.dancesoul.com.tw/schedule/%e5%85%92%e7%ab%a5mvizna-sass-%e7%be%bf%e8%8a%83-2-2/2027-05-02/
CATEGORIES:兒童MV,兒童課
END:VEVENT
BEGIN:VEVENT
DTSTART;TZID=Asia/Shanghai:20270502T154000
DTEND;TZID=Asia/Shanghai:20270502T164000
DTSTAMP:20260426T080118
CREATED:20250901T060229Z
LAST-MODIFIED:20250901T060229Z
UID:10029436-1809272400-1809276000@www.dancesoul.com.tw
SUMMARY:兒童Street Jazz-傘傘
DESCRIPTION:
URL:https://www.dancesoul.com.tw/schedule/%e5%85%92%e7%ab%a5street-jazz-%e5%82%98%e5%82%98-4/2027-05-02/
CATEGORIES:兒童街舞,兒童課
END:VEVENT
BEGIN:VEVENT
DTSTART;TZID=Asia/Shanghai:20270502T192500
DTEND;TZID=Asia/Shanghai:20270502T202500
DTSTAMP:20260426T080118
CREATED:20260327T081608Z
LAST-MODIFIED:20260327T081608Z
UID:10030219-1809285900-1809289500@www.dancesoul.com.tw
SUMMARY:Hip Hop-ROD
DESCRIPTION:
URL:https://www.dancesoul.com.tw/schedule/hip-hop-%e6%89%bf%e7%bf%b0-2-2/2027-05-02/
CATEGORIES:Hip Hop,常態課_一般,課程
END:VEVENT
END:VCALENDAR