BEGIN:VCALENDAR
VERSION:2.0
PRODID:-//DANCE SOUL 舞魂街舞學校 - ECPv6.15.18//NONSGML v1.0//EN
CALSCALE:GREGORIAN
METHOD:PUBLISH
X-WR-CALNAME:DANCE SOUL 舞魂街舞學校
X-ORIGINAL-URL:https://www.dancesoul.com.tw
X-WR-CALDESC:Events for DANCE SOUL 舞魂街舞學校
REFRESH-INTERVAL;VALUE=DURATION:PT1H
X-Robots-Tag:noindex
X-PUBLISHED-TTL:PT1H
BEGIN:VTIMEZONE
TZID:Asia/Shanghai
BEGIN:STANDARD
TZOFFSETFROM:+0800
TZOFFSETTO:+0800
TZNAME:CST
DTSTART:20240101T000000
END:STANDARD
END:VTIMEZONE
BEGIN:VEVENT
DTSTART;TZID=Asia/Shanghai:20250802T192500
DTEND;TZID=Asia/Shanghai:20250802T202500
DTSTAMP:20260423T014925
CREATED:20250623T132647Z
LAST-MODIFIED:20250725T090355Z
UID:10022206-1754162700-1754166300@www.dancesoul.com.tw
SUMMARY:Choreography(初)-無盡
DESCRIPTION:
URL:https://www.dancesoul.com.tw/schedule/choreography%e5%88%9d-%e7%84%a1%e7%9b%a1-13/2025-08-02/
CATEGORIES:Choreography,Choreography 初級
END:VEVENT
BEGIN:VEVENT
DTSTART;TZID=Asia/Shanghai:20250802T203000
DTEND;TZID=Asia/Shanghai:20250802T213000
DTSTAMP:20260423T014925
CREATED:20250623T132809Z
LAST-MODIFIED:20250725T090453Z
UID:10022211-1754166600-1754170200@www.dancesoul.com.tw
SUMMARY:基礎入門-雞蛋
DESCRIPTION:
URL:https://www.dancesoul.com.tw/schedule/%e5%9f%ba%e7%a4%8e%e5%85%a5%e9%96%80-%e9%9b%9e%e8%9b%8b-40/2025-08-02/
CATEGORIES:Hip Hop 初級,基礎入門
END:VEVENT
BEGIN:VEVENT
DTSTART;TZID=Asia/Shanghai:20250806T143000
DTEND;TZID=Asia/Shanghai:20250806T153000
DTSTAMP:20260423T014925
CREATED:20250623T121721Z
LAST-MODIFIED:20250725T080546Z
UID:10022109-1754490600-1754494200@www.dancesoul.com.tw
SUMMARY:基礎入門-無盡
DESCRIPTION:
URL:https://www.dancesoul.com.tw/schedule/%e5%9f%ba%e7%a4%8e%e5%85%a5%e9%96%80-%e7%84%a1%e7%9b%a1-9/2025-08-06/
CATEGORIES:基礎入門
END:VEVENT
BEGIN:VEVENT
DTSTART;TZID=Asia/Shanghai:20250809T192500
DTEND;TZID=Asia/Shanghai:20250809T202500
DTSTAMP:20260423T014925
CREATED:20250623T132647Z
LAST-MODIFIED:20250725T090355Z
UID:10022207-1754767500-1754771100@www.dancesoul.com.tw
SUMMARY:Choreography(初)-無盡
DESCRIPTION:
URL:https://www.dancesoul.com.tw/schedule/choreography%e5%88%9d-%e7%84%a1%e7%9b%a1-13/2025-08-09/
CATEGORIES:Choreography,Choreography 初級
END:VEVENT
BEGIN:VEVENT
DTSTART;TZID=Asia/Shanghai:20250809T203000
DTEND;TZID=Asia/Shanghai:20250809T213000
DTSTAMP:20260423T014925
CREATED:20250623T132809Z
LAST-MODIFIED:20250725T090453Z
UID:10022212-1754771400-1754775000@www.dancesoul.com.tw
SUMMARY:基礎入門-雞蛋
DESCRIPTION:
URL:https://www.dancesoul.com.tw/schedule/%e5%9f%ba%e7%a4%8e%e5%85%a5%e9%96%80-%e9%9b%9e%e8%9b%8b-40/2025-08-09/
CATEGORIES:Hip Hop 初級,基礎入門
END:VEVENT
BEGIN:VEVENT
DTSTART;TZID=Asia/Shanghai:20250813T143000
DTEND;TZID=Asia/Shanghai:20250813T153000
DTSTAMP:20260423T014925
CREATED:20250623T121721Z
LAST-MODIFIED:20250725T080546Z
UID:10022110-1755095400-1755099000@www.dancesoul.com.tw
SUMMARY:基礎入門-無盡
DESCRIPTION:
URL:https://www.dancesoul.com.tw/schedule/%e5%9f%ba%e7%a4%8e%e5%85%a5%e9%96%80-%e7%84%a1%e7%9b%a1-9/2025-08-13/
CATEGORIES:基礎入門
END:VEVENT
BEGIN:VEVENT
DTSTART;TZID=Asia/Shanghai:20250816T192500
DTEND;TZID=Asia/Shanghai:20250816T202500
DTSTAMP:20260423T014925
CREATED:20250623T132647Z
LAST-MODIFIED:20250725T090355Z
UID:10022208-1755372300-1755375900@www.dancesoul.com.tw
SUMMARY:Choreography(初)-無盡
DESCRIPTION:
URL:https://www.dancesoul.com.tw/schedule/choreography%e5%88%9d-%e7%84%a1%e7%9b%a1-13/2025-08-16/
CATEGORIES:Choreography,Choreography 初級
END:VEVENT
BEGIN:VEVENT
DTSTART;TZID=Asia/Shanghai:20250816T203000
DTEND;TZID=Asia/Shanghai:20250816T213000
DTSTAMP:20260423T014925
CREATED:20250623T132809Z
LAST-MODIFIED:20250725T090453Z
UID:10022213-1755376200-1755379800@www.dancesoul.com.tw
SUMMARY:基礎入門-雞蛋
DESCRIPTION:
URL:https://www.dancesoul.com.tw/schedule/%e5%9f%ba%e7%a4%8e%e5%85%a5%e9%96%80-%e9%9b%9e%e8%9b%8b-40/2025-08-16/
CATEGORIES:Hip Hop 初級,基礎入門
END:VEVENT
BEGIN:VEVENT
DTSTART;TZID=Asia/Shanghai:20250818T182000
DTEND;TZID=Asia/Shanghai:20250818T192000
DTSTAMP:20260423T014925
CREATED:20250623T110449Z
LAST-MODIFIED:20250828T093555Z
UID:10022037-1755541200-1755544800@www.dancesoul.com.tw
SUMMARY:Twerk（初）-碗公
DESCRIPTION:
URL:https://www.dancesoul.com.tw/schedule/twerk%ef%bc%88%e5%88%9d%ef%bc%89-%e7%a2%97%e5%85%ac/2025-08-18/
CATEGORIES:Twerk 初級
END:VEVENT
BEGIN:VEVENT
DTSTART;TZID=Asia/Shanghai:20250820T143000
DTEND;TZID=Asia/Shanghai:20250820T153000
DTSTAMP:20260423T014925
CREATED:20250623T121721Z
LAST-MODIFIED:20250725T080546Z
UID:10022111-1755700200-1755703800@www.dancesoul.com.tw
SUMMARY:基礎入門-無盡
DESCRIPTION:
URL:https://www.dancesoul.com.tw/schedule/%e5%9f%ba%e7%a4%8e%e5%85%a5%e9%96%80-%e7%84%a1%e7%9b%a1-9/2025-08-20/
CATEGORIES:基礎入門
END:VEVENT
BEGIN:VEVENT
DTSTART;TZID=Asia/Shanghai:20250823T192500
DTEND;TZID=Asia/Shanghai:20250823T202500
DTSTAMP:20260423T014925
CREATED:20250623T132647Z
LAST-MODIFIED:20250725T090355Z
UID:10022209-1755977100-1755980700@www.dancesoul.com.tw
SUMMARY:Choreography(初)-無盡
DESCRIPTION:
URL:https://www.dancesoul.com.tw/schedule/choreography%e5%88%9d-%e7%84%a1%e7%9b%a1-13/2025-08-23/
CATEGORIES:Choreography,Choreography 初級
END:VEVENT
BEGIN:VEVENT
DTSTART;TZID=Asia/Shanghai:20250823T203000
DTEND;TZID=Asia/Shanghai:20250823T213000
DTSTAMP:20260423T014925
CREATED:20250623T132809Z
LAST-MODIFIED:20250725T090453Z
UID:10022214-1755981000-1755984600@www.dancesoul.com.tw
SUMMARY:基礎入門-雞蛋
DESCRIPTION:
URL:https://www.dancesoul.com.tw/schedule/%e5%9f%ba%e7%a4%8e%e5%85%a5%e9%96%80-%e9%9b%9e%e8%9b%8b-40/2025-08-23/
CATEGORIES:Hip Hop 初級,基礎入門
END:VEVENT
BEGIN:VEVENT
DTSTART;TZID=Asia/Shanghai:20250827T143000
DTEND;TZID=Asia/Shanghai:20250827T153000
DTSTAMP:20260423T014925
CREATED:20250623T121721Z
LAST-MODIFIED:20250725T080546Z
UID:10022112-1756305000-1756308600@www.dancesoul.com.tw
SUMMARY:基礎入門-無盡
DESCRIPTION:
URL:https://www.dancesoul.com.tw/schedule/%e5%9f%ba%e7%a4%8e%e5%85%a5%e9%96%80-%e7%84%a1%e7%9b%a1-9/2025-08-27/
CATEGORIES:基礎入門
END:VEVENT
BEGIN:VEVENT
DTSTART;TZID=Asia/Shanghai:20250830T192500
DTEND;TZID=Asia/Shanghai:20250830T202500
DTSTAMP:20260423T014925
CREATED:20250623T132647Z
LAST-MODIFIED:20250725T090355Z
UID:10022210-1756581900-1756585500@www.dancesoul.com.tw
SUMMARY:Choreography(初)-無盡
DESCRIPTION:
URL:https://www.dancesoul.com.tw/schedule/choreography%e5%88%9d-%e7%84%a1%e7%9b%a1-13/2025-08-30/
CATEGORIES:Choreography,Choreography 初級
END:VEVENT
BEGIN:VEVENT
DTSTART;TZID=Asia/Shanghai:20250830T203000
DTEND;TZID=Asia/Shanghai:20250830T213000
DTSTAMP:20260423T014925
CREATED:20250623T132809Z
LAST-MODIFIED:20250725T090453Z
UID:10022215-1756585800-1756589400@www.dancesoul.com.tw
SUMMARY:基礎入門-雞蛋
DESCRIPTION:
URL:https://www.dancesoul.com.tw/schedule/%e5%9f%ba%e7%a4%8e%e5%85%a5%e9%96%80-%e9%9b%9e%e8%9b%8b-40/2025-08-30/
CATEGORIES:Hip Hop 初級,基礎入門
END:VEVENT
END:VCALENDAR