BEGIN:VCALENDAR
VERSION:2.0
PRODID:-//DANCE SOUL 舞魂街舞學校 - ECPv6.15.18//NONSGML v1.0//EN
CALSCALE:GREGORIAN
METHOD:PUBLISH
X-WR-CALNAME:DANCE SOUL 舞魂街舞學校
X-ORIGINAL-URL:https://www.dancesoul.com.tw
X-WR-CALDESC:Events for DANCE SOUL 舞魂街舞學校
REFRESH-INTERVAL;VALUE=DURATION:PT1H
X-Robots-Tag:noindex
X-PUBLISHED-TTL:PT1H
BEGIN:VTIMEZONE
TZID:Asia/Shanghai
BEGIN:STANDARD
TZOFFSETFROM:+0800
TZOFFSETTO:+0800
TZNAME:CST
DTSTART:20250101T000000
END:STANDARD
END:VTIMEZONE
BEGIN:VEVENT
DTSTART;TZID=Asia/Shanghai:20260902T182000
DTEND;TZID=Asia/Shanghai:20260902T192000
DTSTAMP:20260422T045747
CREATED:20260327T082544Z
LAST-MODIFIED:20260327T082544Z
UID:10032946-1788373200-1788376800@www.dancesoul.com.tw
SUMMARY:Choreography(初)-無盡
DESCRIPTION:
URL:https://www.dancesoul.com.tw/schedule/choreography%e5%88%9d-%e7%84%a1%e7%9b%a1-14-2/2026-09-02/
CATEGORIES:Choreography 初級,常態課_初級,課程
END:VEVENT
BEGIN:VEVENT
DTSTART;TZID=Asia/Shanghai:20260903T192500
DTEND;TZID=Asia/Shanghai:20260903T202500
DTSTAMP:20260422T045747
CREATED:20260327T082918Z
LAST-MODIFIED:20260327T084510Z
UID:10034792-1788463500-1788467100@www.dancesoul.com.tw
SUMMARY:Hip Hop(初)-林彤
DESCRIPTION:
URL:https://www.dancesoul.com.tw/schedule/hip-hop%e5%88%9d-%e6%9e%97%e5%bd%a4-3-2/2026-09-03/
CATEGORIES:Hip Hop 初級,常態課_初級,課程
END:VEVENT
BEGIN:VEVENT
DTSTART;TZID=Asia/Shanghai:20260905T192500
DTEND;TZID=Asia/Shanghai:20260905T202500
DTSTAMP:20260422T045747
CREATED:20260327T082346Z
LAST-MODIFIED:20260327T082346Z
UID:10032681-1788636300-1788639900@www.dancesoul.com.tw
SUMMARY:HIP HOP-GAGA
DESCRIPTION:
URL:https://www.dancesoul.com.tw/schedule/%e5%9f%ba%e7%a4%8e%e5%85%a5%e9%96%80-%e9%9b%9e%e8%9b%8b-41-2/2026-09-05/
CATEGORIES:基礎入門,常態課_初級,課程
END:VEVENT
BEGIN:VEVENT
DTSTART;TZID=Asia/Shanghai:20260909T182000
DTEND;TZID=Asia/Shanghai:20260909T192000
DTSTAMP:20260422T045747
CREATED:20260327T082544Z
LAST-MODIFIED:20260327T082544Z
UID:10032947-1788978000-1788981600@www.dancesoul.com.tw
SUMMARY:Choreography(初)-無盡
DESCRIPTION:
URL:https://www.dancesoul.com.tw/schedule/choreography%e5%88%9d-%e7%84%a1%e7%9b%a1-14-2/2026-09-09/
CATEGORIES:Choreography 初級,常態課_初級,課程
END:VEVENT
BEGIN:VEVENT
DTSTART;TZID=Asia/Shanghai:20260910T192500
DTEND;TZID=Asia/Shanghai:20260910T202500
DTSTAMP:20260422T045747
CREATED:20260327T082918Z
LAST-MODIFIED:20260327T084510Z
UID:10034793-1789068300-1789071900@www.dancesoul.com.tw
SUMMARY:Hip Hop(初)-林彤
DESCRIPTION:
URL:https://www.dancesoul.com.tw/schedule/hip-hop%e5%88%9d-%e6%9e%97%e5%bd%a4-3-2/2026-09-10/
CATEGORIES:Hip Hop 初級,常態課_初級,課程
END:VEVENT
BEGIN:VEVENT
DTSTART;TZID=Asia/Shanghai:20260912T192500
DTEND;TZID=Asia/Shanghai:20260912T202500
DTSTAMP:20260422T045747
CREATED:20260327T082346Z
LAST-MODIFIED:20260327T082346Z
UID:10032682-1789241100-1789244700@www.dancesoul.com.tw
SUMMARY:HIP HOP-GAGA
DESCRIPTION:
URL:https://www.dancesoul.com.tw/schedule/%e5%9f%ba%e7%a4%8e%e5%85%a5%e9%96%80-%e9%9b%9e%e8%9b%8b-41-2/2026-09-12/
CATEGORIES:基礎入門,常態課_初級,課程
END:VEVENT
BEGIN:VEVENT
DTSTART;TZID=Asia/Shanghai:20260916T182000
DTEND;TZID=Asia/Shanghai:20260916T192000
DTSTAMP:20260422T045747
CREATED:20260327T082544Z
LAST-MODIFIED:20260327T082544Z
UID:10032948-1789582800-1789586400@www.dancesoul.com.tw
SUMMARY:Choreography(初)-無盡
DESCRIPTION:
URL:https://www.dancesoul.com.tw/schedule/choreography%e5%88%9d-%e7%84%a1%e7%9b%a1-14-2/2026-09-16/
CATEGORIES:Choreography 初級,常態課_初級,課程
END:VEVENT
BEGIN:VEVENT
DTSTART;TZID=Asia/Shanghai:20260917T192500
DTEND;TZID=Asia/Shanghai:20260917T202500
DTSTAMP:20260422T045747
CREATED:20260327T082918Z
LAST-MODIFIED:20260327T084510Z
UID:10034794-1789673100-1789676700@www.dancesoul.com.tw
SUMMARY:Hip Hop(初)-林彤
DESCRIPTION:
URL:https://www.dancesoul.com.tw/schedule/hip-hop%e5%88%9d-%e6%9e%97%e5%bd%a4-3-2/2026-09-17/
CATEGORIES:Hip Hop 初級,常態課_初級,課程
END:VEVENT
BEGIN:VEVENT
DTSTART;TZID=Asia/Shanghai:20260919T192500
DTEND;TZID=Asia/Shanghai:20260919T202500
DTSTAMP:20260422T045747
CREATED:20260327T082346Z
LAST-MODIFIED:20260327T082346Z
UID:10032683-1789845900-1789849500@www.dancesoul.com.tw
SUMMARY:HIP HOP-GAGA
DESCRIPTION:
URL:https://www.dancesoul.com.tw/schedule/%e5%9f%ba%e7%a4%8e%e5%85%a5%e9%96%80-%e9%9b%9e%e8%9b%8b-41-2/2026-09-19/
CATEGORIES:基礎入門,常態課_初級,課程
END:VEVENT
BEGIN:VEVENT
DTSTART;TZID=Asia/Shanghai:20260923T182000
DTEND;TZID=Asia/Shanghai:20260923T192000
DTSTAMP:20260422T045747
CREATED:20260327T082544Z
LAST-MODIFIED:20260327T082544Z
UID:10032949-1790187600-1790191200@www.dancesoul.com.tw
SUMMARY:Choreography(初)-無盡
DESCRIPTION:
URL:https://www.dancesoul.com.tw/schedule/choreography%e5%88%9d-%e7%84%a1%e7%9b%a1-14-2/2026-09-23/
CATEGORIES:Choreography 初級,常態課_初級,課程
END:VEVENT
BEGIN:VEVENT
DTSTART;TZID=Asia/Shanghai:20260924T192500
DTEND;TZID=Asia/Shanghai:20260924T202500
DTSTAMP:20260422T045747
CREATED:20260327T082918Z
LAST-MODIFIED:20260327T084510Z
UID:10034795-1790277900-1790281500@www.dancesoul.com.tw
SUMMARY:Hip Hop(初)-林彤
DESCRIPTION:
URL:https://www.dancesoul.com.tw/schedule/hip-hop%e5%88%9d-%e6%9e%97%e5%bd%a4-3-2/2026-09-24/
CATEGORIES:Hip Hop 初級,常態課_初級,課程
END:VEVENT
BEGIN:VEVENT
DTSTART;TZID=Asia/Shanghai:20260926T192500
DTEND;TZID=Asia/Shanghai:20260926T202500
DTSTAMP:20260422T045748
CREATED:20260327T082346Z
LAST-MODIFIED:20260327T082346Z
UID:10032684-1790450700-1790454300@www.dancesoul.com.tw
SUMMARY:HIP HOP-GAGA
DESCRIPTION:
URL:https://www.dancesoul.com.tw/schedule/%e5%9f%ba%e7%a4%8e%e5%85%a5%e9%96%80-%e9%9b%9e%e8%9b%8b-41-2/2026-09-26/
CATEGORIES:基礎入門,常態課_初級,課程
END:VEVENT
BEGIN:VEVENT
DTSTART;TZID=Asia/Shanghai:20260930T182000
DTEND;TZID=Asia/Shanghai:20260930T192000
DTSTAMP:20260422T045748
CREATED:20260327T082544Z
LAST-MODIFIED:20260327T082544Z
UID:10032950-1790792400-1790796000@www.dancesoul.com.tw
SUMMARY:Choreography(初)-無盡
DESCRIPTION:
URL:https://www.dancesoul.com.tw/schedule/choreography%e5%88%9d-%e7%84%a1%e7%9b%a1-14-2/2026-09-30/
CATEGORIES:Choreography 初級,常態課_初級,課程
END:VEVENT
END:VCALENDAR