BEGIN:VCALENDAR
VERSION:2.0
PRODID:-//DANCE SOUL 舞魂街舞學校 - ECPv6.15.18//NONSGML v1.0//EN
CALSCALE:GREGORIAN
METHOD:PUBLISH
X-WR-CALNAME:DANCE SOUL 舞魂街舞學校
X-ORIGINAL-URL:https://www.dancesoul.com.tw
X-WR-CALDESC:Events for DANCE SOUL 舞魂街舞學校
REFRESH-INTERVAL;VALUE=DURATION:PT1H
X-Robots-Tag:noindex
X-PUBLISHED-TTL:PT1H
BEGIN:VTIMEZONE
TZID:Asia/Shanghai
BEGIN:STANDARD
TZOFFSETFROM:+0800
TZOFFSETTO:+0800
TZNAME:CST
DTSTART:20250101T000000
END:STANDARD
END:VTIMEZONE
BEGIN:VEVENT
DTSTART;TZID=Asia/Shanghai:20260701T182000
DTEND;TZID=Asia/Shanghai:20260701T192000
DTSTAMP:20260421T054359
CREATED:20260327T082544Z
LAST-MODIFIED:20260327T082544Z
UID:10032937-1782930000-1782933600@www.dancesoul.com.tw
SUMMARY:Choreography(初)-無盡
DESCRIPTION:
URL:https://www.dancesoul.com.tw/schedule/choreography%e5%88%9d-%e7%84%a1%e7%9b%a1-14-2/2026-07-01/
CATEGORIES:Choreography 初級,常態課_初級,課程
END:VEVENT
BEGIN:VEVENT
DTSTART;TZID=Asia/Shanghai:20260708T182000
DTEND;TZID=Asia/Shanghai:20260708T192000
DTSTAMP:20260421T054359
CREATED:20260327T082544Z
LAST-MODIFIED:20260327T082544Z
UID:10032938-1783534800-1783538400@www.dancesoul.com.tw
SUMMARY:Choreography(初)-無盡
DESCRIPTION:
URL:https://www.dancesoul.com.tw/schedule/choreography%e5%88%9d-%e7%84%a1%e7%9b%a1-14-2/2026-07-08/
CATEGORIES:Choreography 初級,常態課_初級,課程
END:VEVENT
BEGIN:VEVENT
DTSTART;TZID=Asia/Shanghai:20260715T182000
DTEND;TZID=Asia/Shanghai:20260715T192000
DTSTAMP:20260421T054359
CREATED:20260327T082544Z
LAST-MODIFIED:20260327T082544Z
UID:10032939-1784139600-1784143200@www.dancesoul.com.tw
SUMMARY:Choreography(初)-無盡
DESCRIPTION:
URL:https://www.dancesoul.com.tw/schedule/choreography%e5%88%9d-%e7%84%a1%e7%9b%a1-14-2/2026-07-15/
CATEGORIES:Choreography 初級,常態課_初級,課程
END:VEVENT
BEGIN:VEVENT
DTSTART;TZID=Asia/Shanghai:20260722T182000
DTEND;TZID=Asia/Shanghai:20260722T192000
DTSTAMP:20260421T054359
CREATED:20260327T082544Z
LAST-MODIFIED:20260327T082544Z
UID:10032940-1784744400-1784748000@www.dancesoul.com.tw
SUMMARY:Choreography(初)-無盡
DESCRIPTION:
URL:https://www.dancesoul.com.tw/schedule/choreography%e5%88%9d-%e7%84%a1%e7%9b%a1-14-2/2026-07-22/
CATEGORIES:Choreography 初級,常態課_初級,課程
END:VEVENT
BEGIN:VEVENT
DTSTART;TZID=Asia/Shanghai:20260729T182000
DTEND;TZID=Asia/Shanghai:20260729T192000
DTSTAMP:20260421T054359
CREATED:20260327T082544Z
LAST-MODIFIED:20260327T082544Z
UID:10032941-1785349200-1785352800@www.dancesoul.com.tw
SUMMARY:Choreography(初)-無盡
DESCRIPTION:
URL:https://www.dancesoul.com.tw/schedule/choreography%e5%88%9d-%e7%84%a1%e7%9b%a1-14-2/2026-07-29/
CATEGORIES:Choreography 初級,常態課_初級,課程
END:VEVENT
END:VCALENDAR