BEGIN:VCALENDAR
VERSION:2.0
PRODID:-//DANCE SOUL 舞魂街舞學校 - ECPv6.15.18//NONSGML v1.0//EN
CALSCALE:GREGORIAN
METHOD:PUBLISH
X-ORIGINAL-URL:https://www.dancesoul.com.tw
X-WR-CALDESC:Events for DANCE SOUL 舞魂街舞學校
REFRESH-INTERVAL;VALUE=DURATION:PT1H
X-Robots-Tag:noindex
X-PUBLISHED-TTL:PT1H
BEGIN:VTIMEZONE
TZID:Asia/Shanghai
BEGIN:STANDARD
TZOFFSETFROM:+0800
TZOFFSETTO:+0800
TZNAME:CST
DTSTART:20240101T000000
END:STANDARD
END:VTIMEZONE
BEGIN:VEVENT
DTSTART;TZID=Asia/Shanghai:20250228T192500
DTEND;TZID=Asia/Shanghai:20250228T202500
DTSTAMP:20260422T092718
CREATED:20250126T121634Z
LAST-MODIFIED:20250126T121634Z
UID:10021132-1740770700-1740774300@www.dancesoul.com.tw
SUMMARY:Hip Hop(初)-佐佐
DESCRIPTION:
URL:https://www.dancesoul.com.tw/schedule/hip-hop%e5%88%9d-%e4%bd%90%e4%bd%90-19/2025-02-28/
CATEGORIES:Hip Hop 初級,常態課_初級,課程
END:VEVENT
BEGIN:VEVENT
DTSTART;TZID=Asia/Shanghai:20250228T203000
DTEND;TZID=Asia/Shanghai:20250228T213000
DTSTAMP:20260422T092718
CREATED:20250126T121741Z
LAST-MODIFIED:20250213T201555Z
UID:10021136-1740774600-1740778200@www.dancesoul.com.tw
SUMMARY:Hip Hop(初)-佐佐
DESCRIPTION:
URL:https://www.dancesoul.com.tw/schedule/hip-hop%e5%88%9d-%e4%bd%90%e4%bd%90-20/2025-02-28/
CATEGORIES:Hip Hop 初級,常態課_初級,課程
ATTACH;FMTTYPE=image/png:https://www.dancesoul.com.tw/wp-content/uploads/2024/08/cropped-379633145_833939798333649_4821612741604793782_n-removebg-preview-1.png
END:VEVENT
BEGIN:VEVENT
DTSTART;TZID=Asia/Shanghai:20250302T192500
DTEND;TZID=Asia/Shanghai:20250302T202500
DTSTAMP:20260422T092718
CREATED:20250223T102747Z
LAST-MODIFIED:20250223T103238Z
UID:10021206-1740943500-1740947100@www.dancesoul.com.tw
SUMMARY:Hip Hop(初)-承翰
DESCRIPTION:
URL:https://www.dancesoul.com.tw/schedule/hip-hop%e5%88%9d-%e6%89%bf%e7%bf%b0-14/2025-03-02/
CATEGORIES:Hip Hop 初級,常態課_初級,課程
END:VEVENT
END:VCALENDAR