BEGIN:VCALENDAR
VERSION:2.0
PRODID:-//DANCE SOUL 舞魂街舞學校 - ECPv6.15.18//NONSGML v1.0//EN
CALSCALE:GREGORIAN
METHOD:PUBLISH
X-ORIGINAL-URL:https://www.dancesoul.com.tw
X-WR-CALDESC:Events for DANCE SOUL 舞魂街舞學校
REFRESH-INTERVAL;VALUE=DURATION:PT1H
X-Robots-Tag:noindex
X-PUBLISHED-TTL:PT1H
BEGIN:VTIMEZONE
TZID:Asia/Shanghai
BEGIN:STANDARD
TZOFFSETFROM:+0800
TZOFFSETTO:+0800
TZNAME:CST
DTSTART:20260101T000000
END:STANDARD
END:VTIMEZONE
BEGIN:VEVENT
DTSTART;TZID=Asia/Shanghai:20270918T192500
DTEND;TZID=Asia/Shanghai:20270918T202500
DTSTAMP:20260422T194636
CREATED:20260327T082346Z
LAST-MODIFIED:20260327T082346Z
UID:10032735-1821295500-1821299100@www.dancesoul.com.tw
SUMMARY:HIP HOP-GAGA
DESCRIPTION:
URL:https://www.dancesoul.com.tw/schedule/%e5%9f%ba%e7%a4%8e%e5%85%a5%e9%96%80-%e9%9b%9e%e8%9b%8b-41-2/2027-09-18/
CATEGORIES:基礎入門,常態課_初級,課程
END:VEVENT
BEGIN:VEVENT
DTSTART;TZID=Asia/Shanghai:20270922T182000
DTEND;TZID=Asia/Shanghai:20270922T192000
DTSTAMP:20260422T194636
CREATED:20260327T082544Z
LAST-MODIFIED:20260327T082544Z
UID:10033001-1821637200-1821640800@www.dancesoul.com.tw
SUMMARY:Choreography(初)-無盡
DESCRIPTION:
URL:https://www.dancesoul.com.tw/schedule/choreography%e5%88%9d-%e7%84%a1%e7%9b%a1-14-2/2027-09-22/
CATEGORIES:Choreography 初級,常態課_初級,課程
END:VEVENT
BEGIN:VEVENT
DTSTART;TZID=Asia/Shanghai:20270923T192500
DTEND;TZID=Asia/Shanghai:20270923T202500
DTSTAMP:20260422T194636
CREATED:20260327T082918Z
LAST-MODIFIED:20260327T084510Z
UID:10034847-1821727500-1821731100@www.dancesoul.com.tw
SUMMARY:Hip Hop(初)-林彤
DESCRIPTION:
URL:https://www.dancesoul.com.tw/schedule/hip-hop%e5%88%9d-%e6%9e%97%e5%bd%a4-3-2/2027-09-23/
CATEGORIES:Hip Hop 初級,常態課_初級,課程
END:VEVENT
BEGIN:VEVENT
DTSTART;TZID=Asia/Shanghai:20270925T192500
DTEND;TZID=Asia/Shanghai:20270925T202500
DTSTAMP:20260422T194636
CREATED:20260327T082346Z
LAST-MODIFIED:20260327T082346Z
UID:10032736-1821900300-1821903900@www.dancesoul.com.tw
SUMMARY:HIP HOP-GAGA
DESCRIPTION:
URL:https://www.dancesoul.com.tw/schedule/%e5%9f%ba%e7%a4%8e%e5%85%a5%e9%96%80-%e9%9b%9e%e8%9b%8b-41-2/2027-09-25/
CATEGORIES:基礎入門,常態課_初級,課程
END:VEVENT
BEGIN:VEVENT
DTSTART;TZID=Asia/Shanghai:20270929T182000
DTEND;TZID=Asia/Shanghai:20270929T192000
DTSTAMP:20260422T194636
CREATED:20260327T082544Z
LAST-MODIFIED:20260327T082544Z
UID:10033002-1822242000-1822245600@www.dancesoul.com.tw
SUMMARY:Choreography(初)-無盡
DESCRIPTION:
URL:https://www.dancesoul.com.tw/schedule/choreography%e5%88%9d-%e7%84%a1%e7%9b%a1-14-2/2027-09-29/
CATEGORIES:Choreography 初級,常態課_初級,課程
END:VEVENT
BEGIN:VEVENT
DTSTART;TZID=Asia/Shanghai:20270930T192500
DTEND;TZID=Asia/Shanghai:20270930T202500
DTSTAMP:20260422T194636
CREATED:20260327T082918Z
LAST-MODIFIED:20260327T084510Z
UID:10034848-1822332300-1822335900@www.dancesoul.com.tw
SUMMARY:Hip Hop(初)-林彤
DESCRIPTION:
URL:https://www.dancesoul.com.tw/schedule/hip-hop%e5%88%9d-%e6%9e%97%e5%bd%a4-3-2/2027-09-30/
CATEGORIES:Hip Hop 初級,常態課_初級,課程
END:VEVENT
BEGIN:VEVENT
DTSTART;TZID=Asia/Shanghai:20271002T192500
DTEND;TZID=Asia/Shanghai:20271002T202500
DTSTAMP:20260422T194636
CREATED:20260327T082346Z
LAST-MODIFIED:20260327T082346Z
UID:10032737-1822505100-1822508700@www.dancesoul.com.tw
SUMMARY:HIP HOP-GAGA
DESCRIPTION:
URL:https://www.dancesoul.com.tw/schedule/%e5%9f%ba%e7%a4%8e%e5%85%a5%e9%96%80-%e9%9b%9e%e8%9b%8b-41-2/2027-10-02/
CATEGORIES:基礎入門,常態課_初級,課程
END:VEVENT
BEGIN:VEVENT
DTSTART;TZID=Asia/Shanghai:20271006T182000
DTEND;TZID=Asia/Shanghai:20271006T192000
DTSTAMP:20260422T194636
CREATED:20260327T082544Z
LAST-MODIFIED:20260327T082544Z
UID:10033003-1822846800-1822850400@www.dancesoul.com.tw
SUMMARY:Choreography(初)-無盡
DESCRIPTION:
URL:https://www.dancesoul.com.tw/schedule/choreography%e5%88%9d-%e7%84%a1%e7%9b%a1-14-2/2027-10-06/
CATEGORIES:Choreography 初級,常態課_初級,課程
END:VEVENT
BEGIN:VEVENT
DTSTART;TZID=Asia/Shanghai:20271007T192500
DTEND;TZID=Asia/Shanghai:20271007T202500
DTSTAMP:20260422T194636
CREATED:20260327T082918Z
LAST-MODIFIED:20260327T084510Z
UID:10034849-1822937100-1822940700@www.dancesoul.com.tw
SUMMARY:Hip Hop(初)-林彤
DESCRIPTION:
URL:https://www.dancesoul.com.tw/schedule/hip-hop%e5%88%9d-%e6%9e%97%e5%bd%a4-3-2/2027-10-07/
CATEGORIES:Hip Hop 初級,常態課_初級,課程
END:VEVENT
BEGIN:VEVENT
DTSTART;TZID=Asia/Shanghai:20271009T192500
DTEND;TZID=Asia/Shanghai:20271009T202500
DTSTAMP:20260422T194636
CREATED:20260327T082346Z
LAST-MODIFIED:20260327T082346Z
UID:10032738-1823109900-1823113500@www.dancesoul.com.tw
SUMMARY:HIP HOP-GAGA
DESCRIPTION:
URL:https://www.dancesoul.com.tw/schedule/%e5%9f%ba%e7%a4%8e%e5%85%a5%e9%96%80-%e9%9b%9e%e8%9b%8b-41-2/2027-10-09/
CATEGORIES:基礎入門,常態課_初級,課程
END:VEVENT
BEGIN:VEVENT
DTSTART;TZID=Asia/Shanghai:20271013T182000
DTEND;TZID=Asia/Shanghai:20271013T192000
DTSTAMP:20260422T194636
CREATED:20260327T082544Z
LAST-MODIFIED:20260327T082544Z
UID:10033004-1823451600-1823455200@www.dancesoul.com.tw
SUMMARY:Choreography(初)-無盡
DESCRIPTION:
URL:https://www.dancesoul.com.tw/schedule/choreography%e5%88%9d-%e7%84%a1%e7%9b%a1-14-2/2027-10-13/
CATEGORIES:Choreography 初級,常態課_初級,課程
END:VEVENT
BEGIN:VEVENT
DTSTART;TZID=Asia/Shanghai:20271014T192500
DTEND;TZID=Asia/Shanghai:20271014T202500
DTSTAMP:20260422T194636
CREATED:20260327T082918Z
LAST-MODIFIED:20260327T084510Z
UID:10034850-1823541900-1823545500@www.dancesoul.com.tw
SUMMARY:Hip Hop(初)-林彤
DESCRIPTION:
URL:https://www.dancesoul.com.tw/schedule/hip-hop%e5%88%9d-%e6%9e%97%e5%bd%a4-3-2/2027-10-14/
CATEGORIES:Hip Hop 初級,常態課_初級,課程
END:VEVENT
BEGIN:VEVENT
DTSTART;TZID=Asia/Shanghai:20271016T192500
DTEND;TZID=Asia/Shanghai:20271016T202500
DTSTAMP:20260422T194636
CREATED:20260327T082346Z
LAST-MODIFIED:20260327T082346Z
UID:10032739-1823714700-1823718300@www.dancesoul.com.tw
SUMMARY:HIP HOP-GAGA
DESCRIPTION:
URL:https://www.dancesoul.com.tw/schedule/%e5%9f%ba%e7%a4%8e%e5%85%a5%e9%96%80-%e9%9b%9e%e8%9b%8b-41-2/2027-10-16/
CATEGORIES:基礎入門,常態課_初級,課程
END:VEVENT
BEGIN:VEVENT
DTSTART;TZID=Asia/Shanghai:20271020T182000
DTEND;TZID=Asia/Shanghai:20271020T192000
DTSTAMP:20260422T194636
CREATED:20260327T082544Z
LAST-MODIFIED:20260327T082544Z
UID:10033005-1824056400-1824060000@www.dancesoul.com.tw
SUMMARY:Choreography(初)-無盡
DESCRIPTION:
URL:https://www.dancesoul.com.tw/schedule/choreography%e5%88%9d-%e7%84%a1%e7%9b%a1-14-2/2027-10-20/
CATEGORIES:Choreography 初級,常態課_初級,課程
END:VEVENT
BEGIN:VEVENT
DTSTART;TZID=Asia/Shanghai:20271021T192500
DTEND;TZID=Asia/Shanghai:20271021T202500
DTSTAMP:20260422T194636
CREATED:20260327T082918Z
LAST-MODIFIED:20260327T084510Z
UID:10034851-1824146700-1824150300@www.dancesoul.com.tw
SUMMARY:Hip Hop(初)-林彤
DESCRIPTION:
URL:https://www.dancesoul.com.tw/schedule/hip-hop%e5%88%9d-%e6%9e%97%e5%bd%a4-3-2/2027-10-21/
CATEGORIES:Hip Hop 初級,常態課_初級,課程
END:VEVENT
BEGIN:VEVENT
DTSTART;TZID=Asia/Shanghai:20271023T192500
DTEND;TZID=Asia/Shanghai:20271023T202500
DTSTAMP:20260422T194636
CREATED:20260327T082346Z
LAST-MODIFIED:20260327T082346Z
UID:10032740-1824319500-1824323100@www.dancesoul.com.tw
SUMMARY:HIP HOP-GAGA
DESCRIPTION:
URL:https://www.dancesoul.com.tw/schedule/%e5%9f%ba%e7%a4%8e%e5%85%a5%e9%96%80-%e9%9b%9e%e8%9b%8b-41-2/2027-10-23/
CATEGORIES:基礎入門,常態課_初級,課程
END:VEVENT
BEGIN:VEVENT
DTSTART;TZID=Asia/Shanghai:20271027T182000
DTEND;TZID=Asia/Shanghai:20271027T192000
DTSTAMP:20260422T194636
CREATED:20260327T082544Z
LAST-MODIFIED:20260327T082544Z
UID:10033006-1824661200-1824664800@www.dancesoul.com.tw
SUMMARY:Choreography(初)-無盡
DESCRIPTION:
URL:https://www.dancesoul.com.tw/schedule/choreography%e5%88%9d-%e7%84%a1%e7%9b%a1-14-2/2027-10-27/
CATEGORIES:Choreography 初級,常態課_初級,課程
END:VEVENT
BEGIN:VEVENT
DTSTART;TZID=Asia/Shanghai:20271028T192500
DTEND;TZID=Asia/Shanghai:20271028T202500
DTSTAMP:20260422T194636
CREATED:20260327T082918Z
LAST-MODIFIED:20260327T084510Z
UID:10034852-1824751500-1824755100@www.dancesoul.com.tw
SUMMARY:Hip Hop(初)-林彤
DESCRIPTION:
URL:https://www.dancesoul.com.tw/schedule/hip-hop%e5%88%9d-%e6%9e%97%e5%bd%a4-3-2/2027-10-28/
CATEGORIES:Hip Hop 初級,常態課_初級,課程
END:VEVENT
BEGIN:VEVENT
DTSTART;TZID=Asia/Shanghai:20271030T192500
DTEND;TZID=Asia/Shanghai:20271030T202500
DTSTAMP:20260422T194636
CREATED:20260327T082346Z
LAST-MODIFIED:20260327T082346Z
UID:10032741-1824924300-1824927900@www.dancesoul.com.tw
SUMMARY:HIP HOP-GAGA
DESCRIPTION:
URL:https://www.dancesoul.com.tw/schedule/%e5%9f%ba%e7%a4%8e%e5%85%a5%e9%96%80-%e9%9b%9e%e8%9b%8b-41-2/2027-10-30/
CATEGORIES:基礎入門,常態課_初級,課程
END:VEVENT
BEGIN:VEVENT
DTSTART;TZID=Asia/Shanghai:20271103T182000
DTEND;TZID=Asia/Shanghai:20271103T192000
DTSTAMP:20260422T194636
CREATED:20260327T082544Z
LAST-MODIFIED:20260327T082544Z
UID:10033007-1825266000-1825269600@www.dancesoul.com.tw
SUMMARY:Choreography(初)-無盡
DESCRIPTION:
URL:https://www.dancesoul.com.tw/schedule/choreography%e5%88%9d-%e7%84%a1%e7%9b%a1-14-2/2027-11-03/
CATEGORIES:Choreography 初級,常態課_初級,課程
END:VEVENT
BEGIN:VEVENT
DTSTART;TZID=Asia/Shanghai:20271104T192500
DTEND;TZID=Asia/Shanghai:20271104T202500
DTSTAMP:20260422T194636
CREATED:20260327T082918Z
LAST-MODIFIED:20260327T084510Z
UID:10034853-1825356300-1825359900@www.dancesoul.com.tw
SUMMARY:Hip Hop(初)-林彤
DESCRIPTION:
URL:https://www.dancesoul.com.tw/schedule/hip-hop%e5%88%9d-%e6%9e%97%e5%bd%a4-3-2/2027-11-04/
CATEGORIES:Hip Hop 初級,常態課_初級,課程
END:VEVENT
BEGIN:VEVENT
DTSTART;TZID=Asia/Shanghai:20271106T192500
DTEND;TZID=Asia/Shanghai:20271106T202500
DTSTAMP:20260422T194636
CREATED:20260327T082346Z
LAST-MODIFIED:20260327T082346Z
UID:10032742-1825529100-1825532700@www.dancesoul.com.tw
SUMMARY:HIP HOP-GAGA
DESCRIPTION:
URL:https://www.dancesoul.com.tw/schedule/%e5%9f%ba%e7%a4%8e%e5%85%a5%e9%96%80-%e9%9b%9e%e8%9b%8b-41-2/2027-11-06/
CATEGORIES:基礎入門,常態課_初級,課程
END:VEVENT
BEGIN:VEVENT
DTSTART;TZID=Asia/Shanghai:20271110T182000
DTEND;TZID=Asia/Shanghai:20271110T192000
DTSTAMP:20260422T194636
CREATED:20260327T082544Z
LAST-MODIFIED:20260327T082544Z
UID:10033008-1825870800-1825874400@www.dancesoul.com.tw
SUMMARY:Choreography(初)-無盡
DESCRIPTION:
URL:https://www.dancesoul.com.tw/schedule/choreography%e5%88%9d-%e7%84%a1%e7%9b%a1-14-2/2027-11-10/
CATEGORIES:Choreography 初級,常態課_初級,課程
END:VEVENT
BEGIN:VEVENT
DTSTART;TZID=Asia/Shanghai:20271111T192500
DTEND;TZID=Asia/Shanghai:20271111T202500
DTSTAMP:20260422T194636
CREATED:20260327T082918Z
LAST-MODIFIED:20260327T084510Z
UID:10034854-1825961100-1825964700@www.dancesoul.com.tw
SUMMARY:Hip Hop(初)-林彤
DESCRIPTION:
URL:https://www.dancesoul.com.tw/schedule/hip-hop%e5%88%9d-%e6%9e%97%e5%bd%a4-3-2/2027-11-11/
CATEGORIES:Hip Hop 初級,常態課_初級,課程
END:VEVENT
BEGIN:VEVENT
DTSTART;TZID=Asia/Shanghai:20271113T192500
DTEND;TZID=Asia/Shanghai:20271113T202500
DTSTAMP:20260422T194636
CREATED:20260327T082346Z
LAST-MODIFIED:20260327T082346Z
UID:10032743-1826133900-1826137500@www.dancesoul.com.tw
SUMMARY:HIP HOP-GAGA
DESCRIPTION:
URL:https://www.dancesoul.com.tw/schedule/%e5%9f%ba%e7%a4%8e%e5%85%a5%e9%96%80-%e9%9b%9e%e8%9b%8b-41-2/2027-11-13/
CATEGORIES:基礎入門,常態課_初級,課程
END:VEVENT
BEGIN:VEVENT
DTSTART;TZID=Asia/Shanghai:20271117T182000
DTEND;TZID=Asia/Shanghai:20271117T192000
DTSTAMP:20260422T194636
CREATED:20260327T082544Z
LAST-MODIFIED:20260327T082544Z
UID:10033009-1826475600-1826479200@www.dancesoul.com.tw
SUMMARY:Choreography(初)-無盡
DESCRIPTION:
URL:https://www.dancesoul.com.tw/schedule/choreography%e5%88%9d-%e7%84%a1%e7%9b%a1-14-2/2027-11-17/
CATEGORIES:Choreography 初級,常態課_初級,課程
END:VEVENT
BEGIN:VEVENT
DTSTART;TZID=Asia/Shanghai:20271118T192500
DTEND;TZID=Asia/Shanghai:20271118T202500
DTSTAMP:20260422T194636
CREATED:20260327T082918Z
LAST-MODIFIED:20260327T084510Z
UID:10034855-1826565900-1826569500@www.dancesoul.com.tw
SUMMARY:Hip Hop(初)-林彤
DESCRIPTION:
URL:https://www.dancesoul.com.tw/schedule/hip-hop%e5%88%9d-%e6%9e%97%e5%bd%a4-3-2/2027-11-18/
CATEGORIES:Hip Hop 初級,常態課_初級,課程
END:VEVENT
BEGIN:VEVENT
DTSTART;TZID=Asia/Shanghai:20271120T192500
DTEND;TZID=Asia/Shanghai:20271120T202500
DTSTAMP:20260422T194636
CREATED:20260327T082346Z
LAST-MODIFIED:20260327T082346Z
UID:10032744-1826738700-1826742300@www.dancesoul.com.tw
SUMMARY:HIP HOP-GAGA
DESCRIPTION:
URL:https://www.dancesoul.com.tw/schedule/%e5%9f%ba%e7%a4%8e%e5%85%a5%e9%96%80-%e9%9b%9e%e8%9b%8b-41-2/2027-11-20/
CATEGORIES:基礎入門,常態課_初級,課程
END:VEVENT
BEGIN:VEVENT
DTSTART;TZID=Asia/Shanghai:20271124T182000
DTEND;TZID=Asia/Shanghai:20271124T192000
DTSTAMP:20260422T194636
CREATED:20260327T082544Z
LAST-MODIFIED:20260327T082544Z
UID:10033010-1827080400-1827084000@www.dancesoul.com.tw
SUMMARY:Choreography(初)-無盡
DESCRIPTION:
URL:https://www.dancesoul.com.tw/schedule/choreography%e5%88%9d-%e7%84%a1%e7%9b%a1-14-2/2027-11-24/
CATEGORIES:Choreography 初級,常態課_初級,課程
END:VEVENT
BEGIN:VEVENT
DTSTART;TZID=Asia/Shanghai:20271125T192500
DTEND;TZID=Asia/Shanghai:20271125T202500
DTSTAMP:20260422T194636
CREATED:20260327T082918Z
LAST-MODIFIED:20260327T084510Z
UID:10034856-1827170700-1827174300@www.dancesoul.com.tw
SUMMARY:Hip Hop(初)-林彤
DESCRIPTION:
URL:https://www.dancesoul.com.tw/schedule/hip-hop%e5%88%9d-%e6%9e%97%e5%bd%a4-3-2/2027-11-25/
CATEGORIES:Hip Hop 初級,常態課_初級,課程
END:VEVENT
END:VCALENDAR