BEGIN:VCALENDAR
VERSION:2.0
PRODID:-//DANCE SOUL 舞魂街舞學校 - ECPv6.15.18//NONSGML v1.0//EN
CALSCALE:GREGORIAN
METHOD:PUBLISH
X-WR-CALNAME:DANCE SOUL 舞魂街舞學校
X-ORIGINAL-URL:https://www.dancesoul.com.tw
X-WR-CALDESC:Events for DANCE SOUL 舞魂街舞學校
REFRESH-INTERVAL;VALUE=DURATION:PT1H
X-Robots-Tag:noindex
X-PUBLISHED-TTL:PT1H
BEGIN:VTIMEZONE
TZID:Asia/Shanghai
BEGIN:STANDARD
TZOFFSETFROM:+0800
TZOFFSETTO:+0800
TZNAME:CST
DTSTART:20250101T000000
END:STANDARD
END:VTIMEZONE
BEGIN:VEVENT
DTSTART;TZID=Asia/Shanghai:20261024T192500
DTEND;TZID=Asia/Shanghai:20261024T202500
DTSTAMP:20260421T120556
CREATED:20260327T082346Z
LAST-MODIFIED:20260327T082346Z
UID:10032688-1792869900-1792873500@www.dancesoul.com.tw
SUMMARY:HIP HOP-GAGA
DESCRIPTION:
URL:https://www.dancesoul.com.tw/schedule/%e5%9f%ba%e7%a4%8e%e5%85%a5%e9%96%80-%e9%9b%9e%e8%9b%8b-41-2/2026-10-24/
CATEGORIES:基礎入門,常態課_初級,課程
END:VEVENT
BEGIN:VEVENT
DTSTART;TZID=Asia/Shanghai:20261028T182000
DTEND;TZID=Asia/Shanghai:20261028T192000
DTSTAMP:20260421T120556
CREATED:20260327T082544Z
LAST-MODIFIED:20260327T082544Z
UID:10032954-1793211600-1793215200@www.dancesoul.com.tw
SUMMARY:Choreography(初)-無盡
DESCRIPTION:
URL:https://www.dancesoul.com.tw/schedule/choreography%e5%88%9d-%e7%84%a1%e7%9b%a1-14-2/2026-10-28/
CATEGORIES:Choreography 初級,常態課_初級,課程
END:VEVENT
BEGIN:VEVENT
DTSTART;TZID=Asia/Shanghai:20261029T192500
DTEND;TZID=Asia/Shanghai:20261029T202500
DTSTAMP:20260421T120556
CREATED:20260327T082918Z
LAST-MODIFIED:20260327T084510Z
UID:10034800-1793301900-1793305500@www.dancesoul.com.tw
SUMMARY:Hip Hop(初)-林彤
DESCRIPTION:
URL:https://www.dancesoul.com.tw/schedule/hip-hop%e5%88%9d-%e6%9e%97%e5%bd%a4-3-2/2026-10-29/
CATEGORIES:Hip Hop 初級,常態課_初級,課程
END:VEVENT
BEGIN:VEVENT
DTSTART;TZID=Asia/Shanghai:20261031T192500
DTEND;TZID=Asia/Shanghai:20261031T202500
DTSTAMP:20260421T120556
CREATED:20260327T082346Z
LAST-MODIFIED:20260327T082346Z
UID:10032689-1793474700-1793478300@www.dancesoul.com.tw
SUMMARY:HIP HOP-GAGA
DESCRIPTION:
URL:https://www.dancesoul.com.tw/schedule/%e5%9f%ba%e7%a4%8e%e5%85%a5%e9%96%80-%e9%9b%9e%e8%9b%8b-41-2/2026-10-31/
CATEGORIES:基礎入門,常態課_初級,課程
END:VEVENT
BEGIN:VEVENT
DTSTART;TZID=Asia/Shanghai:20261104T182000
DTEND;TZID=Asia/Shanghai:20261104T192000
DTSTAMP:20260421T120556
CREATED:20260327T082544Z
LAST-MODIFIED:20260327T082544Z
UID:10032955-1793816400-1793820000@www.dancesoul.com.tw
SUMMARY:Choreography(初)-無盡
DESCRIPTION:
URL:https://www.dancesoul.com.tw/schedule/choreography%e5%88%9d-%e7%84%a1%e7%9b%a1-14-2/2026-11-04/
CATEGORIES:Choreography 初級,常態課_初級,課程
END:VEVENT
BEGIN:VEVENT
DTSTART;TZID=Asia/Shanghai:20261105T192500
DTEND;TZID=Asia/Shanghai:20261105T202500
DTSTAMP:20260421T120556
CREATED:20260327T082918Z
LAST-MODIFIED:20260327T084510Z
UID:10034801-1793906700-1793910300@www.dancesoul.com.tw
SUMMARY:Hip Hop(初)-林彤
DESCRIPTION:
URL:https://www.dancesoul.com.tw/schedule/hip-hop%e5%88%9d-%e6%9e%97%e5%bd%a4-3-2/2026-11-05/
CATEGORIES:Hip Hop 初級,常態課_初級,課程
END:VEVENT
BEGIN:VEVENT
DTSTART;TZID=Asia/Shanghai:20261107T192500
DTEND;TZID=Asia/Shanghai:20261107T202500
DTSTAMP:20260421T120556
CREATED:20260327T082346Z
LAST-MODIFIED:20260327T082346Z
UID:10032690-1794079500-1794083100@www.dancesoul.com.tw
SUMMARY:HIP HOP-GAGA
DESCRIPTION:
URL:https://www.dancesoul.com.tw/schedule/%e5%9f%ba%e7%a4%8e%e5%85%a5%e9%96%80-%e9%9b%9e%e8%9b%8b-41-2/2026-11-07/
CATEGORIES:基礎入門,常態課_初級,課程
END:VEVENT
BEGIN:VEVENT
DTSTART;TZID=Asia/Shanghai:20261111T182000
DTEND;TZID=Asia/Shanghai:20261111T192000
DTSTAMP:20260421T120556
CREATED:20260327T082544Z
LAST-MODIFIED:20260327T082544Z
UID:10032956-1794421200-1794424800@www.dancesoul.com.tw
SUMMARY:Choreography(初)-無盡
DESCRIPTION:
URL:https://www.dancesoul.com.tw/schedule/choreography%e5%88%9d-%e7%84%a1%e7%9b%a1-14-2/2026-11-11/
CATEGORIES:Choreography 初級,常態課_初級,課程
END:VEVENT
BEGIN:VEVENT
DTSTART;TZID=Asia/Shanghai:20261112T192500
DTEND;TZID=Asia/Shanghai:20261112T202500
DTSTAMP:20260421T120556
CREATED:20260327T082918Z
LAST-MODIFIED:20260327T084510Z
UID:10034802-1794511500-1794515100@www.dancesoul.com.tw
SUMMARY:Hip Hop(初)-林彤
DESCRIPTION:
URL:https://www.dancesoul.com.tw/schedule/hip-hop%e5%88%9d-%e6%9e%97%e5%bd%a4-3-2/2026-11-12/
CATEGORIES:Hip Hop 初級,常態課_初級,課程
END:VEVENT
BEGIN:VEVENT
DTSTART;TZID=Asia/Shanghai:20261114T192500
DTEND;TZID=Asia/Shanghai:20261114T202500
DTSTAMP:20260421T120556
CREATED:20260327T082346Z
LAST-MODIFIED:20260327T082346Z
UID:10032691-1794684300-1794687900@www.dancesoul.com.tw
SUMMARY:HIP HOP-GAGA
DESCRIPTION:
URL:https://www.dancesoul.com.tw/schedule/%e5%9f%ba%e7%a4%8e%e5%85%a5%e9%96%80-%e9%9b%9e%e8%9b%8b-41-2/2026-11-14/
CATEGORIES:基礎入門,常態課_初級,課程
END:VEVENT
BEGIN:VEVENT
DTSTART;TZID=Asia/Shanghai:20261118T182000
DTEND;TZID=Asia/Shanghai:20261118T192000
DTSTAMP:20260421T120556
CREATED:20260327T082544Z
LAST-MODIFIED:20260327T082544Z
UID:10032957-1795026000-1795029600@www.dancesoul.com.tw
SUMMARY:Choreography(初)-無盡
DESCRIPTION:
URL:https://www.dancesoul.com.tw/schedule/choreography%e5%88%9d-%e7%84%a1%e7%9b%a1-14-2/2026-11-18/
CATEGORIES:Choreography 初級,常態課_初級,課程
END:VEVENT
BEGIN:VEVENT
DTSTART;TZID=Asia/Shanghai:20261119T192500
DTEND;TZID=Asia/Shanghai:20261119T202500
DTSTAMP:20260421T120556
CREATED:20260327T082918Z
LAST-MODIFIED:20260327T084510Z
UID:10034803-1795116300-1795119900@www.dancesoul.com.tw
SUMMARY:Hip Hop(初)-林彤
DESCRIPTION:
URL:https://www.dancesoul.com.tw/schedule/hip-hop%e5%88%9d-%e6%9e%97%e5%bd%a4-3-2/2026-11-19/
CATEGORIES:Hip Hop 初級,常態課_初級,課程
END:VEVENT
BEGIN:VEVENT
DTSTART;TZID=Asia/Shanghai:20261121T192500
DTEND;TZID=Asia/Shanghai:20261121T202500
DTSTAMP:20260421T120556
CREATED:20260327T082346Z
LAST-MODIFIED:20260327T082346Z
UID:10032692-1795289100-1795292700@www.dancesoul.com.tw
SUMMARY:HIP HOP-GAGA
DESCRIPTION:
URL:https://www.dancesoul.com.tw/schedule/%e5%9f%ba%e7%a4%8e%e5%85%a5%e9%96%80-%e9%9b%9e%e8%9b%8b-41-2/2026-11-21/
CATEGORIES:基礎入門,常態課_初級,課程
END:VEVENT
BEGIN:VEVENT
DTSTART;TZID=Asia/Shanghai:20261125T182000
DTEND;TZID=Asia/Shanghai:20261125T192000
DTSTAMP:20260421T120556
CREATED:20260327T082544Z
LAST-MODIFIED:20260327T082544Z
UID:10032958-1795630800-1795634400@www.dancesoul.com.tw
SUMMARY:Choreography(初)-無盡
DESCRIPTION:
URL:https://www.dancesoul.com.tw/schedule/choreography%e5%88%9d-%e7%84%a1%e7%9b%a1-14-2/2026-11-25/
CATEGORIES:Choreography 初級,常態課_初級,課程
END:VEVENT
BEGIN:VEVENT
DTSTART;TZID=Asia/Shanghai:20261126T192500
DTEND;TZID=Asia/Shanghai:20261126T202500
DTSTAMP:20260421T120556
CREATED:20260327T082918Z
LAST-MODIFIED:20260327T084510Z
UID:10034804-1795721100-1795724700@www.dancesoul.com.tw
SUMMARY:Hip Hop(初)-林彤
DESCRIPTION:
URL:https://www.dancesoul.com.tw/schedule/hip-hop%e5%88%9d-%e6%9e%97%e5%bd%a4-3-2/2026-11-26/
CATEGORIES:Hip Hop 初級,常態課_初級,課程
END:VEVENT
BEGIN:VEVENT
DTSTART;TZID=Asia/Shanghai:20261128T192500
DTEND;TZID=Asia/Shanghai:20261128T202500
DTSTAMP:20260421T120556
CREATED:20260327T082346Z
LAST-MODIFIED:20260327T082346Z
UID:10032693-1795893900-1795897500@www.dancesoul.com.tw
SUMMARY:HIP HOP-GAGA
DESCRIPTION:
URL:https://www.dancesoul.com.tw/schedule/%e5%9f%ba%e7%a4%8e%e5%85%a5%e9%96%80-%e9%9b%9e%e8%9b%8b-41-2/2026-11-28/
CATEGORIES:基礎入門,常態課_初級,課程
END:VEVENT
BEGIN:VEVENT
DTSTART;TZID=Asia/Shanghai:20261202T182000
DTEND;TZID=Asia/Shanghai:20261202T192000
DTSTAMP:20260421T120556
CREATED:20260327T082544Z
LAST-MODIFIED:20260327T082544Z
UID:10032959-1796235600-1796239200@www.dancesoul.com.tw
SUMMARY:Choreography(初)-無盡
DESCRIPTION:
URL:https://www.dancesoul.com.tw/schedule/choreography%e5%88%9d-%e7%84%a1%e7%9b%a1-14-2/2026-12-02/
CATEGORIES:Choreography 初級,常態課_初級,課程
END:VEVENT
BEGIN:VEVENT
DTSTART;TZID=Asia/Shanghai:20261203T192500
DTEND;TZID=Asia/Shanghai:20261203T202500
DTSTAMP:20260421T120556
CREATED:20260327T082918Z
LAST-MODIFIED:20260327T084510Z
UID:10034805-1796325900-1796329500@www.dancesoul.com.tw
SUMMARY:Hip Hop(初)-林彤
DESCRIPTION:
URL:https://www.dancesoul.com.tw/schedule/hip-hop%e5%88%9d-%e6%9e%97%e5%bd%a4-3-2/2026-12-03/
CATEGORIES:Hip Hop 初級,常態課_初級,課程
END:VEVENT
BEGIN:VEVENT
DTSTART;TZID=Asia/Shanghai:20261205T192500
DTEND;TZID=Asia/Shanghai:20261205T202500
DTSTAMP:20260421T120556
CREATED:20260327T082346Z
LAST-MODIFIED:20260327T082346Z
UID:10032694-1796498700-1796502300@www.dancesoul.com.tw
SUMMARY:HIP HOP-GAGA
DESCRIPTION:
URL:https://www.dancesoul.com.tw/schedule/%e5%9f%ba%e7%a4%8e%e5%85%a5%e9%96%80-%e9%9b%9e%e8%9b%8b-41-2/2026-12-05/
CATEGORIES:基礎入門,常態課_初級,課程
END:VEVENT
BEGIN:VEVENT
DTSTART;TZID=Asia/Shanghai:20261209T182000
DTEND;TZID=Asia/Shanghai:20261209T192000
DTSTAMP:20260421T120556
CREATED:20260327T082544Z
LAST-MODIFIED:20260327T082544Z
UID:10032960-1796840400-1796844000@www.dancesoul.com.tw
SUMMARY:Choreography(初)-無盡
DESCRIPTION:
URL:https://www.dancesoul.com.tw/schedule/choreography%e5%88%9d-%e7%84%a1%e7%9b%a1-14-2/2026-12-09/
CATEGORIES:Choreography 初級,常態課_初級,課程
END:VEVENT
BEGIN:VEVENT
DTSTART;TZID=Asia/Shanghai:20261210T192500
DTEND;TZID=Asia/Shanghai:20261210T202500
DTSTAMP:20260421T120556
CREATED:20260327T082918Z
LAST-MODIFIED:20260327T084510Z
UID:10034806-1796930700-1796934300@www.dancesoul.com.tw
SUMMARY:Hip Hop(初)-林彤
DESCRIPTION:
URL:https://www.dancesoul.com.tw/schedule/hip-hop%e5%88%9d-%e6%9e%97%e5%bd%a4-3-2/2026-12-10/
CATEGORIES:Hip Hop 初級,常態課_初級,課程
END:VEVENT
BEGIN:VEVENT
DTSTART;TZID=Asia/Shanghai:20261212T192500
DTEND;TZID=Asia/Shanghai:20261212T202500
DTSTAMP:20260421T120556
CREATED:20260327T082346Z
LAST-MODIFIED:20260327T082346Z
UID:10032695-1797103500-1797107100@www.dancesoul.com.tw
SUMMARY:HIP HOP-GAGA
DESCRIPTION:
URL:https://www.dancesoul.com.tw/schedule/%e5%9f%ba%e7%a4%8e%e5%85%a5%e9%96%80-%e9%9b%9e%e8%9b%8b-41-2/2026-12-12/
CATEGORIES:基礎入門,常態課_初級,課程
END:VEVENT
BEGIN:VEVENT
DTSTART;TZID=Asia/Shanghai:20261216T182000
DTEND;TZID=Asia/Shanghai:20261216T192000
DTSTAMP:20260421T120556
CREATED:20260327T082544Z
LAST-MODIFIED:20260327T082544Z
UID:10032961-1797445200-1797448800@www.dancesoul.com.tw
SUMMARY:Choreography(初)-無盡
DESCRIPTION:
URL:https://www.dancesoul.com.tw/schedule/choreography%e5%88%9d-%e7%84%a1%e7%9b%a1-14-2/2026-12-16/
CATEGORIES:Choreography 初級,常態課_初級,課程
END:VEVENT
BEGIN:VEVENT
DTSTART;TZID=Asia/Shanghai:20261217T192500
DTEND;TZID=Asia/Shanghai:20261217T202500
DTSTAMP:20260421T120556
CREATED:20260327T082918Z
LAST-MODIFIED:20260327T084510Z
UID:10034807-1797535500-1797539100@www.dancesoul.com.tw
SUMMARY:Hip Hop(初)-林彤
DESCRIPTION:
URL:https://www.dancesoul.com.tw/schedule/hip-hop%e5%88%9d-%e6%9e%97%e5%bd%a4-3-2/2026-12-17/
CATEGORIES:Hip Hop 初級,常態課_初級,課程
END:VEVENT
BEGIN:VEVENT
DTSTART;TZID=Asia/Shanghai:20261219T192500
DTEND;TZID=Asia/Shanghai:20261219T202500
DTSTAMP:20260421T120556
CREATED:20260327T082346Z
LAST-MODIFIED:20260327T082346Z
UID:10032696-1797708300-1797711900@www.dancesoul.com.tw
SUMMARY:HIP HOP-GAGA
DESCRIPTION:
URL:https://www.dancesoul.com.tw/schedule/%e5%9f%ba%e7%a4%8e%e5%85%a5%e9%96%80-%e9%9b%9e%e8%9b%8b-41-2/2026-12-19/
CATEGORIES:基礎入門,常態課_初級,課程
END:VEVENT
BEGIN:VEVENT
DTSTART;TZID=Asia/Shanghai:20261223T182000
DTEND;TZID=Asia/Shanghai:20261223T192000
DTSTAMP:20260421T120556
CREATED:20260327T082544Z
LAST-MODIFIED:20260327T082544Z
UID:10032962-1798050000-1798053600@www.dancesoul.com.tw
SUMMARY:Choreography(初)-無盡
DESCRIPTION:
URL:https://www.dancesoul.com.tw/schedule/choreography%e5%88%9d-%e7%84%a1%e7%9b%a1-14-2/2026-12-23/
CATEGORIES:Choreography 初級,常態課_初級,課程
END:VEVENT
BEGIN:VEVENT
DTSTART;TZID=Asia/Shanghai:20261224T192500
DTEND;TZID=Asia/Shanghai:20261224T202500
DTSTAMP:20260421T120556
CREATED:20260327T082918Z
LAST-MODIFIED:20260327T084510Z
UID:10034808-1798140300-1798143900@www.dancesoul.com.tw
SUMMARY:Hip Hop(初)-林彤
DESCRIPTION:
URL:https://www.dancesoul.com.tw/schedule/hip-hop%e5%88%9d-%e6%9e%97%e5%bd%a4-3-2/2026-12-24/
CATEGORIES:Hip Hop 初級,常態課_初級,課程
END:VEVENT
BEGIN:VEVENT
DTSTART;TZID=Asia/Shanghai:20261226T192500
DTEND;TZID=Asia/Shanghai:20261226T202500
DTSTAMP:20260421T120556
CREATED:20260327T082346Z
LAST-MODIFIED:20260327T082346Z
UID:10032697-1798313100-1798316700@www.dancesoul.com.tw
SUMMARY:HIP HOP-GAGA
DESCRIPTION:
URL:https://www.dancesoul.com.tw/schedule/%e5%9f%ba%e7%a4%8e%e5%85%a5%e9%96%80-%e9%9b%9e%e8%9b%8b-41-2/2026-12-26/
CATEGORIES:基礎入門,常態課_初級,課程
END:VEVENT
BEGIN:VEVENT
DTSTART;TZID=Asia/Shanghai:20261230T182000
DTEND;TZID=Asia/Shanghai:20261230T192000
DTSTAMP:20260421T120556
CREATED:20260327T082544Z
LAST-MODIFIED:20260327T082544Z
UID:10032963-1798654800-1798658400@www.dancesoul.com.tw
SUMMARY:Choreography(初)-無盡
DESCRIPTION:
URL:https://www.dancesoul.com.tw/schedule/choreography%e5%88%9d-%e7%84%a1%e7%9b%a1-14-2/2026-12-30/
CATEGORIES:Choreography 初級,常態課_初級,課程
END:VEVENT
BEGIN:VEVENT
DTSTART;TZID=Asia/Shanghai:20261231T192500
DTEND;TZID=Asia/Shanghai:20261231T202500
DTSTAMP:20260421T120556
CREATED:20260327T082918Z
LAST-MODIFIED:20260327T084510Z
UID:10034809-1798745100-1798748700@www.dancesoul.com.tw
SUMMARY:Hip Hop(初)-林彤
DESCRIPTION:
URL:https://www.dancesoul.com.tw/schedule/hip-hop%e5%88%9d-%e6%9e%97%e5%bd%a4-3-2/2026-12-31/
CATEGORIES:Hip Hop 初級,常態課_初級,課程
END:VEVENT
END:VCALENDAR