BEGIN:VCALENDAR
VERSION:2.0
PRODID:-//DANCE SOUL 舞魂街舞學校 - ECPv6.15.18//NONSGML v1.0//EN
CALSCALE:GREGORIAN
METHOD:PUBLISH
X-WR-CALNAME:DANCE SOUL 舞魂街舞學校
X-ORIGINAL-URL:https://www.dancesoul.com.tw
X-WR-CALDESC:Events for DANCE SOUL 舞魂街舞學校
REFRESH-INTERVAL;VALUE=DURATION:PT1H
X-Robots-Tag:noindex
X-PUBLISHED-TTL:PT1H
BEGIN:VTIMEZONE
TZID:Asia/Shanghai
BEGIN:STANDARD
TZOFFSETFROM:+0800
TZOFFSETTO:+0800
TZNAME:CST
DTSTART:20260101T000000
END:STANDARD
END:VTIMEZONE
BEGIN:VEVENT
DTSTART;TZID=Asia/Shanghai:20270313T192500
DTEND;TZID=Asia/Shanghai:20270313T202500
DTSTAMP:20260422T001515
CREATED:20260327T082346Z
LAST-MODIFIED:20260327T082346Z
UID:10032708-1804965900-1804969500@www.dancesoul.com.tw
SUMMARY:HIP HOP-GAGA
DESCRIPTION:
URL:https://www.dancesoul.com.tw/schedule/%e5%9f%ba%e7%a4%8e%e5%85%a5%e9%96%80-%e9%9b%9e%e8%9b%8b-41-2/2027-03-13/
CATEGORIES:基礎入門,常態課_初級,課程
END:VEVENT
BEGIN:VEVENT
DTSTART;TZID=Asia/Shanghai:20270317T182000
DTEND;TZID=Asia/Shanghai:20270317T192000
DTSTAMP:20260422T001515
CREATED:20260327T082544Z
LAST-MODIFIED:20260327T082544Z
UID:10032974-1805307600-1805311200@www.dancesoul.com.tw
SUMMARY:Choreography(初)-無盡
DESCRIPTION:
URL:https://www.dancesoul.com.tw/schedule/choreography%e5%88%9d-%e7%84%a1%e7%9b%a1-14-2/2027-03-17/
CATEGORIES:Choreography 初級,常態課_初級,課程
END:VEVENT
BEGIN:VEVENT
DTSTART;TZID=Asia/Shanghai:20270318T192500
DTEND;TZID=Asia/Shanghai:20270318T202500
DTSTAMP:20260422T001515
CREATED:20260327T082918Z
LAST-MODIFIED:20260327T084510Z
UID:10034820-1805397900-1805401500@www.dancesoul.com.tw
SUMMARY:Hip Hop(初)-林彤
DESCRIPTION:
URL:https://www.dancesoul.com.tw/schedule/hip-hop%e5%88%9d-%e6%9e%97%e5%bd%a4-3-2/2027-03-18/
CATEGORIES:Hip Hop 初級,常態課_初級,課程
END:VEVENT
BEGIN:VEVENT
DTSTART;TZID=Asia/Shanghai:20270320T192500
DTEND;TZID=Asia/Shanghai:20270320T202500
DTSTAMP:20260422T001515
CREATED:20260327T082346Z
LAST-MODIFIED:20260327T082346Z
UID:10032709-1805570700-1805574300@www.dancesoul.com.tw
SUMMARY:HIP HOP-GAGA
DESCRIPTION:
URL:https://www.dancesoul.com.tw/schedule/%e5%9f%ba%e7%a4%8e%e5%85%a5%e9%96%80-%e9%9b%9e%e8%9b%8b-41-2/2027-03-20/
CATEGORIES:基礎入門,常態課_初級,課程
END:VEVENT
BEGIN:VEVENT
DTSTART;TZID=Asia/Shanghai:20270324T182000
DTEND;TZID=Asia/Shanghai:20270324T192000
DTSTAMP:20260422T001515
CREATED:20260327T082544Z
LAST-MODIFIED:20260327T082544Z
UID:10032975-1805912400-1805916000@www.dancesoul.com.tw
SUMMARY:Choreography(初)-無盡
DESCRIPTION:
URL:https://www.dancesoul.com.tw/schedule/choreography%e5%88%9d-%e7%84%a1%e7%9b%a1-14-2/2027-03-24/
CATEGORIES:Choreography 初級,常態課_初級,課程
END:VEVENT
BEGIN:VEVENT
DTSTART;TZID=Asia/Shanghai:20270325T192500
DTEND;TZID=Asia/Shanghai:20270325T202500
DTSTAMP:20260422T001515
CREATED:20260327T082918Z
LAST-MODIFIED:20260327T084510Z
UID:10034821-1806002700-1806006300@www.dancesoul.com.tw
SUMMARY:Hip Hop(初)-林彤
DESCRIPTION:
URL:https://www.dancesoul.com.tw/schedule/hip-hop%e5%88%9d-%e6%9e%97%e5%bd%a4-3-2/2027-03-25/
CATEGORIES:Hip Hop 初級,常態課_初級,課程
END:VEVENT
BEGIN:VEVENT
DTSTART;TZID=Asia/Shanghai:20270327T192500
DTEND;TZID=Asia/Shanghai:20270327T202500
DTSTAMP:20260422T001515
CREATED:20260327T082346Z
LAST-MODIFIED:20260327T082346Z
UID:10032710-1806175500-1806179100@www.dancesoul.com.tw
SUMMARY:HIP HOP-GAGA
DESCRIPTION:
URL:https://www.dancesoul.com.tw/schedule/%e5%9f%ba%e7%a4%8e%e5%85%a5%e9%96%80-%e9%9b%9e%e8%9b%8b-41-2/2027-03-27/
CATEGORIES:基礎入門,常態課_初級,課程
END:VEVENT
BEGIN:VEVENT
DTSTART;TZID=Asia/Shanghai:20270331T182000
DTEND;TZID=Asia/Shanghai:20270331T192000
DTSTAMP:20260422T001515
CREATED:20260327T082544Z
LAST-MODIFIED:20260327T082544Z
UID:10032976-1806517200-1806520800@www.dancesoul.com.tw
SUMMARY:Choreography(初)-無盡
DESCRIPTION:
URL:https://www.dancesoul.com.tw/schedule/choreography%e5%88%9d-%e7%84%a1%e7%9b%a1-14-2/2027-03-31/
CATEGORIES:Choreography 初級,常態課_初級,課程
END:VEVENT
BEGIN:VEVENT
DTSTART;TZID=Asia/Shanghai:20270401T192500
DTEND;TZID=Asia/Shanghai:20270401T202500
DTSTAMP:20260422T001515
CREATED:20260327T082918Z
LAST-MODIFIED:20260327T084510Z
UID:10034822-1806607500-1806611100@www.dancesoul.com.tw
SUMMARY:Hip Hop(初)-林彤
DESCRIPTION:
URL:https://www.dancesoul.com.tw/schedule/hip-hop%e5%88%9d-%e6%9e%97%e5%bd%a4-3-2/2027-04-01/
CATEGORIES:Hip Hop 初級,常態課_初級,課程
END:VEVENT
BEGIN:VEVENT
DTSTART;TZID=Asia/Shanghai:20270403T192500
DTEND;TZID=Asia/Shanghai:20270403T202500
DTSTAMP:20260422T001515
CREATED:20260327T082346Z
LAST-MODIFIED:20260327T082346Z
UID:10032711-1806780300-1806783900@www.dancesoul.com.tw
SUMMARY:HIP HOP-GAGA
DESCRIPTION:
URL:https://www.dancesoul.com.tw/schedule/%e5%9f%ba%e7%a4%8e%e5%85%a5%e9%96%80-%e9%9b%9e%e8%9b%8b-41-2/2027-04-03/
CATEGORIES:基礎入門,常態課_初級,課程
END:VEVENT
BEGIN:VEVENT
DTSTART;TZID=Asia/Shanghai:20270407T182000
DTEND;TZID=Asia/Shanghai:20270407T192000
DTSTAMP:20260422T001515
CREATED:20260327T082544Z
LAST-MODIFIED:20260327T082544Z
UID:10032977-1807122000-1807125600@www.dancesoul.com.tw
SUMMARY:Choreography(初)-無盡
DESCRIPTION:
URL:https://www.dancesoul.com.tw/schedule/choreography%e5%88%9d-%e7%84%a1%e7%9b%a1-14-2/2027-04-07/
CATEGORIES:Choreography 初級,常態課_初級,課程
END:VEVENT
BEGIN:VEVENT
DTSTART;TZID=Asia/Shanghai:20270408T192500
DTEND;TZID=Asia/Shanghai:20270408T202500
DTSTAMP:20260422T001515
CREATED:20260327T082918Z
LAST-MODIFIED:20260327T084510Z
UID:10034823-1807212300-1807215900@www.dancesoul.com.tw
SUMMARY:Hip Hop(初)-林彤
DESCRIPTION:
URL:https://www.dancesoul.com.tw/schedule/hip-hop%e5%88%9d-%e6%9e%97%e5%bd%a4-3-2/2027-04-08/
CATEGORIES:Hip Hop 初級,常態課_初級,課程
END:VEVENT
BEGIN:VEVENT
DTSTART;TZID=Asia/Shanghai:20270410T192500
DTEND;TZID=Asia/Shanghai:20270410T202500
DTSTAMP:20260422T001515
CREATED:20260327T082346Z
LAST-MODIFIED:20260327T082346Z
UID:10032712-1807385100-1807388700@www.dancesoul.com.tw
SUMMARY:HIP HOP-GAGA
DESCRIPTION:
URL:https://www.dancesoul.com.tw/schedule/%e5%9f%ba%e7%a4%8e%e5%85%a5%e9%96%80-%e9%9b%9e%e8%9b%8b-41-2/2027-04-10/
CATEGORIES:基礎入門,常態課_初級,課程
END:VEVENT
BEGIN:VEVENT
DTSTART;TZID=Asia/Shanghai:20270414T182000
DTEND;TZID=Asia/Shanghai:20270414T192000
DTSTAMP:20260422T001515
CREATED:20260327T082544Z
LAST-MODIFIED:20260327T082544Z
UID:10032978-1807726800-1807730400@www.dancesoul.com.tw
SUMMARY:Choreography(初)-無盡
DESCRIPTION:
URL:https://www.dancesoul.com.tw/schedule/choreography%e5%88%9d-%e7%84%a1%e7%9b%a1-14-2/2027-04-14/
CATEGORIES:Choreography 初級,常態課_初級,課程
END:VEVENT
BEGIN:VEVENT
DTSTART;TZID=Asia/Shanghai:20270415T192500
DTEND;TZID=Asia/Shanghai:20270415T202500
DTSTAMP:20260422T001515
CREATED:20260327T082918Z
LAST-MODIFIED:20260327T084510Z
UID:10034824-1807817100-1807820700@www.dancesoul.com.tw
SUMMARY:Hip Hop(初)-林彤
DESCRIPTION:
URL:https://www.dancesoul.com.tw/schedule/hip-hop%e5%88%9d-%e6%9e%97%e5%bd%a4-3-2/2027-04-15/
CATEGORIES:Hip Hop 初級,常態課_初級,課程
END:VEVENT
BEGIN:VEVENT
DTSTART;TZID=Asia/Shanghai:20270417T192500
DTEND;TZID=Asia/Shanghai:20270417T202500
DTSTAMP:20260422T001515
CREATED:20260327T082346Z
LAST-MODIFIED:20260327T082346Z
UID:10032713-1807989900-1807993500@www.dancesoul.com.tw
SUMMARY:HIP HOP-GAGA
DESCRIPTION:
URL:https://www.dancesoul.com.tw/schedule/%e5%9f%ba%e7%a4%8e%e5%85%a5%e9%96%80-%e9%9b%9e%e8%9b%8b-41-2/2027-04-17/
CATEGORIES:基礎入門,常態課_初級,課程
END:VEVENT
BEGIN:VEVENT
DTSTART;TZID=Asia/Shanghai:20270421T182000
DTEND;TZID=Asia/Shanghai:20270421T192000
DTSTAMP:20260422T001515
CREATED:20260327T082544Z
LAST-MODIFIED:20260327T082544Z
UID:10032979-1808331600-1808335200@www.dancesoul.com.tw
SUMMARY:Choreography(初)-無盡
DESCRIPTION:
URL:https://www.dancesoul.com.tw/schedule/choreography%e5%88%9d-%e7%84%a1%e7%9b%a1-14-2/2027-04-21/
CATEGORIES:Choreography 初級,常態課_初級,課程
END:VEVENT
BEGIN:VEVENT
DTSTART;TZID=Asia/Shanghai:20270422T192500
DTEND;TZID=Asia/Shanghai:20270422T202500
DTSTAMP:20260422T001515
CREATED:20260327T082918Z
LAST-MODIFIED:20260327T084510Z
UID:10034825-1808421900-1808425500@www.dancesoul.com.tw
SUMMARY:Hip Hop(初)-林彤
DESCRIPTION:
URL:https://www.dancesoul.com.tw/schedule/hip-hop%e5%88%9d-%e6%9e%97%e5%bd%a4-3-2/2027-04-22/
CATEGORIES:Hip Hop 初級,常態課_初級,課程
END:VEVENT
BEGIN:VEVENT
DTSTART;TZID=Asia/Shanghai:20270424T192500
DTEND;TZID=Asia/Shanghai:20270424T202500
DTSTAMP:20260422T001515
CREATED:20260327T082346Z
LAST-MODIFIED:20260327T082346Z
UID:10032714-1808594700-1808598300@www.dancesoul.com.tw
SUMMARY:HIP HOP-GAGA
DESCRIPTION:
URL:https://www.dancesoul.com.tw/schedule/%e5%9f%ba%e7%a4%8e%e5%85%a5%e9%96%80-%e9%9b%9e%e8%9b%8b-41-2/2027-04-24/
CATEGORIES:基礎入門,常態課_初級,課程
END:VEVENT
BEGIN:VEVENT
DTSTART;TZID=Asia/Shanghai:20270428T182000
DTEND;TZID=Asia/Shanghai:20270428T192000
DTSTAMP:20260422T001515
CREATED:20260327T082544Z
LAST-MODIFIED:20260327T082544Z
UID:10032980-1808936400-1808940000@www.dancesoul.com.tw
SUMMARY:Choreography(初)-無盡
DESCRIPTION:
URL:https://www.dancesoul.com.tw/schedule/choreography%e5%88%9d-%e7%84%a1%e7%9b%a1-14-2/2027-04-28/
CATEGORIES:Choreography 初級,常態課_初級,課程
END:VEVENT
BEGIN:VEVENT
DTSTART;TZID=Asia/Shanghai:20270429T192500
DTEND;TZID=Asia/Shanghai:20270429T202500
DTSTAMP:20260422T001515
CREATED:20260327T082918Z
LAST-MODIFIED:20260327T084510Z
UID:10034826-1809026700-1809030300@www.dancesoul.com.tw
SUMMARY:Hip Hop(初)-林彤
DESCRIPTION:
URL:https://www.dancesoul.com.tw/schedule/hip-hop%e5%88%9d-%e6%9e%97%e5%bd%a4-3-2/2027-04-29/
CATEGORIES:Hip Hop 初級,常態課_初級,課程
END:VEVENT
BEGIN:VEVENT
DTSTART;TZID=Asia/Shanghai:20270501T192500
DTEND;TZID=Asia/Shanghai:20270501T202500
DTSTAMP:20260422T001515
CREATED:20260327T082346Z
LAST-MODIFIED:20260327T082346Z
UID:10032715-1809199500-1809203100@www.dancesoul.com.tw
SUMMARY:HIP HOP-GAGA
DESCRIPTION:
URL:https://www.dancesoul.com.tw/schedule/%e5%9f%ba%e7%a4%8e%e5%85%a5%e9%96%80-%e9%9b%9e%e8%9b%8b-41-2/2027-05-01/
CATEGORIES:基礎入門,常態課_初級,課程
END:VEVENT
BEGIN:VEVENT
DTSTART;TZID=Asia/Shanghai:20270505T182000
DTEND;TZID=Asia/Shanghai:20270505T192000
DTSTAMP:20260422T001515
CREATED:20260327T082544Z
LAST-MODIFIED:20260327T082544Z
UID:10032981-1809541200-1809544800@www.dancesoul.com.tw
SUMMARY:Choreography(初)-無盡
DESCRIPTION:
URL:https://www.dancesoul.com.tw/schedule/choreography%e5%88%9d-%e7%84%a1%e7%9b%a1-14-2/2027-05-05/
CATEGORIES:Choreography 初級,常態課_初級,課程
END:VEVENT
BEGIN:VEVENT
DTSTART;TZID=Asia/Shanghai:20270506T192500
DTEND;TZID=Asia/Shanghai:20270506T202500
DTSTAMP:20260422T001515
CREATED:20260327T082918Z
LAST-MODIFIED:20260327T084510Z
UID:10034827-1809631500-1809635100@www.dancesoul.com.tw
SUMMARY:Hip Hop(初)-林彤
DESCRIPTION:
URL:https://www.dancesoul.com.tw/schedule/hip-hop%e5%88%9d-%e6%9e%97%e5%bd%a4-3-2/2027-05-06/
CATEGORIES:Hip Hop 初級,常態課_初級,課程
END:VEVENT
BEGIN:VEVENT
DTSTART;TZID=Asia/Shanghai:20270508T192500
DTEND;TZID=Asia/Shanghai:20270508T202500
DTSTAMP:20260422T001515
CREATED:20260327T082346Z
LAST-MODIFIED:20260327T082346Z
UID:10032716-1809804300-1809807900@www.dancesoul.com.tw
SUMMARY:HIP HOP-GAGA
DESCRIPTION:
URL:https://www.dancesoul.com.tw/schedule/%e5%9f%ba%e7%a4%8e%e5%85%a5%e9%96%80-%e9%9b%9e%e8%9b%8b-41-2/2027-05-08/
CATEGORIES:基礎入門,常態課_初級,課程
END:VEVENT
BEGIN:VEVENT
DTSTART;TZID=Asia/Shanghai:20270512T182000
DTEND;TZID=Asia/Shanghai:20270512T192000
DTSTAMP:20260422T001515
CREATED:20260327T082544Z
LAST-MODIFIED:20260327T082544Z
UID:10032982-1810146000-1810149600@www.dancesoul.com.tw
SUMMARY:Choreography(初)-無盡
DESCRIPTION:
URL:https://www.dancesoul.com.tw/schedule/choreography%e5%88%9d-%e7%84%a1%e7%9b%a1-14-2/2027-05-12/
CATEGORIES:Choreography 初級,常態課_初級,課程
END:VEVENT
BEGIN:VEVENT
DTSTART;TZID=Asia/Shanghai:20270513T192500
DTEND;TZID=Asia/Shanghai:20270513T202500
DTSTAMP:20260422T001515
CREATED:20260327T082918Z
LAST-MODIFIED:20260327T084510Z
UID:10034828-1810236300-1810239900@www.dancesoul.com.tw
SUMMARY:Hip Hop(初)-林彤
DESCRIPTION:
URL:https://www.dancesoul.com.tw/schedule/hip-hop%e5%88%9d-%e6%9e%97%e5%bd%a4-3-2/2027-05-13/
CATEGORIES:Hip Hop 初級,常態課_初級,課程
END:VEVENT
BEGIN:VEVENT
DTSTART;TZID=Asia/Shanghai:20270515T192500
DTEND;TZID=Asia/Shanghai:20270515T202500
DTSTAMP:20260422T001515
CREATED:20260327T082346Z
LAST-MODIFIED:20260327T082346Z
UID:10032717-1810409100-1810412700@www.dancesoul.com.tw
SUMMARY:HIP HOP-GAGA
DESCRIPTION:
URL:https://www.dancesoul.com.tw/schedule/%e5%9f%ba%e7%a4%8e%e5%85%a5%e9%96%80-%e9%9b%9e%e8%9b%8b-41-2/2027-05-15/
CATEGORIES:基礎入門,常態課_初級,課程
END:VEVENT
BEGIN:VEVENT
DTSTART;TZID=Asia/Shanghai:20270519T182000
DTEND;TZID=Asia/Shanghai:20270519T192000
DTSTAMP:20260422T001515
CREATED:20260327T082544Z
LAST-MODIFIED:20260327T082544Z
UID:10032983-1810750800-1810754400@www.dancesoul.com.tw
SUMMARY:Choreography(初)-無盡
DESCRIPTION:
URL:https://www.dancesoul.com.tw/schedule/choreography%e5%88%9d-%e7%84%a1%e7%9b%a1-14-2/2027-05-19/
CATEGORIES:Choreography 初級,常態課_初級,課程
END:VEVENT
BEGIN:VEVENT
DTSTART;TZID=Asia/Shanghai:20270520T192500
DTEND;TZID=Asia/Shanghai:20270520T202500
DTSTAMP:20260422T001515
CREATED:20260327T082918Z
LAST-MODIFIED:20260327T084510Z
UID:10034829-1810841100-1810844700@www.dancesoul.com.tw
SUMMARY:Hip Hop(初)-林彤
DESCRIPTION:
URL:https://www.dancesoul.com.tw/schedule/hip-hop%e5%88%9d-%e6%9e%97%e5%bd%a4-3-2/2027-05-20/
CATEGORIES:Hip Hop 初級,常態課_初級,課程
END:VEVENT
END:VCALENDAR