BEGIN:VCALENDAR
VERSION:2.0
PRODID:-//DANCE SOUL 舞魂街舞學校 - ECPv6.15.18//NONSGML v1.0//EN
CALSCALE:GREGORIAN
METHOD:PUBLISH
X-WR-CALNAME:DANCE SOUL 舞魂街舞學校
X-ORIGINAL-URL:https://www.dancesoul.com.tw
X-WR-CALDESC:Events for DANCE SOUL 舞魂街舞學校
REFRESH-INTERVAL;VALUE=DURATION:PT1H
X-Robots-Tag:noindex
X-PUBLISHED-TTL:PT1H
BEGIN:VTIMEZONE
TZID:Asia/Shanghai
BEGIN:STANDARD
TZOFFSETFROM:+0800
TZOFFSETTO:+0800
TZNAME:CST
DTSTART:20260101T000000
END:STANDARD
END:VTIMEZONE
BEGIN:VEVENT
DTSTART;TZID=Asia/Shanghai:20270429T192500
DTEND;TZID=Asia/Shanghai:20270429T202500
DTSTAMP:20260422T045803
CREATED:20260327T082918Z
LAST-MODIFIED:20260327T084510Z
UID:10034826-1809026700-1809030300@www.dancesoul.com.tw
SUMMARY:Hip Hop(初)-林彤
DESCRIPTION:
URL:https://www.dancesoul.com.tw/schedule/hip-hop%e5%88%9d-%e6%9e%97%e5%bd%a4-3-2/2027-04-29/
CATEGORIES:Hip Hop 初級,常態課_初級,課程
END:VEVENT
BEGIN:VEVENT
DTSTART;TZID=Asia/Shanghai:20270501T192500
DTEND;TZID=Asia/Shanghai:20270501T202500
DTSTAMP:20260422T045803
CREATED:20260327T082346Z
LAST-MODIFIED:20260327T082346Z
UID:10032715-1809199500-1809203100@www.dancesoul.com.tw
SUMMARY:HIP HOP-GAGA
DESCRIPTION:
URL:https://www.dancesoul.com.tw/schedule/%e5%9f%ba%e7%a4%8e%e5%85%a5%e9%96%80-%e9%9b%9e%e8%9b%8b-41-2/2027-05-01/
CATEGORIES:基礎入門,常態課_初級,課程
END:VEVENT
BEGIN:VEVENT
DTSTART;TZID=Asia/Shanghai:20270505T182000
DTEND;TZID=Asia/Shanghai:20270505T192000
DTSTAMP:20260422T045803
CREATED:20260327T082544Z
LAST-MODIFIED:20260327T082544Z
UID:10032981-1809541200-1809544800@www.dancesoul.com.tw
SUMMARY:Choreography(初)-無盡
DESCRIPTION:
URL:https://www.dancesoul.com.tw/schedule/choreography%e5%88%9d-%e7%84%a1%e7%9b%a1-14-2/2027-05-05/
CATEGORIES:Choreography 初級,常態課_初級,課程
END:VEVENT
BEGIN:VEVENT
DTSTART;TZID=Asia/Shanghai:20270506T192500
DTEND;TZID=Asia/Shanghai:20270506T202500
DTSTAMP:20260422T045803
CREATED:20260327T082918Z
LAST-MODIFIED:20260327T084510Z
UID:10034827-1809631500-1809635100@www.dancesoul.com.tw
SUMMARY:Hip Hop(初)-林彤
DESCRIPTION:
URL:https://www.dancesoul.com.tw/schedule/hip-hop%e5%88%9d-%e6%9e%97%e5%bd%a4-3-2/2027-05-06/
CATEGORIES:Hip Hop 初級,常態課_初級,課程
END:VEVENT
BEGIN:VEVENT
DTSTART;TZID=Asia/Shanghai:20270508T192500
DTEND;TZID=Asia/Shanghai:20270508T202500
DTSTAMP:20260422T045803
CREATED:20260327T082346Z
LAST-MODIFIED:20260327T082346Z
UID:10032716-1809804300-1809807900@www.dancesoul.com.tw
SUMMARY:HIP HOP-GAGA
DESCRIPTION:
URL:https://www.dancesoul.com.tw/schedule/%e5%9f%ba%e7%a4%8e%e5%85%a5%e9%96%80-%e9%9b%9e%e8%9b%8b-41-2/2027-05-08/
CATEGORIES:基礎入門,常態課_初級,課程
END:VEVENT
BEGIN:VEVENT
DTSTART;TZID=Asia/Shanghai:20270512T182000
DTEND;TZID=Asia/Shanghai:20270512T192000
DTSTAMP:20260422T045803
CREATED:20260327T082544Z
LAST-MODIFIED:20260327T082544Z
UID:10032982-1810146000-1810149600@www.dancesoul.com.tw
SUMMARY:Choreography(初)-無盡
DESCRIPTION:
URL:https://www.dancesoul.com.tw/schedule/choreography%e5%88%9d-%e7%84%a1%e7%9b%a1-14-2/2027-05-12/
CATEGORIES:Choreography 初級,常態課_初級,課程
END:VEVENT
BEGIN:VEVENT
DTSTART;TZID=Asia/Shanghai:20270513T192500
DTEND;TZID=Asia/Shanghai:20270513T202500
DTSTAMP:20260422T045803
CREATED:20260327T082918Z
LAST-MODIFIED:20260327T084510Z
UID:10034828-1810236300-1810239900@www.dancesoul.com.tw
SUMMARY:Hip Hop(初)-林彤
DESCRIPTION:
URL:https://www.dancesoul.com.tw/schedule/hip-hop%e5%88%9d-%e6%9e%97%e5%bd%a4-3-2/2027-05-13/
CATEGORIES:Hip Hop 初級,常態課_初級,課程
END:VEVENT
BEGIN:VEVENT
DTSTART;TZID=Asia/Shanghai:20270515T192500
DTEND;TZID=Asia/Shanghai:20270515T202500
DTSTAMP:20260422T045803
CREATED:20260327T082346Z
LAST-MODIFIED:20260327T082346Z
UID:10032717-1810409100-1810412700@www.dancesoul.com.tw
SUMMARY:HIP HOP-GAGA
DESCRIPTION:
URL:https://www.dancesoul.com.tw/schedule/%e5%9f%ba%e7%a4%8e%e5%85%a5%e9%96%80-%e9%9b%9e%e8%9b%8b-41-2/2027-05-15/
CATEGORIES:基礎入門,常態課_初級,課程
END:VEVENT
BEGIN:VEVENT
DTSTART;TZID=Asia/Shanghai:20270519T182000
DTEND;TZID=Asia/Shanghai:20270519T192000
DTSTAMP:20260422T045803
CREATED:20260327T082544Z
LAST-MODIFIED:20260327T082544Z
UID:10032983-1810750800-1810754400@www.dancesoul.com.tw
SUMMARY:Choreography(初)-無盡
DESCRIPTION:
URL:https://www.dancesoul.com.tw/schedule/choreography%e5%88%9d-%e7%84%a1%e7%9b%a1-14-2/2027-05-19/
CATEGORIES:Choreography 初級,常態課_初級,課程
END:VEVENT
BEGIN:VEVENT
DTSTART;TZID=Asia/Shanghai:20270520T192500
DTEND;TZID=Asia/Shanghai:20270520T202500
DTSTAMP:20260422T045803
CREATED:20260327T082918Z
LAST-MODIFIED:20260327T084510Z
UID:10034829-1810841100-1810844700@www.dancesoul.com.tw
SUMMARY:Hip Hop(初)-林彤
DESCRIPTION:
URL:https://www.dancesoul.com.tw/schedule/hip-hop%e5%88%9d-%e6%9e%97%e5%bd%a4-3-2/2027-05-20/
CATEGORIES:Hip Hop 初級,常態課_初級,課程
END:VEVENT
BEGIN:VEVENT
DTSTART;TZID=Asia/Shanghai:20270522T192500
DTEND;TZID=Asia/Shanghai:20270522T202500
DTSTAMP:20260422T045803
CREATED:20260327T082346Z
LAST-MODIFIED:20260327T082346Z
UID:10032718-1811013900-1811017500@www.dancesoul.com.tw
SUMMARY:HIP HOP-GAGA
DESCRIPTION:
URL:https://www.dancesoul.com.tw/schedule/%e5%9f%ba%e7%a4%8e%e5%85%a5%e9%96%80-%e9%9b%9e%e8%9b%8b-41-2/2027-05-22/
CATEGORIES:基礎入門,常態課_初級,課程
END:VEVENT
BEGIN:VEVENT
DTSTART;TZID=Asia/Shanghai:20270526T182000
DTEND;TZID=Asia/Shanghai:20270526T192000
DTSTAMP:20260422T045803
CREATED:20260327T082544Z
LAST-MODIFIED:20260327T082544Z
UID:10032984-1811355600-1811359200@www.dancesoul.com.tw
SUMMARY:Choreography(初)-無盡
DESCRIPTION:
URL:https://www.dancesoul.com.tw/schedule/choreography%e5%88%9d-%e7%84%a1%e7%9b%a1-14-2/2027-05-26/
CATEGORIES:Choreography 初級,常態課_初級,課程
END:VEVENT
BEGIN:VEVENT
DTSTART;TZID=Asia/Shanghai:20270527T192500
DTEND;TZID=Asia/Shanghai:20270527T202500
DTSTAMP:20260422T045803
CREATED:20260327T082918Z
LAST-MODIFIED:20260327T084510Z
UID:10034830-1811445900-1811449500@www.dancesoul.com.tw
SUMMARY:Hip Hop(初)-林彤
DESCRIPTION:
URL:https://www.dancesoul.com.tw/schedule/hip-hop%e5%88%9d-%e6%9e%97%e5%bd%a4-3-2/2027-05-27/
CATEGORIES:Hip Hop 初級,常態課_初級,課程
END:VEVENT
BEGIN:VEVENT
DTSTART;TZID=Asia/Shanghai:20270529T192500
DTEND;TZID=Asia/Shanghai:20270529T202500
DTSTAMP:20260422T045803
CREATED:20260327T082346Z
LAST-MODIFIED:20260327T082346Z
UID:10032719-1811618700-1811622300@www.dancesoul.com.tw
SUMMARY:HIP HOP-GAGA
DESCRIPTION:
URL:https://www.dancesoul.com.tw/schedule/%e5%9f%ba%e7%a4%8e%e5%85%a5%e9%96%80-%e9%9b%9e%e8%9b%8b-41-2/2027-05-29/
CATEGORIES:基礎入門,常態課_初級,課程
END:VEVENT
BEGIN:VEVENT
DTSTART;TZID=Asia/Shanghai:20270602T182000
DTEND;TZID=Asia/Shanghai:20270602T192000
DTSTAMP:20260422T045803
CREATED:20260327T082544Z
LAST-MODIFIED:20260327T082544Z
UID:10032985-1811960400-1811964000@www.dancesoul.com.tw
SUMMARY:Choreography(初)-無盡
DESCRIPTION:
URL:https://www.dancesoul.com.tw/schedule/choreography%e5%88%9d-%e7%84%a1%e7%9b%a1-14-2/2027-06-02/
CATEGORIES:Choreography 初級,常態課_初級,課程
END:VEVENT
BEGIN:VEVENT
DTSTART;TZID=Asia/Shanghai:20270603T192500
DTEND;TZID=Asia/Shanghai:20270603T202500
DTSTAMP:20260422T045803
CREATED:20260327T082918Z
LAST-MODIFIED:20260327T084510Z
UID:10034831-1812050700-1812054300@www.dancesoul.com.tw
SUMMARY:Hip Hop(初)-林彤
DESCRIPTION:
URL:https://www.dancesoul.com.tw/schedule/hip-hop%e5%88%9d-%e6%9e%97%e5%bd%a4-3-2/2027-06-03/
CATEGORIES:Hip Hop 初級,常態課_初級,課程
END:VEVENT
BEGIN:VEVENT
DTSTART;TZID=Asia/Shanghai:20270605T192500
DTEND;TZID=Asia/Shanghai:20270605T202500
DTSTAMP:20260422T045803
CREATED:20260327T082346Z
LAST-MODIFIED:20260327T082346Z
UID:10032720-1812223500-1812227100@www.dancesoul.com.tw
SUMMARY:HIP HOP-GAGA
DESCRIPTION:
URL:https://www.dancesoul.com.tw/schedule/%e5%9f%ba%e7%a4%8e%e5%85%a5%e9%96%80-%e9%9b%9e%e8%9b%8b-41-2/2027-06-05/
CATEGORIES:基礎入門,常態課_初級,課程
END:VEVENT
BEGIN:VEVENT
DTSTART;TZID=Asia/Shanghai:20270609T182000
DTEND;TZID=Asia/Shanghai:20270609T192000
DTSTAMP:20260422T045803
CREATED:20260327T082544Z
LAST-MODIFIED:20260327T082544Z
UID:10032986-1812565200-1812568800@www.dancesoul.com.tw
SUMMARY:Choreography(初)-無盡
DESCRIPTION:
URL:https://www.dancesoul.com.tw/schedule/choreography%e5%88%9d-%e7%84%a1%e7%9b%a1-14-2/2027-06-09/
CATEGORIES:Choreography 初級,常態課_初級,課程
END:VEVENT
BEGIN:VEVENT
DTSTART;TZID=Asia/Shanghai:20270610T192500
DTEND;TZID=Asia/Shanghai:20270610T202500
DTSTAMP:20260422T045803
CREATED:20260327T082918Z
LAST-MODIFIED:20260327T084510Z
UID:10034832-1812655500-1812659100@www.dancesoul.com.tw
SUMMARY:Hip Hop(初)-林彤
DESCRIPTION:
URL:https://www.dancesoul.com.tw/schedule/hip-hop%e5%88%9d-%e6%9e%97%e5%bd%a4-3-2/2027-06-10/
CATEGORIES:Hip Hop 初級,常態課_初級,課程
END:VEVENT
BEGIN:VEVENT
DTSTART;TZID=Asia/Shanghai:20270612T192500
DTEND;TZID=Asia/Shanghai:20270612T202500
DTSTAMP:20260422T045803
CREATED:20260327T082346Z
LAST-MODIFIED:20260327T082346Z
UID:10032721-1812828300-1812831900@www.dancesoul.com.tw
SUMMARY:HIP HOP-GAGA
DESCRIPTION:
URL:https://www.dancesoul.com.tw/schedule/%e5%9f%ba%e7%a4%8e%e5%85%a5%e9%96%80-%e9%9b%9e%e8%9b%8b-41-2/2027-06-12/
CATEGORIES:基礎入門,常態課_初級,課程
END:VEVENT
BEGIN:VEVENT
DTSTART;TZID=Asia/Shanghai:20270616T182000
DTEND;TZID=Asia/Shanghai:20270616T192000
DTSTAMP:20260422T045803
CREATED:20260327T082544Z
LAST-MODIFIED:20260327T082544Z
UID:10032987-1813170000-1813173600@www.dancesoul.com.tw
SUMMARY:Choreography(初)-無盡
DESCRIPTION:
URL:https://www.dancesoul.com.tw/schedule/choreography%e5%88%9d-%e7%84%a1%e7%9b%a1-14-2/2027-06-16/
CATEGORIES:Choreography 初級,常態課_初級,課程
END:VEVENT
BEGIN:VEVENT
DTSTART;TZID=Asia/Shanghai:20270617T192500
DTEND;TZID=Asia/Shanghai:20270617T202500
DTSTAMP:20260422T045803
CREATED:20260327T082918Z
LAST-MODIFIED:20260327T084510Z
UID:10034833-1813260300-1813263900@www.dancesoul.com.tw
SUMMARY:Hip Hop(初)-林彤
DESCRIPTION:
URL:https://www.dancesoul.com.tw/schedule/hip-hop%e5%88%9d-%e6%9e%97%e5%bd%a4-3-2/2027-06-17/
CATEGORIES:Hip Hop 初級,常態課_初級,課程
END:VEVENT
BEGIN:VEVENT
DTSTART;TZID=Asia/Shanghai:20270619T192500
DTEND;TZID=Asia/Shanghai:20270619T202500
DTSTAMP:20260422T045803
CREATED:20260327T082346Z
LAST-MODIFIED:20260327T082346Z
UID:10032722-1813433100-1813436700@www.dancesoul.com.tw
SUMMARY:HIP HOP-GAGA
DESCRIPTION:
URL:https://www.dancesoul.com.tw/schedule/%e5%9f%ba%e7%a4%8e%e5%85%a5%e9%96%80-%e9%9b%9e%e8%9b%8b-41-2/2027-06-19/
CATEGORIES:基礎入門,常態課_初級,課程
END:VEVENT
BEGIN:VEVENT
DTSTART;TZID=Asia/Shanghai:20270623T182000
DTEND;TZID=Asia/Shanghai:20270623T192000
DTSTAMP:20260422T045803
CREATED:20260327T082544Z
LAST-MODIFIED:20260327T082544Z
UID:10032988-1813774800-1813778400@www.dancesoul.com.tw
SUMMARY:Choreography(初)-無盡
DESCRIPTION:
URL:https://www.dancesoul.com.tw/schedule/choreography%e5%88%9d-%e7%84%a1%e7%9b%a1-14-2/2027-06-23/
CATEGORIES:Choreography 初級,常態課_初級,課程
END:VEVENT
BEGIN:VEVENT
DTSTART;TZID=Asia/Shanghai:20270624T192500
DTEND;TZID=Asia/Shanghai:20270624T202500
DTSTAMP:20260422T045803
CREATED:20260327T082918Z
LAST-MODIFIED:20260327T084510Z
UID:10034834-1813865100-1813868700@www.dancesoul.com.tw
SUMMARY:Hip Hop(初)-林彤
DESCRIPTION:
URL:https://www.dancesoul.com.tw/schedule/hip-hop%e5%88%9d-%e6%9e%97%e5%bd%a4-3-2/2027-06-24/
CATEGORIES:Hip Hop 初級,常態課_初級,課程
END:VEVENT
BEGIN:VEVENT
DTSTART;TZID=Asia/Shanghai:20270626T192500
DTEND;TZID=Asia/Shanghai:20270626T202500
DTSTAMP:20260422T045803
CREATED:20260327T082346Z
LAST-MODIFIED:20260327T082346Z
UID:10032723-1814037900-1814041500@www.dancesoul.com.tw
SUMMARY:HIP HOP-GAGA
DESCRIPTION:
URL:https://www.dancesoul.com.tw/schedule/%e5%9f%ba%e7%a4%8e%e5%85%a5%e9%96%80-%e9%9b%9e%e8%9b%8b-41-2/2027-06-26/
CATEGORIES:基礎入門,常態課_初級,課程
END:VEVENT
BEGIN:VEVENT
DTSTART;TZID=Asia/Shanghai:20270630T182000
DTEND;TZID=Asia/Shanghai:20270630T192000
DTSTAMP:20260422T045803
CREATED:20260327T082544Z
LAST-MODIFIED:20260327T082544Z
UID:10032989-1814379600-1814383200@www.dancesoul.com.tw
SUMMARY:Choreography(初)-無盡
DESCRIPTION:
URL:https://www.dancesoul.com.tw/schedule/choreography%e5%88%9d-%e7%84%a1%e7%9b%a1-14-2/2027-06-30/
CATEGORIES:Choreography 初級,常態課_初級,課程
END:VEVENT
BEGIN:VEVENT
DTSTART;TZID=Asia/Shanghai:20270701T192500
DTEND;TZID=Asia/Shanghai:20270701T202500
DTSTAMP:20260422T045803
CREATED:20260327T082918Z
LAST-MODIFIED:20260327T084510Z
UID:10034835-1814469900-1814473500@www.dancesoul.com.tw
SUMMARY:Hip Hop(初)-林彤
DESCRIPTION:
URL:https://www.dancesoul.com.tw/schedule/hip-hop%e5%88%9d-%e6%9e%97%e5%bd%a4-3-2/2027-07-01/
CATEGORIES:Hip Hop 初級,常態課_初級,課程
END:VEVENT
BEGIN:VEVENT
DTSTART;TZID=Asia/Shanghai:20270703T192500
DTEND;TZID=Asia/Shanghai:20270703T202500
DTSTAMP:20260422T045803
CREATED:20260327T082346Z
LAST-MODIFIED:20260327T082346Z
UID:10032724-1814642700-1814646300@www.dancesoul.com.tw
SUMMARY:HIP HOP-GAGA
DESCRIPTION:
URL:https://www.dancesoul.com.tw/schedule/%e5%9f%ba%e7%a4%8e%e5%85%a5%e9%96%80-%e9%9b%9e%e8%9b%8b-41-2/2027-07-03/
CATEGORIES:基礎入門,常態課_初級,課程
END:VEVENT
BEGIN:VEVENT
DTSTART;TZID=Asia/Shanghai:20270707T182000
DTEND;TZID=Asia/Shanghai:20270707T192000
DTSTAMP:20260422T045803
CREATED:20260327T082544Z
LAST-MODIFIED:20260327T082544Z
UID:10032990-1814984400-1814988000@www.dancesoul.com.tw
SUMMARY:Choreography(初)-無盡
DESCRIPTION:
URL:https://www.dancesoul.com.tw/schedule/choreography%e5%88%9d-%e7%84%a1%e7%9b%a1-14-2/2027-07-07/
CATEGORIES:Choreography 初級,常態課_初級,課程
END:VEVENT
END:VCALENDAR