BEGIN:VCALENDAR
VERSION:2.0
PRODID:-//DANCE SOUL 舞魂街舞學校 - ECPv6.15.18//NONSGML v1.0//EN
CALSCALE:GREGORIAN
METHOD:PUBLISH
X-WR-CALNAME:DANCE SOUL 舞魂街舞學校
X-ORIGINAL-URL:https://www.dancesoul.com.tw
X-WR-CALDESC:Events for DANCE SOUL 舞魂街舞學校
REFRESH-INTERVAL;VALUE=DURATION:PT1H
X-Robots-Tag:noindex
X-PUBLISHED-TTL:PT1H
BEGIN:VTIMEZONE
TZID:Asia/Shanghai
BEGIN:STANDARD
TZOFFSETFROM:+0800
TZOFFSETTO:+0800
TZNAME:CST
DTSTART:20250101T000000
END:STANDARD
END:VTIMEZONE
BEGIN:VEVENT
DTSTART;TZID=Asia/Shanghai:20260422T182000
DTEND;TZID=Asia/Shanghai:20260422T192000
DTSTAMP:20260420T223233
CREATED:20260327T082544Z
LAST-MODIFIED:20260327T082544Z
UID:10032927-1776882000-1776885600@www.dancesoul.com.tw
SUMMARY:Choreography(初)-無盡
DESCRIPTION:
URL:https://www.dancesoul.com.tw/schedule/choreography%e5%88%9d-%e7%84%a1%e7%9b%a1-14-2/2026-04-22/
CATEGORIES:Choreography 初級,常態課_初級,課程
END:VEVENT
BEGIN:VEVENT
DTSTART;TZID=Asia/Shanghai:20260423T192500
DTEND;TZID=Asia/Shanghai:20260423T202500
DTSTAMP:20260420T223233
CREATED:20260327T082918Z
LAST-MODIFIED:20260327T084510Z
UID:10034773-1776972300-1776975900@www.dancesoul.com.tw
SUMMARY:Hip Hop(初)-林彤
DESCRIPTION:
URL:https://www.dancesoul.com.tw/schedule/hip-hop%e5%88%9d-%e6%9e%97%e5%bd%a4-3-2/2026-04-23/
CATEGORIES:Hip Hop 初級,常態課_初級,課程
END:VEVENT
BEGIN:VEVENT
DTSTART;TZID=Asia/Shanghai:20260425T192500
DTEND;TZID=Asia/Shanghai:20260425T202500
DTSTAMP:20260420T223233
CREATED:20260327T082346Z
LAST-MODIFIED:20260327T082346Z
UID:10032662-1777145100-1777148700@www.dancesoul.com.tw
SUMMARY:HIP HOP-GAGA
DESCRIPTION:
URL:https://www.dancesoul.com.tw/schedule/%e5%9f%ba%e7%a4%8e%e5%85%a5%e9%96%80-%e9%9b%9e%e8%9b%8b-41-2/2026-04-25/
CATEGORIES:基礎入門,常態課_初級,課程
END:VEVENT
BEGIN:VEVENT
DTSTART;TZID=Asia/Shanghai:20260429T182000
DTEND;TZID=Asia/Shanghai:20260429T192000
DTSTAMP:20260420T223233
CREATED:20260327T082544Z
LAST-MODIFIED:20260327T082544Z
UID:10032928-1777486800-1777490400@www.dancesoul.com.tw
SUMMARY:Choreography(初)-無盡
DESCRIPTION:
URL:https://www.dancesoul.com.tw/schedule/choreography%e5%88%9d-%e7%84%a1%e7%9b%a1-14-2/2026-04-29/
CATEGORIES:Choreography 初級,常態課_初級,課程
END:VEVENT
BEGIN:VEVENT
DTSTART;TZID=Asia/Shanghai:20260430T192500
DTEND;TZID=Asia/Shanghai:20260430T202500
DTSTAMP:20260420T223233
CREATED:20260327T082918Z
LAST-MODIFIED:20260327T084510Z
UID:10034774-1777577100-1777580700@www.dancesoul.com.tw
SUMMARY:Hip Hop(初)-林彤
DESCRIPTION:
URL:https://www.dancesoul.com.tw/schedule/hip-hop%e5%88%9d-%e6%9e%97%e5%bd%a4-3-2/2026-04-30/
CATEGORIES:Hip Hop 初級,常態課_初級,課程
END:VEVENT
BEGIN:VEVENT
DTSTART;TZID=Asia/Shanghai:20260502T192500
DTEND;TZID=Asia/Shanghai:20260502T202500
DTSTAMP:20260420T223233
CREATED:20260327T082346Z
LAST-MODIFIED:20260327T082346Z
UID:10032663-1777749900-1777753500@www.dancesoul.com.tw
SUMMARY:HIP HOP-GAGA
DESCRIPTION:
URL:https://www.dancesoul.com.tw/schedule/%e5%9f%ba%e7%a4%8e%e5%85%a5%e9%96%80-%e9%9b%9e%e8%9b%8b-41-2/2026-05-02/
CATEGORIES:基礎入門,常態課_初級,課程
END:VEVENT
BEGIN:VEVENT
DTSTART;TZID=Asia/Shanghai:20260506T182000
DTEND;TZID=Asia/Shanghai:20260506T192000
DTSTAMP:20260420T223233
CREATED:20260327T082544Z
LAST-MODIFIED:20260327T082544Z
UID:10032929-1778091600-1778095200@www.dancesoul.com.tw
SUMMARY:Choreography(初)-無盡
DESCRIPTION:
URL:https://www.dancesoul.com.tw/schedule/choreography%e5%88%9d-%e7%84%a1%e7%9b%a1-14-2/2026-05-06/
CATEGORIES:Choreography 初級,常態課_初級,課程
END:VEVENT
BEGIN:VEVENT
DTSTART;TZID=Asia/Shanghai:20260507T192500
DTEND;TZID=Asia/Shanghai:20260507T202500
DTSTAMP:20260420T223233
CREATED:20260327T082918Z
LAST-MODIFIED:20260327T084510Z
UID:10034775-1778181900-1778185500@www.dancesoul.com.tw
SUMMARY:Hip Hop(初)-林彤
DESCRIPTION:
URL:https://www.dancesoul.com.tw/schedule/hip-hop%e5%88%9d-%e6%9e%97%e5%bd%a4-3-2/2026-05-07/
CATEGORIES:Hip Hop 初級,常態課_初級,課程
END:VEVENT
BEGIN:VEVENT
DTSTART;TZID=Asia/Shanghai:20260509T192500
DTEND;TZID=Asia/Shanghai:20260509T202500
DTSTAMP:20260420T223233
CREATED:20260327T082346Z
LAST-MODIFIED:20260327T082346Z
UID:10032664-1778354700-1778358300@www.dancesoul.com.tw
SUMMARY:HIP HOP-GAGA
DESCRIPTION:
URL:https://www.dancesoul.com.tw/schedule/%e5%9f%ba%e7%a4%8e%e5%85%a5%e9%96%80-%e9%9b%9e%e8%9b%8b-41-2/2026-05-09/
CATEGORIES:基礎入門,常態課_初級,課程
END:VEVENT
BEGIN:VEVENT
DTSTART;TZID=Asia/Shanghai:20260513T182000
DTEND;TZID=Asia/Shanghai:20260513T192000
DTSTAMP:20260420T223233
CREATED:20260327T082544Z
LAST-MODIFIED:20260327T082544Z
UID:10032930-1778696400-1778700000@www.dancesoul.com.tw
SUMMARY:Choreography(初)-無盡
DESCRIPTION:
URL:https://www.dancesoul.com.tw/schedule/choreography%e5%88%9d-%e7%84%a1%e7%9b%a1-14-2/2026-05-13/
CATEGORIES:Choreography 初級,常態課_初級,課程
END:VEVENT
BEGIN:VEVENT
DTSTART;TZID=Asia/Shanghai:20260514T192500
DTEND;TZID=Asia/Shanghai:20260514T202500
DTSTAMP:20260420T223233
CREATED:20260327T082918Z
LAST-MODIFIED:20260327T084510Z
UID:10034776-1778786700-1778790300@www.dancesoul.com.tw
SUMMARY:Hip Hop(初)-林彤
DESCRIPTION:
URL:https://www.dancesoul.com.tw/schedule/hip-hop%e5%88%9d-%e6%9e%97%e5%bd%a4-3-2/2026-05-14/
CATEGORIES:Hip Hop 初級,常態課_初級,課程
END:VEVENT
BEGIN:VEVENT
DTSTART;TZID=Asia/Shanghai:20260516T192500
DTEND;TZID=Asia/Shanghai:20260516T202500
DTSTAMP:20260420T223233
CREATED:20260327T082346Z
LAST-MODIFIED:20260327T082346Z
UID:10032665-1778959500-1778963100@www.dancesoul.com.tw
SUMMARY:HIP HOP-GAGA
DESCRIPTION:
URL:https://www.dancesoul.com.tw/schedule/%e5%9f%ba%e7%a4%8e%e5%85%a5%e9%96%80-%e9%9b%9e%e8%9b%8b-41-2/2026-05-16/
CATEGORIES:基礎入門,常態課_初級,課程
END:VEVENT
BEGIN:VEVENT
DTSTART;TZID=Asia/Shanghai:20260520T182000
DTEND;TZID=Asia/Shanghai:20260520T192000
DTSTAMP:20260420T223233
CREATED:20260327T082544Z
LAST-MODIFIED:20260327T082544Z
UID:10032931-1779301200-1779304800@www.dancesoul.com.tw
SUMMARY:Choreography(初)-無盡
DESCRIPTION:
URL:https://www.dancesoul.com.tw/schedule/choreography%e5%88%9d-%e7%84%a1%e7%9b%a1-14-2/2026-05-20/
CATEGORIES:Choreography 初級,常態課_初級,課程
END:VEVENT
BEGIN:VEVENT
DTSTART;TZID=Asia/Shanghai:20260521T192500
DTEND;TZID=Asia/Shanghai:20260521T202500
DTSTAMP:20260420T223233
CREATED:20260327T082918Z
LAST-MODIFIED:20260327T084510Z
UID:10034777-1779391500-1779395100@www.dancesoul.com.tw
SUMMARY:Hip Hop(初)-林彤
DESCRIPTION:
URL:https://www.dancesoul.com.tw/schedule/hip-hop%e5%88%9d-%e6%9e%97%e5%bd%a4-3-2/2026-05-21/
CATEGORIES:Hip Hop 初級,常態課_初級,課程
END:VEVENT
BEGIN:VEVENT
DTSTART;TZID=Asia/Shanghai:20260523T192500
DTEND;TZID=Asia/Shanghai:20260523T202500
DTSTAMP:20260420T223233
CREATED:20260327T082346Z
LAST-MODIFIED:20260327T082346Z
UID:10032666-1779564300-1779567900@www.dancesoul.com.tw
SUMMARY:HIP HOP-GAGA
DESCRIPTION:
URL:https://www.dancesoul.com.tw/schedule/%e5%9f%ba%e7%a4%8e%e5%85%a5%e9%96%80-%e9%9b%9e%e8%9b%8b-41-2/2026-05-23/
CATEGORIES:基礎入門,常態課_初級,課程
END:VEVENT
BEGIN:VEVENT
DTSTART;TZID=Asia/Shanghai:20260527T182000
DTEND;TZID=Asia/Shanghai:20260527T192000
DTSTAMP:20260420T223233
CREATED:20260327T082544Z
LAST-MODIFIED:20260327T082544Z
UID:10032932-1779906000-1779909600@www.dancesoul.com.tw
SUMMARY:Choreography(初)-無盡
DESCRIPTION:
URL:https://www.dancesoul.com.tw/schedule/choreography%e5%88%9d-%e7%84%a1%e7%9b%a1-14-2/2026-05-27/
CATEGORIES:Choreography 初級,常態課_初級,課程
END:VEVENT
BEGIN:VEVENT
DTSTART;TZID=Asia/Shanghai:20260528T192500
DTEND;TZID=Asia/Shanghai:20260528T202500
DTSTAMP:20260420T223233
CREATED:20260327T082918Z
LAST-MODIFIED:20260327T084510Z
UID:10034778-1779996300-1779999900@www.dancesoul.com.tw
SUMMARY:Hip Hop(初)-林彤
DESCRIPTION:
URL:https://www.dancesoul.com.tw/schedule/hip-hop%e5%88%9d-%e6%9e%97%e5%bd%a4-3-2/2026-05-28/
CATEGORIES:Hip Hop 初級,常態課_初級,課程
END:VEVENT
BEGIN:VEVENT
DTSTART;TZID=Asia/Shanghai:20260530T192500
DTEND;TZID=Asia/Shanghai:20260530T202500
DTSTAMP:20260420T223233
CREATED:20260327T082346Z
LAST-MODIFIED:20260327T082346Z
UID:10032667-1780169100-1780172700@www.dancesoul.com.tw
SUMMARY:HIP HOP-GAGA
DESCRIPTION:
URL:https://www.dancesoul.com.tw/schedule/%e5%9f%ba%e7%a4%8e%e5%85%a5%e9%96%80-%e9%9b%9e%e8%9b%8b-41-2/2026-05-30/
CATEGORIES:基礎入門,常態課_初級,課程
END:VEVENT
BEGIN:VEVENT
DTSTART;TZID=Asia/Shanghai:20260603T182000
DTEND;TZID=Asia/Shanghai:20260603T192000
DTSTAMP:20260420T223233
CREATED:20260327T082544Z
LAST-MODIFIED:20260327T082544Z
UID:10032933-1780510800-1780514400@www.dancesoul.com.tw
SUMMARY:Choreography(初)-無盡
DESCRIPTION:
URL:https://www.dancesoul.com.tw/schedule/choreography%e5%88%9d-%e7%84%a1%e7%9b%a1-14-2/2026-06-03/
CATEGORIES:Choreography 初級,常態課_初級,課程
END:VEVENT
BEGIN:VEVENT
DTSTART;TZID=Asia/Shanghai:20260604T192500
DTEND;TZID=Asia/Shanghai:20260604T202500
DTSTAMP:20260420T223233
CREATED:20260327T082918Z
LAST-MODIFIED:20260327T084510Z
UID:10034779-1780601100-1780604700@www.dancesoul.com.tw
SUMMARY:Hip Hop(初)-林彤
DESCRIPTION:
URL:https://www.dancesoul.com.tw/schedule/hip-hop%e5%88%9d-%e6%9e%97%e5%bd%a4-3-2/2026-06-04/
CATEGORIES:Hip Hop 初級,常態課_初級,課程
END:VEVENT
BEGIN:VEVENT
DTSTART;TZID=Asia/Shanghai:20260606T192500
DTEND;TZID=Asia/Shanghai:20260606T202500
DTSTAMP:20260420T223233
CREATED:20260327T082346Z
LAST-MODIFIED:20260327T082346Z
UID:10032668-1780773900-1780777500@www.dancesoul.com.tw
SUMMARY:HIP HOP-GAGA
DESCRIPTION:
URL:https://www.dancesoul.com.tw/schedule/%e5%9f%ba%e7%a4%8e%e5%85%a5%e9%96%80-%e9%9b%9e%e8%9b%8b-41-2/2026-06-06/
CATEGORIES:基礎入門,常態課_初級,課程
END:VEVENT
BEGIN:VEVENT
DTSTART;TZID=Asia/Shanghai:20260610T182000
DTEND;TZID=Asia/Shanghai:20260610T192000
DTSTAMP:20260420T223233
CREATED:20260327T082544Z
LAST-MODIFIED:20260327T082544Z
UID:10032934-1781115600-1781119200@www.dancesoul.com.tw
SUMMARY:Choreography(初)-無盡
DESCRIPTION:
URL:https://www.dancesoul.com.tw/schedule/choreography%e5%88%9d-%e7%84%a1%e7%9b%a1-14-2/2026-06-10/
CATEGORIES:Choreography 初級,常態課_初級,課程
END:VEVENT
BEGIN:VEVENT
DTSTART;TZID=Asia/Shanghai:20260611T192500
DTEND;TZID=Asia/Shanghai:20260611T202500
DTSTAMP:20260420T223233
CREATED:20260327T082918Z
LAST-MODIFIED:20260327T084510Z
UID:10034780-1781205900-1781209500@www.dancesoul.com.tw
SUMMARY:Hip Hop(初)-林彤
DESCRIPTION:
URL:https://www.dancesoul.com.tw/schedule/hip-hop%e5%88%9d-%e6%9e%97%e5%bd%a4-3-2/2026-06-11/
CATEGORIES:Hip Hop 初級,常態課_初級,課程
END:VEVENT
BEGIN:VEVENT
DTSTART;TZID=Asia/Shanghai:20260613T192500
DTEND;TZID=Asia/Shanghai:20260613T202500
DTSTAMP:20260420T223233
CREATED:20260327T082346Z
LAST-MODIFIED:20260327T082346Z
UID:10032669-1781378700-1781382300@www.dancesoul.com.tw
SUMMARY:HIP HOP-GAGA
DESCRIPTION:
URL:https://www.dancesoul.com.tw/schedule/%e5%9f%ba%e7%a4%8e%e5%85%a5%e9%96%80-%e9%9b%9e%e8%9b%8b-41-2/2026-06-13/
CATEGORIES:基礎入門,常態課_初級,課程
END:VEVENT
BEGIN:VEVENT
DTSTART;TZID=Asia/Shanghai:20260617T182000
DTEND;TZID=Asia/Shanghai:20260617T192000
DTSTAMP:20260420T223233
CREATED:20260327T082544Z
LAST-MODIFIED:20260327T082544Z
UID:10032935-1781720400-1781724000@www.dancesoul.com.tw
SUMMARY:Choreography(初)-無盡
DESCRIPTION:
URL:https://www.dancesoul.com.tw/schedule/choreography%e5%88%9d-%e7%84%a1%e7%9b%a1-14-2/2026-06-17/
CATEGORIES:Choreography 初級,常態課_初級,課程
END:VEVENT
BEGIN:VEVENT
DTSTART;TZID=Asia/Shanghai:20260618T192500
DTEND;TZID=Asia/Shanghai:20260618T202500
DTSTAMP:20260420T223233
CREATED:20260327T082918Z
LAST-MODIFIED:20260327T084510Z
UID:10034781-1781810700-1781814300@www.dancesoul.com.tw
SUMMARY:Hip Hop(初)-林彤
DESCRIPTION:
URL:https://www.dancesoul.com.tw/schedule/hip-hop%e5%88%9d-%e6%9e%97%e5%bd%a4-3-2/2026-06-18/
CATEGORIES:Hip Hop 初級,常態課_初級,課程
END:VEVENT
BEGIN:VEVENT
DTSTART;TZID=Asia/Shanghai:20260620T192500
DTEND;TZID=Asia/Shanghai:20260620T202500
DTSTAMP:20260420T223233
CREATED:20260327T082346Z
LAST-MODIFIED:20260327T082346Z
UID:10032670-1781983500-1781987100@www.dancesoul.com.tw
SUMMARY:HIP HOP-GAGA
DESCRIPTION:
URL:https://www.dancesoul.com.tw/schedule/%e5%9f%ba%e7%a4%8e%e5%85%a5%e9%96%80-%e9%9b%9e%e8%9b%8b-41-2/2026-06-20/
CATEGORIES:基礎入門,常態課_初級,課程
END:VEVENT
BEGIN:VEVENT
DTSTART;TZID=Asia/Shanghai:20260624T182000
DTEND;TZID=Asia/Shanghai:20260624T192000
DTSTAMP:20260420T223233
CREATED:20260327T082544Z
LAST-MODIFIED:20260327T082544Z
UID:10032936-1782325200-1782328800@www.dancesoul.com.tw
SUMMARY:Choreography(初)-無盡
DESCRIPTION:
URL:https://www.dancesoul.com.tw/schedule/choreography%e5%88%9d-%e7%84%a1%e7%9b%a1-14-2/2026-06-24/
CATEGORIES:Choreography 初級,常態課_初級,課程
END:VEVENT
BEGIN:VEVENT
DTSTART;TZID=Asia/Shanghai:20260625T192500
DTEND;TZID=Asia/Shanghai:20260625T202500
DTSTAMP:20260420T223233
CREATED:20260327T082918Z
LAST-MODIFIED:20260327T084510Z
UID:10034782-1782415500-1782419100@www.dancesoul.com.tw
SUMMARY:Hip Hop(初)-林彤
DESCRIPTION:
URL:https://www.dancesoul.com.tw/schedule/hip-hop%e5%88%9d-%e6%9e%97%e5%bd%a4-3-2/2026-06-25/
CATEGORIES:Hip Hop 初級,常態課_初級,課程
END:VEVENT
BEGIN:VEVENT
DTSTART;TZID=Asia/Shanghai:20260627T192500
DTEND;TZID=Asia/Shanghai:20260627T202500
DTSTAMP:20260420T223233
CREATED:20260327T082346Z
LAST-MODIFIED:20260327T082346Z
UID:10032671-1782588300-1782591900@www.dancesoul.com.tw
SUMMARY:HIP HOP-GAGA
DESCRIPTION:
URL:https://www.dancesoul.com.tw/schedule/%e5%9f%ba%e7%a4%8e%e5%85%a5%e9%96%80-%e9%9b%9e%e8%9b%8b-41-2/2026-06-27/
CATEGORIES:基礎入門,常態課_初級,課程
END:VEVENT
END:VCALENDAR