BEGIN:VCALENDAR
VERSION:2.0
PRODID:-//DANCE SOUL 舞魂街舞學校 - ECPv6.15.18//NONSGML v1.0//EN
CALSCALE:GREGORIAN
METHOD:PUBLISH
X-WR-CALNAME:DANCE SOUL 舞魂街舞學校
X-ORIGINAL-URL:https://www.dancesoul.com.tw
X-WR-CALDESC:Events for DANCE SOUL 舞魂街舞學校
REFRESH-INTERVAL;VALUE=DURATION:PT1H
X-Robots-Tag:noindex
X-PUBLISHED-TTL:PT1H
BEGIN:VTIMEZONE
TZID:Asia/Shanghai
BEGIN:STANDARD
TZOFFSETFROM:+0800
TZOFFSETTO:+0800
TZNAME:CST
DTSTART:20240101T000000
END:STANDARD
END:VTIMEZONE
BEGIN:VEVENT
DTSTART;TZID=Asia/Shanghai:20250122T182000
DTEND;TZID=Asia/Shanghai:20250122T192000
DTSTAMP:20260421T043335
CREATED:20241230T082031Z
LAST-MODIFIED:20241230T082031Z
UID:10020838-1737570000-1737573600@www.dancesoul.com.tw
SUMMARY:Street Jazz(初)-Kyle
DESCRIPTION:
URL:https://www.dancesoul.com.tw/schedule/street-jazz%e5%88%9d-kyle-22/2025-01-22/
CATEGORIES:STREET JAZZ 初級,常態課_初級,課程
END:VEVENT
BEGIN:VEVENT
DTSTART;TZID=Asia/Shanghai:20250123T154000
DTEND;TZID=Asia/Shanghai:20250123T164000
DTSTAMP:20260421T043335
CREATED:20241231T032614Z
LAST-MODIFIED:20250102T092554Z
UID:10020945-1737646800-1737650400@www.dancesoul.com.tw
SUMMARY:Street Jazz(初)-羊羊
DESCRIPTION:
URL:https://www.dancesoul.com.tw/schedule/street-jazz%e5%88%9d-%e7%be%8a%e7%be%8a/
CATEGORIES:STREET JAZZ 初級,常態課_初級,課程
END:VEVENT
BEGIN:VEVENT
DTSTART;TZID=Asia/Shanghai:20250124T182000
DTEND;TZID=Asia/Shanghai:20250124T192000
DTSTAMP:20260421T043335
CREATED:20241230T083305Z
LAST-MODIFIED:20241230T083305Z
UID:10020871-1737742800-1737746400@www.dancesoul.com.tw
SUMMARY:Street Jazz(初)-Cen妹
DESCRIPTION:
URL:https://www.dancesoul.com.tw/schedule/street-jazz%e5%88%9d-cen%e5%a6%b9-39/2025-01-24/
CATEGORIES:STREET JAZZ 初級,常態課_初級,課程
END:VEVENT
END:VCALENDAR