BEGIN:VCALENDAR
VERSION:2.0
PRODID:-//DANCE SOUL 舞魂街舞學校 - ECPv6.15.18//NONSGML v1.0//EN
CALSCALE:GREGORIAN
METHOD:PUBLISH
X-WR-CALNAME:DANCE SOUL 舞魂街舞學校
X-ORIGINAL-URL:https://www.dancesoul.com.tw
X-WR-CALDESC:Events for DANCE SOUL 舞魂街舞學校
REFRESH-INTERVAL;VALUE=DURATION:PT1H
X-Robots-Tag:noindex
X-PUBLISHED-TTL:PT1H
BEGIN:VTIMEZONE
TZID:Asia/Shanghai
BEGIN:STANDARD
TZOFFSETFROM:+0800
TZOFFSETTO:+0800
TZNAME:CST
DTSTART:20240101T000000
END:STANDARD
END:VTIMEZONE
BEGIN:VEVENT
DTSTART;TZID=Asia/Shanghai:20250630T182000
DTEND;TZID=Asia/Shanghai:20250630T192000
DTSTAMP:20260426T064952
CREATED:20250417T091105Z
LAST-MODIFIED:20250515T043131Z
UID:10021665-1751307600-1751311200@www.dancesoul.com.tw
SUMMARY:Twerk(初)-碗公
DESCRIPTION:
URL:https://www.dancesoul.com.tw/schedule/twerk%e5%88%9d-%e7%a2%97%e5%85%ac-42/2025-06-30/
CATEGORIES:Twerk 初級,常態課_初級,課程
END:VEVENT
BEGIN:VEVENT
DTSTART;TZID=Asia/Shanghai:20250630T192500
DTEND;TZID=Asia/Shanghai:20250630T202500
DTSTAMP:20260426T064952
CREATED:20250417T091529Z
LAST-MODIFIED:20250515T043326Z
UID:10021671-1751311500-1751315100@www.dancesoul.com.tw
SUMMARY:Heels(初)-宋靜
DESCRIPTION:
URL:https://www.dancesoul.com.tw/schedule/heels%e5%88%9d-%e5%ae%8b%e9%9d%9c-40/2025-06-30/
CATEGORIES:Heels 初級,常態課_初級,課程
END:VEVENT
BEGIN:VEVENT
DTSTART;TZID=Asia/Shanghai:20250702T143000
DTEND;TZID=Asia/Shanghai:20250702T153000
DTSTAMP:20260426T064952
CREATED:20250623T121721Z
LAST-MODIFIED:20250725T080546Z
UID:10021871-1751466600-1751470200@www.dancesoul.com.tw
SUMMARY:基礎入門-無盡
DESCRIPTION:
URL:https://www.dancesoul.com.tw/schedule/%e5%9f%ba%e7%a4%8e%e5%85%a5%e9%96%80-%e7%84%a1%e7%9b%a1-9/2025-07-02/
CATEGORIES:基礎入門
END:VEVENT
BEGIN:VEVENT
DTSTART;TZID=Asia/Shanghai:20250705T192500
DTEND;TZID=Asia/Shanghai:20250705T202500
DTSTAMP:20260426T064952
CREATED:20250623T132647Z
LAST-MODIFIED:20250725T090355Z
UID:10021990-1751743500-1751747100@www.dancesoul.com.tw
SUMMARY:Choreography(初)-無盡
DESCRIPTION:
URL:https://www.dancesoul.com.tw/schedule/choreography%e5%88%9d-%e7%84%a1%e7%9b%a1-13/2025-07-05/
CATEGORIES:Choreography,Choreography 初級
END:VEVENT
BEGIN:VEVENT
DTSTART;TZID=Asia/Shanghai:20250705T203000
DTEND;TZID=Asia/Shanghai:20250705T213000
DTSTAMP:20260426T064952
CREATED:20250623T132809Z
LAST-MODIFIED:20250725T090453Z
UID:10021994-1751747400-1751751000@www.dancesoul.com.tw
SUMMARY:基礎入門-雞蛋
DESCRIPTION:
URL:https://www.dancesoul.com.tw/schedule/%e5%9f%ba%e7%a4%8e%e5%85%a5%e9%96%80-%e9%9b%9e%e8%9b%8b-40/2025-07-05/
CATEGORIES:Hip Hop 初級,基礎入門
END:VEVENT
BEGIN:VEVENT
DTSTART;TZID=Asia/Shanghai:20250706T192500
DTEND;TZID=Asia/Shanghai:20250706T202500
DTSTAMP:20260426T064952
CREATED:20250623T133518Z
LAST-MODIFIED:20250623T133518Z
UID:10022018-1751829900-1751833500@www.dancesoul.com.tw
SUMMARY:Hip Hop(初)-Rod
DESCRIPTION:
URL:https://www.dancesoul.com.tw/schedule/hip-hop%e5%88%9d-rod-3/2025-07-06/
CATEGORIES:Hip Hop,Hip Hop 初級
END:VEVENT
END:VCALENDAR