BEGIN:VCALENDAR
VERSION:2.0
PRODID:-//DANCE SOUL 舞魂街舞學校 - ECPv6.15.18//NONSGML v1.0//EN
CALSCALE:GREGORIAN
METHOD:PUBLISH
X-ORIGINAL-URL:https://www.dancesoul.com.tw
X-WR-CALDESC:Events for DANCE SOUL 舞魂街舞學校
REFRESH-INTERVAL;VALUE=DURATION:PT1H
X-Robots-Tag:noindex
X-PUBLISHED-TTL:PT1H
BEGIN:VTIMEZONE
TZID:Asia/Shanghai
BEGIN:STANDARD
TZOFFSETFROM:+0800
TZOFFSETTO:+0800
TZNAME:CST
DTSTART:20250101T000000
END:STANDARD
END:VTIMEZONE
BEGIN:VEVENT
DTSTART;TZID=Asia/Shanghai:20260527T192500
DTEND;TZID=Asia/Shanghai:20260527T202500
DTSTAMP:20260421T072711
CREATED:20250828T102504Z
LAST-MODIFIED:20250828T102504Z
UID:10024696-1779909900-1779913500@www.dancesoul.com.tw
SUMMARY:Street Jazz-Larry
DESCRIPTION:
URL:https://www.dancesoul.com.tw/schedule/street-jazz-larry-30/2026-05-27/
CATEGORIES:STREET JAZZ,常態課_一般,課程
END:VEVENT
BEGIN:VEVENT
DTSTART;TZID=Asia/Shanghai:20260527T203000
DTEND;TZID=Asia/Shanghai:20260527T213000
DTSTAMP:20260421T072711
CREATED:20250828T103540Z
LAST-MODIFIED:20250828T103540Z
UID:10024957-1779913800-1779917400@www.dancesoul.com.tw
SUMMARY:Street Jazz-Kyle
DESCRIPTION:
URL:https://www.dancesoul.com.tw/schedule/street-jazz-kyle-4/2026-05-27/
CATEGORIES:STREET JAZZ,常態課_一般,課程
END:VEVENT
BEGIN:VEVENT
DTSTART;TZID=Asia/Shanghai:20260528T182000
DTEND;TZID=Asia/Shanghai:20260528T192000
DTSTAMP:20260421T072711
CREATED:20251202T055643Z
LAST-MODIFIED:20251202T055645Z
UID:10025479-1779992400-1779996000@www.dancesoul.com.tw
SUMMARY:Street Jazz-羊羊
DESCRIPTION:
URL:https://www.dancesoul.com.tw/schedule/hip-hop-%e4%bd%90%e4%bd%90-2-2/2026-05-28/
CATEGORIES:Hip Hop,常態課_一般,課程
END:VEVENT
BEGIN:VEVENT
DTSTART;TZID=Asia/Shanghai:20260528T192500
DTEND;TZID=Asia/Shanghai:20260528T202500
DTSTAMP:20260421T072711
CREATED:20260327T082918Z
LAST-MODIFIED:20260327T084510Z
UID:10034778-1779996300-1779999900@www.dancesoul.com.tw
SUMMARY:Hip Hop(初)-林彤
DESCRIPTION:
URL:https://www.dancesoul.com.tw/schedule/hip-hop%e5%88%9d-%e6%9e%97%e5%bd%a4-3-2/2026-05-28/
CATEGORIES:Hip Hop 初級,常態課_初級,課程
END:VEVENT
BEGIN:VEVENT
DTSTART;TZID=Asia/Shanghai:20260528T213500
DTEND;TZID=Asia/Shanghai:20260528T223500
DTSTAMP:20260421T072711
CREATED:20250828T104929Z
LAST-MODIFIED:20250828T104929Z
UID:10026259-1780004100-1780007700@www.dancesoul.com.tw
SUMMARY:Choreography-巴豪
DESCRIPTION:
URL:https://www.dancesoul.com.tw/schedule/choreography-%e5%b7%b4%e8%b1%aa-7/2026-05-28/
CATEGORIES:Choreography,常態課_一般,課程
END:VEVENT
BEGIN:VEVENT
DTSTART;TZID=Asia/Shanghai:20260530T132000
DTEND;TZID=Asia/Shanghai:20260530T142000
DTSTAMP:20260421T072711
CREATED:20251201T070320Z
LAST-MODIFIED:20260315T072345Z
UID:10027299-1780147200-1780150800@www.dancesoul.com.tw
SUMMARY:兒童MV(初)(i-dle - 'Mona(Feat.skaiwater)')-薇臻
DESCRIPTION:
URL:https://www.dancesoul.com.tw/schedule/%e5%85%92%e7%ab%a5%e8%a1%97%e8%88%9e-%e8%96%87%e8%87%bb-21-2-2-2/2026-05-30/
CATEGORIES:兒童街舞,兒童課
END:VEVENT
BEGIN:VEVENT
DTSTART;TZID=Asia/Shanghai:20260530T143000
DTEND;TZID=Asia/Shanghai:20260530T153000
DTSTAMP:20260421T072711
CREATED:20251202T055414Z
LAST-MODIFIED:20260315T072223Z
UID:10027560-1780151400-1780155000@www.dancesoul.com.tw
SUMMARY:兒童MV(IVE - 'BANG BANG')-薇臻
DESCRIPTION:
URL:https://www.dancesoul.com.tw/schedule/%e5%85%92%e7%ab%a5mvbabymonster-hot-sauce-%e8%96%87%e8%87%bb-2/2026-05-30/
CATEGORIES:MV課,兒童MV,課程
END:VEVENT
BEGIN:VEVENT
DTSTART;TZID=Asia/Shanghai:20260530T154000
DTEND;TZID=Asia/Shanghai:20260530T164000
DTSTAMP:20260421T072711
CREATED:20250901T055134Z
LAST-MODIFIED:20260327T083158Z
UID:10033462-1780155600-1780159200@www.dancesoul.com.tw
SUMMARY:兒童Popping-勁宏
DESCRIPTION:
URL:https://www.dancesoul.com.tw/schedule/%e5%85%92%e7%ab%a5popping-%e5%8b%81%e5%ae%8f-2/2026-05-30/
CATEGORIES:兒童街舞,課程
END:VEVENT
BEGIN:VEVENT
DTSTART;TZID=Asia/Shanghai:20260530T164000
DTEND;TZID=Asia/Shanghai:20260530T174000
DTSTAMP:20260421T072711
CREATED:20260315T072002Z
LAST-MODIFIED:20260315T072518Z
UID:10027822-1780159200-1780162800@www.dancesoul.com.tw
SUMMARY:MV(IVE - ‘BANG BANG’)-薇臻
DESCRIPTION:
URL:https://www.dancesoul.com.tw/schedule/mvive-xoxz-%e5%87%9d%e7%90%a6-2-2/2026-05-30/
CATEGORIES:MV課,課程
END:VEVENT
BEGIN:VEVENT
DTSTART;TZID=Asia/Shanghai:20260530T182000
DTEND;TZID=Asia/Shanghai:20260530T192000
DTSTAMP:20260421T072711
CREATED:20250901T055441Z
LAST-MODIFIED:20250901T055457Z
UID:10028083-1780165200-1780168800@www.dancesoul.com.tw
SUMMARY:Popping-紀威
DESCRIPTION:
URL:https://www.dancesoul.com.tw/schedule/popping-%e7%b4%80%e5%a8%81-54/2026-05-30/
CATEGORIES:Poppin,常態課_一般,課程
END:VEVENT
BEGIN:VEVENT
DTSTART;TZID=Asia/Shanghai:20260530T192500
DTEND;TZID=Asia/Shanghai:20260530T202500
DTSTAMP:20260421T072711
CREATED:20260327T082346Z
LAST-MODIFIED:20260327T082346Z
UID:10032667-1780169100-1780172700@www.dancesoul.com.tw
SUMMARY:HIP HOP-GAGA
DESCRIPTION:
URL:https://www.dancesoul.com.tw/schedule/%e5%9f%ba%e7%a4%8e%e5%85%a5%e9%96%80-%e9%9b%9e%e8%9b%8b-41-2/2026-05-30/
CATEGORIES:基礎入門,常態課_初級,課程
END:VEVENT
BEGIN:VEVENT
DTSTART;TZID=Asia/Shanghai:20260531T132000
DTEND;TZID=Asia/Shanghai:20260531T142000
DTSTAMP:20260421T072711
CREATED:20250901T055750Z
LAST-MODIFIED:20250901T055750Z
UID:10028866-1780233600-1780237200@www.dancesoul.com.tw
SUMMARY:兒童街舞-羿芃
DESCRIPTION:
URL:https://www.dancesoul.com.tw/schedule/%e5%85%92%e7%ab%a5%e8%a1%97%e8%88%9e-%e7%be%bf%e8%8a%83-20/2026-05-31/
CATEGORIES:兒童街舞,課程
END:VEVENT
BEGIN:VEVENT
DTSTART;TZID=Asia/Shanghai:20260531T143000
DTEND;TZID=Asia/Shanghai:20260531T153000
DTSTAMP:20260421T072711
CREATED:20260315T071830Z
LAST-MODIFIED:20260315T071830Z
UID:10029127-1780237800-1780241400@www.dancesoul.com.tw
SUMMARY:兒童MV(ILLIT-opps!)-羿芃
DESCRIPTION:
URL:https://www.dancesoul.com.tw/schedule/%e5%85%92%e7%ab%a5mvizna-sass-%e7%be%bf%e8%8a%83-2-2/2026-05-31/
CATEGORIES:兒童MV,兒童課
END:VEVENT
BEGIN:VEVENT
DTSTART;TZID=Asia/Shanghai:20260531T154000
DTEND;TZID=Asia/Shanghai:20260531T164000
DTSTAMP:20260421T072711
CREATED:20250901T060229Z
LAST-MODIFIED:20250901T060229Z
UID:10029388-1780242000-1780245600@www.dancesoul.com.tw
SUMMARY:兒童Street Jazz-傘傘
DESCRIPTION:
URL:https://www.dancesoul.com.tw/schedule/%e5%85%92%e7%ab%a5street-jazz-%e5%82%98%e5%82%98-4/2026-05-31/
CATEGORIES:兒童街舞,兒童課
END:VEVENT
BEGIN:VEVENT
DTSTART;TZID=Asia/Shanghai:20260531T165000
DTEND;TZID=Asia/Shanghai:20260531T175000
DTSTAMP:20260421T072711
CREATED:20251201T095640Z
LAST-MODIFIED:20260315T071631Z
UID:10029649-1780246200-1780249800@www.dancesoul.com.tw
SUMMARY:MV(Apink - 'Love Me More')-Jenny
DESCRIPTION:
URL:https://www.dancesoul.com.tw/schedule/mvsomi-closer-%e7%91%9c%e5%ba%ad-2/2026-05-31/
CATEGORIES:MV課,課程
END:VEVENT
BEGIN:VEVENT
DTSTART;TZID=Asia/Shanghai:20260531T192500
DTEND;TZID=Asia/Shanghai:20260531T202500
DTSTAMP:20260421T072711
CREATED:20260327T081608Z
LAST-MODIFIED:20260327T081608Z
UID:10030171-1780255500-1780259100@www.dancesoul.com.tw
SUMMARY:Hip Hop-ROD
DESCRIPTION:
URL:https://www.dancesoul.com.tw/schedule/hip-hop-%e6%89%bf%e7%bf%b0-2-2/2026-05-31/
CATEGORIES:Hip Hop,常態課_一般,課程
END:VEVENT
BEGIN:VEVENT
DTSTART;TZID=Asia/Shanghai:20260601T182000
DTEND;TZID=Asia/Shanghai:20260601T192000
DTSTAMP:20260421T072711
CREATED:20260327T084628Z
LAST-MODIFIED:20260327T084933Z
UID:10035307-1780338000-1780341600@www.dancesoul.com.tw
SUMMARY:MV-瑜庭
DESCRIPTION:
URL:https://www.dancesoul.com.tw/schedule/mvtwice-this-is-for-%e7%91%9c%e5%ba%ad-2/2026-06-01/
CATEGORIES:MV課,課程
END:VEVENT
BEGIN:VEVENT
DTSTART;TZID=Asia/Shanghai:20260601T213500
DTEND;TZID=Asia/Shanghai:20260601T223500
DTSTAMP:20260421T072711
CREATED:20260327T082216Z
LAST-MODIFIED:20260327T082217Z
UID:10032404-1780349700-1780353300@www.dancesoul.com.tw
SUMMARY:Jazz Funk-姿昀
DESCRIPTION:
URL:https://www.dancesoul.com.tw/schedule/jazz-funk-%e5%a7%bf%e6%98%80-15-2/2026-06-01/
CATEGORIES:Jazz Funk,課程
END:VEVENT
BEGIN:VEVENT
DTSTART;TZID=Asia/Shanghai:20260602T192500
DTEND;TZID=Asia/Shanghai:20260602T202500
DTSTAMP:20260421T072711
CREATED:20260327T083744Z
LAST-MODIFIED:20260327T083744Z
UID:10034252-1780428300-1780431900@www.dancesoul.com.tw
SUMMARY:Choreography-羅毅
DESCRIPTION:
URL:https://www.dancesoul.com.tw/schedule/choreography-%e7%be%85%e6%af%85-2-2/2026-06-02/
CATEGORIES:Choreography,常態課_一般,課程
END:VEVENT
BEGIN:VEVENT
DTSTART;TZID=Asia/Shanghai:20260602T202000
DTEND;TZID=Asia/Shanghai:20260602T212000
DTSTAMP:20260421T072711
CREATED:20250828T100203Z
LAST-MODIFIED:20250828T100203Z
UID:10023914-1780431600-1780435200@www.dancesoul.com.tw
SUMMARY:Free Style-俊宏
DESCRIPTION:
URL:https://www.dancesoul.com.tw/schedule/free-style-%e4%bf%8a%e5%ae%8f-29/2026-06-02/
CATEGORIES:Freestyle,常態課_一般,課程
END:VEVENT
BEGIN:VEVENT
DTSTART;TZID=Asia/Shanghai:20260602T213500
DTEND;TZID=Asia/Shanghai:20260602T223500
DTSTAMP:20260421T072711
CREATED:20260327T081822Z
LAST-MODIFIED:20260327T081932Z
UID:10032120-1780436100-1780439700@www.dancesoul.com.tw
SUMMARY:Hip Hop-承翰
DESCRIPTION:
URL:https://www.dancesoul.com.tw/schedule/hip-hop-%e6%89%bf%e7%bf%b0-2-3/2026-06-02/
CATEGORIES:Hip Hop,常態課_一般,課程
END:VEVENT
BEGIN:VEVENT
DTSTART;TZID=Asia/Shanghai:20260603T182000
DTEND;TZID=Asia/Shanghai:20260603T192000
DTSTAMP:20260421T072711
CREATED:20260327T082544Z
LAST-MODIFIED:20260327T082544Z
UID:10032933-1780510800-1780514400@www.dancesoul.com.tw
SUMMARY:Choreography(初)-無盡
DESCRIPTION:
URL:https://www.dancesoul.com.tw/schedule/choreography%e5%88%9d-%e7%84%a1%e7%9b%a1-14-2/2026-06-03/
CATEGORIES:Choreography 初級,常態課_初級,課程
END:VEVENT
BEGIN:VEVENT
DTSTART;TZID=Asia/Shanghai:20260603T192500
DTEND;TZID=Asia/Shanghai:20260603T202500
DTSTAMP:20260421T072711
CREATED:20250828T102504Z
LAST-MODIFIED:20250828T102504Z
UID:10024697-1780514700-1780518300@www.dancesoul.com.tw
SUMMARY:Street Jazz-Larry
DESCRIPTION:
URL:https://www.dancesoul.com.tw/schedule/street-jazz-larry-30/2026-06-03/
CATEGORIES:STREET JAZZ,常態課_一般,課程
END:VEVENT
BEGIN:VEVENT
DTSTART;TZID=Asia/Shanghai:20260603T203000
DTEND;TZID=Asia/Shanghai:20260603T213000
DTSTAMP:20260421T072711
CREATED:20250828T103540Z
LAST-MODIFIED:20250828T103540Z
UID:10024958-1780518600-1780522200@www.dancesoul.com.tw
SUMMARY:Street Jazz-Kyle
DESCRIPTION:
URL:https://www.dancesoul.com.tw/schedule/street-jazz-kyle-4/2026-06-03/
CATEGORIES:STREET JAZZ,常態課_一般,課程
END:VEVENT
BEGIN:VEVENT
DTSTART;TZID=Asia/Shanghai:20260604T182000
DTEND;TZID=Asia/Shanghai:20260604T192000
DTSTAMP:20260421T072711
CREATED:20251202T055643Z
LAST-MODIFIED:20251202T055645Z
UID:10025480-1780597200-1780600800@www.dancesoul.com.tw
SUMMARY:Street Jazz-羊羊
DESCRIPTION:
URL:https://www.dancesoul.com.tw/schedule/hip-hop-%e4%bd%90%e4%bd%90-2-2/2026-06-04/
CATEGORIES:Hip Hop,常態課_一般,課程
END:VEVENT
BEGIN:VEVENT
DTSTART;TZID=Asia/Shanghai:20260604T192500
DTEND;TZID=Asia/Shanghai:20260604T202500
DTSTAMP:20260421T072711
CREATED:20260327T082918Z
LAST-MODIFIED:20260327T084510Z
UID:10034779-1780601100-1780604700@www.dancesoul.com.tw
SUMMARY:Hip Hop(初)-林彤
DESCRIPTION:
URL:https://www.dancesoul.com.tw/schedule/hip-hop%e5%88%9d-%e6%9e%97%e5%bd%a4-3-2/2026-06-04/
CATEGORIES:Hip Hop 初級,常態課_初級,課程
END:VEVENT
BEGIN:VEVENT
DTSTART;TZID=Asia/Shanghai:20260604T213500
DTEND;TZID=Asia/Shanghai:20260604T223500
DTSTAMP:20260421T072711
CREATED:20250828T104929Z
LAST-MODIFIED:20250828T104929Z
UID:10026260-1780608900-1780612500@www.dancesoul.com.tw
SUMMARY:Choreography-巴豪
DESCRIPTION:
URL:https://www.dancesoul.com.tw/schedule/choreography-%e5%b7%b4%e8%b1%aa-7/2026-06-04/
CATEGORIES:Choreography,常態課_一般,課程
END:VEVENT
BEGIN:VEVENT
DTSTART;TZID=Asia/Shanghai:20260606T132000
DTEND;TZID=Asia/Shanghai:20260606T142000
DTSTAMP:20260421T072711
CREATED:20251201T070320Z
LAST-MODIFIED:20260315T072345Z
UID:10027300-1780752000-1780755600@www.dancesoul.com.tw
SUMMARY:兒童MV(初)(i-dle - 'Mona(Feat.skaiwater)')-薇臻
DESCRIPTION:
URL:https://www.dancesoul.com.tw/schedule/%e5%85%92%e7%ab%a5%e8%a1%97%e8%88%9e-%e8%96%87%e8%87%bb-21-2-2-2/2026-06-06/
CATEGORIES:兒童街舞,兒童課
END:VEVENT
BEGIN:VEVENT
DTSTART;TZID=Asia/Shanghai:20260606T143000
DTEND;TZID=Asia/Shanghai:20260606T153000
DTSTAMP:20260421T072711
CREATED:20251202T055414Z
LAST-MODIFIED:20260315T072223Z
UID:10027561-1780756200-1780759800@www.dancesoul.com.tw
SUMMARY:兒童MV(IVE - 'BANG BANG')-薇臻
DESCRIPTION:
URL:https://www.dancesoul.com.tw/schedule/%e5%85%92%e7%ab%a5mvbabymonster-hot-sauce-%e8%96%87%e8%87%bb-2/2026-06-06/
CATEGORIES:MV課,兒童MV,課程
END:VEVENT
BEGIN:VEVENT
DTSTART;TZID=Asia/Shanghai:20260606T154000
DTEND;TZID=Asia/Shanghai:20260606T164000
DTSTAMP:20260421T072711
CREATED:20250901T055134Z
LAST-MODIFIED:20260327T083158Z
UID:10033463-1780760400-1780764000@www.dancesoul.com.tw
SUMMARY:兒童Popping-勁宏
DESCRIPTION:
URL:https://www.dancesoul.com.tw/schedule/%e5%85%92%e7%ab%a5popping-%e5%8b%81%e5%ae%8f-2/2026-06-06/
CATEGORIES:兒童街舞,課程
END:VEVENT
END:VCALENDAR