BEGIN:VCALENDAR
VERSION:2.0
PRODID:-//DANCE SOUL 舞魂街舞學校 - ECPv6.15.18//NONSGML v1.0//EN
CALSCALE:GREGORIAN
METHOD:PUBLISH
X-ORIGINAL-URL:https://www.dancesoul.com.tw
X-WR-CALDESC:Events for DANCE SOUL 舞魂街舞學校
REFRESH-INTERVAL;VALUE=DURATION:PT1H
X-Robots-Tag:noindex
X-PUBLISHED-TTL:PT1H
BEGIN:VTIMEZONE
TZID:Asia/Shanghai
BEGIN:STANDARD
TZOFFSETFROM:+0800
TZOFFSETTO:+0800
TZNAME:CST
DTSTART:20250101T000000
END:STANDARD
END:VTIMEZONE
BEGIN:VEVENT
DTSTART;TZID=Asia/Shanghai:20260720T182000
DTEND;TZID=Asia/Shanghai:20260720T192000
DTSTAMP:20260421T082848
CREATED:20260327T084628Z
LAST-MODIFIED:20260327T084933Z
UID:10035314-1784571600-1784575200@www.dancesoul.com.tw
SUMMARY:MV-瑜庭
DESCRIPTION:
URL:https://www.dancesoul.com.tw/schedule/mvtwice-this-is-for-%e7%91%9c%e5%ba%ad-2/2026-07-20/
CATEGORIES:MV課,課程
END:VEVENT
BEGIN:VEVENT
DTSTART;TZID=Asia/Shanghai:20260720T213500
DTEND;TZID=Asia/Shanghai:20260720T223500
DTSTAMP:20260421T082848
CREATED:20260327T082216Z
LAST-MODIFIED:20260327T082217Z
UID:10032411-1784583300-1784586900@www.dancesoul.com.tw
SUMMARY:Jazz Funk-姿昀
DESCRIPTION:
URL:https://www.dancesoul.com.tw/schedule/jazz-funk-%e5%a7%bf%e6%98%80-15-2/2026-07-20/
CATEGORIES:Jazz Funk,課程
END:VEVENT
BEGIN:VEVENT
DTSTART;TZID=Asia/Shanghai:20260721T192500
DTEND;TZID=Asia/Shanghai:20260721T202500
DTSTAMP:20260421T082848
CREATED:20260327T083744Z
LAST-MODIFIED:20260327T083744Z
UID:10034259-1784661900-1784665500@www.dancesoul.com.tw
SUMMARY:Choreography-羅毅
DESCRIPTION:
URL:https://www.dancesoul.com.tw/schedule/choreography-%e7%be%85%e6%af%85-2-2/2026-07-21/
CATEGORIES:Choreography,常態課_一般,課程
END:VEVENT
BEGIN:VEVENT
DTSTART;TZID=Asia/Shanghai:20260721T202000
DTEND;TZID=Asia/Shanghai:20260721T212000
DTSTAMP:20260421T082848
CREATED:20250828T100203Z
LAST-MODIFIED:20250828T100203Z
UID:10023921-1784665200-1784668800@www.dancesoul.com.tw
SUMMARY:Free Style-俊宏
DESCRIPTION:
URL:https://www.dancesoul.com.tw/schedule/free-style-%e4%bf%8a%e5%ae%8f-29/2026-07-21/
CATEGORIES:Freestyle,常態課_一般,課程
END:VEVENT
BEGIN:VEVENT
DTSTART;TZID=Asia/Shanghai:20260721T213500
DTEND;TZID=Asia/Shanghai:20260721T223500
DTSTAMP:20260421T082848
CREATED:20260327T081822Z
LAST-MODIFIED:20260327T081932Z
UID:10032127-1784669700-1784673300@www.dancesoul.com.tw
SUMMARY:Hip Hop-承翰
DESCRIPTION:
URL:https://www.dancesoul.com.tw/schedule/hip-hop-%e6%89%bf%e7%bf%b0-2-3/2026-07-21/
CATEGORIES:Hip Hop,常態課_一般,課程
END:VEVENT
BEGIN:VEVENT
DTSTART;TZID=Asia/Shanghai:20260722T182000
DTEND;TZID=Asia/Shanghai:20260722T192000
DTSTAMP:20260421T082848
CREATED:20260327T082544Z
LAST-MODIFIED:20260327T082544Z
UID:10032940-1784744400-1784748000@www.dancesoul.com.tw
SUMMARY:Choreography(初)-無盡
DESCRIPTION:
URL:https://www.dancesoul.com.tw/schedule/choreography%e5%88%9d-%e7%84%a1%e7%9b%a1-14-2/2026-07-22/
CATEGORIES:Choreography 初級,常態課_初級,課程
END:VEVENT
BEGIN:VEVENT
DTSTART;TZID=Asia/Shanghai:20260722T192500
DTEND;TZID=Asia/Shanghai:20260722T202500
DTSTAMP:20260421T082848
CREATED:20250828T102504Z
LAST-MODIFIED:20250828T102504Z
UID:10024704-1784748300-1784751900@www.dancesoul.com.tw
SUMMARY:Street Jazz-Larry
DESCRIPTION:
URL:https://www.dancesoul.com.tw/schedule/street-jazz-larry-30/2026-07-22/
CATEGORIES:STREET JAZZ,常態課_一般,課程
END:VEVENT
BEGIN:VEVENT
DTSTART;TZID=Asia/Shanghai:20260722T203000
DTEND;TZID=Asia/Shanghai:20260722T213000
DTSTAMP:20260421T082848
CREATED:20250828T103540Z
LAST-MODIFIED:20250828T103540Z
UID:10024965-1784752200-1784755800@www.dancesoul.com.tw
SUMMARY:Street Jazz-Kyle
DESCRIPTION:
URL:https://www.dancesoul.com.tw/schedule/street-jazz-kyle-4/2026-07-22/
CATEGORIES:STREET JAZZ,常態課_一般,課程
END:VEVENT
BEGIN:VEVENT
DTSTART;TZID=Asia/Shanghai:20260723T182000
DTEND;TZID=Asia/Shanghai:20260723T192000
DTSTAMP:20260421T082848
CREATED:20251202T055643Z
LAST-MODIFIED:20251202T055645Z
UID:10025487-1784830800-1784834400@www.dancesoul.com.tw
SUMMARY:Street Jazz-羊羊
DESCRIPTION:
URL:https://www.dancesoul.com.tw/schedule/hip-hop-%e4%bd%90%e4%bd%90-2-2/2026-07-23/
CATEGORIES:Hip Hop,常態課_一般,課程
END:VEVENT
BEGIN:VEVENT
DTSTART;TZID=Asia/Shanghai:20260723T192500
DTEND;TZID=Asia/Shanghai:20260723T202500
DTSTAMP:20260421T082848
CREATED:20260327T082918Z
LAST-MODIFIED:20260327T084510Z
UID:10034786-1784834700-1784838300@www.dancesoul.com.tw
SUMMARY:Hip Hop(初)-林彤
DESCRIPTION:
URL:https://www.dancesoul.com.tw/schedule/hip-hop%e5%88%9d-%e6%9e%97%e5%bd%a4-3-2/2026-07-23/
CATEGORIES:Hip Hop 初級,常態課_初級,課程
END:VEVENT
BEGIN:VEVENT
DTSTART;TZID=Asia/Shanghai:20260723T213500
DTEND;TZID=Asia/Shanghai:20260723T223500
DTSTAMP:20260421T082848
CREATED:20250828T104929Z
LAST-MODIFIED:20250828T104929Z
UID:10026267-1784842500-1784846100@www.dancesoul.com.tw
SUMMARY:Choreography-巴豪
DESCRIPTION:
URL:https://www.dancesoul.com.tw/schedule/choreography-%e5%b7%b4%e8%b1%aa-7/2026-07-23/
CATEGORIES:Choreography,常態課_一般,課程
END:VEVENT
BEGIN:VEVENT
DTSTART;TZID=Asia/Shanghai:20260725T132000
DTEND;TZID=Asia/Shanghai:20260725T142000
DTSTAMP:20260421T082848
CREATED:20251201T070320Z
LAST-MODIFIED:20260315T072345Z
UID:10027307-1784985600-1784989200@www.dancesoul.com.tw
SUMMARY:兒童MV(初)(i-dle - 'Mona(Feat.skaiwater)')-薇臻
DESCRIPTION:
URL:https://www.dancesoul.com.tw/schedule/%e5%85%92%e7%ab%a5%e8%a1%97%e8%88%9e-%e8%96%87%e8%87%bb-21-2-2-2/2026-07-25/
CATEGORIES:兒童街舞,兒童課
END:VEVENT
BEGIN:VEVENT
DTSTART;TZID=Asia/Shanghai:20260725T143000
DTEND;TZID=Asia/Shanghai:20260725T153000
DTSTAMP:20260421T082848
CREATED:20251202T055414Z
LAST-MODIFIED:20260315T072223Z
UID:10027568-1784989800-1784993400@www.dancesoul.com.tw
SUMMARY:兒童MV(IVE - 'BANG BANG')-薇臻
DESCRIPTION:
URL:https://www.dancesoul.com.tw/schedule/%e5%85%92%e7%ab%a5mvbabymonster-hot-sauce-%e8%96%87%e8%87%bb-2/2026-07-25/
CATEGORIES:MV課,兒童MV,課程
END:VEVENT
BEGIN:VEVENT
DTSTART;TZID=Asia/Shanghai:20260725T154000
DTEND;TZID=Asia/Shanghai:20260725T164000
DTSTAMP:20260421T082848
CREATED:20250901T055134Z
LAST-MODIFIED:20260327T083158Z
UID:10033470-1784994000-1784997600@www.dancesoul.com.tw
SUMMARY:兒童Popping-勁宏
DESCRIPTION:
URL:https://www.dancesoul.com.tw/schedule/%e5%85%92%e7%ab%a5popping-%e5%8b%81%e5%ae%8f-2/2026-07-25/
CATEGORIES:兒童街舞,課程
END:VEVENT
BEGIN:VEVENT
DTSTART;TZID=Asia/Shanghai:20260725T164000
DTEND;TZID=Asia/Shanghai:20260725T174000
DTSTAMP:20260421T082848
CREATED:20260315T072002Z
LAST-MODIFIED:20260315T072518Z
UID:10027830-1784997600-1785001200@www.dancesoul.com.tw
SUMMARY:MV(IVE - ‘BANG BANG’)-薇臻
DESCRIPTION:
URL:https://www.dancesoul.com.tw/schedule/mvive-xoxz-%e5%87%9d%e7%90%a6-2-2/2026-07-25/
CATEGORIES:MV課,課程
END:VEVENT
BEGIN:VEVENT
DTSTART;TZID=Asia/Shanghai:20260725T182000
DTEND;TZID=Asia/Shanghai:20260725T192000
DTSTAMP:20260421T082848
CREATED:20250901T055441Z
LAST-MODIFIED:20250901T055457Z
UID:10028091-1785003600-1785007200@www.dancesoul.com.tw
SUMMARY:Popping-紀威
DESCRIPTION:
URL:https://www.dancesoul.com.tw/schedule/popping-%e7%b4%80%e5%a8%81-54/2026-07-25/
CATEGORIES:Poppin,常態課_一般,課程
END:VEVENT
BEGIN:VEVENT
DTSTART;TZID=Asia/Shanghai:20260725T192500
DTEND;TZID=Asia/Shanghai:20260725T202500
DTSTAMP:20260421T082848
CREATED:20260327T082346Z
LAST-MODIFIED:20260327T082346Z
UID:10032675-1785007500-1785011100@www.dancesoul.com.tw
SUMMARY:HIP HOP-GAGA
DESCRIPTION:
URL:https://www.dancesoul.com.tw/schedule/%e5%9f%ba%e7%a4%8e%e5%85%a5%e9%96%80-%e9%9b%9e%e8%9b%8b-41-2/2026-07-25/
CATEGORIES:基礎入門,常態課_初級,課程
END:VEVENT
BEGIN:VEVENT
DTSTART;TZID=Asia/Shanghai:20260726T132000
DTEND;TZID=Asia/Shanghai:20260726T142000
DTSTAMP:20260421T082848
CREATED:20250901T055750Z
LAST-MODIFIED:20250901T055750Z
UID:10028874-1785072000-1785075600@www.dancesoul.com.tw
SUMMARY:兒童街舞-羿芃
DESCRIPTION:
URL:https://www.dancesoul.com.tw/schedule/%e5%85%92%e7%ab%a5%e8%a1%97%e8%88%9e-%e7%be%bf%e8%8a%83-20/2026-07-26/
CATEGORIES:兒童街舞,課程
END:VEVENT
BEGIN:VEVENT
DTSTART;TZID=Asia/Shanghai:20260726T143000
DTEND;TZID=Asia/Shanghai:20260726T153000
DTSTAMP:20260421T082848
CREATED:20260315T071830Z
LAST-MODIFIED:20260315T071830Z
UID:10029135-1785076200-1785079800@www.dancesoul.com.tw
SUMMARY:兒童MV(ILLIT-opps!)-羿芃
DESCRIPTION:
URL:https://www.dancesoul.com.tw/schedule/%e5%85%92%e7%ab%a5mvizna-sass-%e7%be%bf%e8%8a%83-2-2/2026-07-26/
CATEGORIES:兒童MV,兒童課
END:VEVENT
BEGIN:VEVENT
DTSTART;TZID=Asia/Shanghai:20260726T154000
DTEND;TZID=Asia/Shanghai:20260726T164000
DTSTAMP:20260421T082848
CREATED:20250901T060229Z
LAST-MODIFIED:20250901T060229Z
UID:10029396-1785080400-1785084000@www.dancesoul.com.tw
SUMMARY:兒童Street Jazz-傘傘
DESCRIPTION:
URL:https://www.dancesoul.com.tw/schedule/%e5%85%92%e7%ab%a5street-jazz-%e5%82%98%e5%82%98-4/2026-07-26/
CATEGORIES:兒童街舞,兒童課
END:VEVENT
BEGIN:VEVENT
DTSTART;TZID=Asia/Shanghai:20260726T165000
DTEND;TZID=Asia/Shanghai:20260726T175000
DTSTAMP:20260421T082848
CREATED:20251201T095640Z
LAST-MODIFIED:20260315T071631Z
UID:10029657-1785084600-1785088200@www.dancesoul.com.tw
SUMMARY:MV(Apink - 'Love Me More')-Jenny
DESCRIPTION:
URL:https://www.dancesoul.com.tw/schedule/mvsomi-closer-%e7%91%9c%e5%ba%ad-2/2026-07-26/
CATEGORIES:MV課,課程
END:VEVENT
BEGIN:VEVENT
DTSTART;TZID=Asia/Shanghai:20260726T192500
DTEND;TZID=Asia/Shanghai:20260726T202500
DTSTAMP:20260421T082848
CREATED:20260327T081608Z
LAST-MODIFIED:20260327T081608Z
UID:10030179-1785093900-1785097500@www.dancesoul.com.tw
SUMMARY:Hip Hop-ROD
DESCRIPTION:
URL:https://www.dancesoul.com.tw/schedule/hip-hop-%e6%89%bf%e7%bf%b0-2-2/2026-07-26/
CATEGORIES:Hip Hop,常態課_一般,課程
END:VEVENT
END:VCALENDAR