BEGIN:VCALENDAR
VERSION:2.0
PRODID:-//DANCE SOUL 舞魂街舞學校 - ECPv6.15.18//NONSGML v1.0//EN
CALSCALE:GREGORIAN
METHOD:PUBLISH
X-WR-CALNAME:DANCE SOUL 舞魂街舞學校
X-ORIGINAL-URL:https://www.dancesoul.com.tw
X-WR-CALDESC:Events for DANCE SOUL 舞魂街舞學校
REFRESH-INTERVAL;VALUE=DURATION:PT1H
X-Robots-Tag:noindex
X-PUBLISHED-TTL:PT1H
BEGIN:VTIMEZONE
TZID:Asia/Shanghai
BEGIN:STANDARD
TZOFFSETFROM:+0800
TZOFFSETTO:+0800
TZNAME:CST
DTSTART:20230101T000000
END:STANDARD
END:VTIMEZONE
BEGIN:VEVENT
DTSTART;TZID=Asia/Shanghai:20241214T132000
DTEND;TZID=Asia/Shanghai:20241214T142000
DTSTAMP:20260422T055505
CREATED:20241125T100450Z
LAST-MODIFIED:20241125T100450Z
UID:10020602-1734182400-1734186000@www.dancesoul.com.tw
SUMMARY:兒童街舞-薇臻
DESCRIPTION:
URL:https://www.dancesoul.com.tw/schedule/%e5%85%92%e7%ab%a5%e8%a1%97%e8%88%9e-%e8%96%87%e8%87%bb-13/2024-12-14/
CATEGORIES:Lyrical Jazz,Popping 初級,兒童街舞,兒童課,課程
END:VEVENT
BEGIN:VEVENT
DTSTART;TZID=Asia/Shanghai:20241214T143000
DTEND;TZID=Asia/Shanghai:20241214T153000
DTSTAMP:20260422T055505
CREATED:20241125T100959Z
LAST-MODIFIED:20241125T100959Z
UID:10020606-1734186600-1734190200@www.dancesoul.com.tw
SUMMARY:兒童MV-(BABYMONSTER - DRIP)-薇臻
DESCRIPTION:
URL:https://www.dancesoul.com.tw/schedule/%e5%85%92%e7%ab%a5mv-babymonster-drip-%e8%96%87%e8%87%bb/2024-12-14/
CATEGORIES:Popping 初級,兒童MV,兒童課,課程
END:VEVENT
BEGIN:VEVENT
DTSTART;TZID=Asia/Shanghai:20241214T154000
DTEND;TZID=Asia/Shanghai:20241214T164000
DTSTAMP:20260422T055505
CREATED:20241125T101237Z
LAST-MODIFIED:20241125T101237Z
UID:10020615-1734190800-1734194400@www.dancesoul.com.tw
SUMMARY:兒童基礎街舞-傘傘
DESCRIPTION:
URL:https://www.dancesoul.com.tw/schedule/%e5%85%92%e7%ab%a5%e5%9f%ba%e7%a4%8e%e8%a1%97%e8%88%9e-%e5%82%98%e5%82%98-6/2024-12-14/
CATEGORIES:Lyrical Jazz,Popping 初級,兒童基礎街舞,兒童課,課程
END:VEVENT
END:VCALENDAR