BEGIN:VCALENDAR
VERSION:2.0
PRODID:-//DANCE SOUL 舞魂街舞學校 - ECPv6.15.18//NONSGML v1.0//EN
CALSCALE:GREGORIAN
METHOD:PUBLISH
X-ORIGINAL-URL:https://www.dancesoul.com.tw
X-WR-CALDESC:Events for DANCE SOUL 舞魂街舞學校
REFRESH-INTERVAL;VALUE=DURATION:PT1H
X-Robots-Tag:noindex
X-PUBLISHED-TTL:PT1H
BEGIN:VTIMEZONE
TZID:Asia/Shanghai
BEGIN:STANDARD
TZOFFSETFROM:+0800
TZOFFSETTO:+0800
TZNAME:CST
DTSTART:20240101T000000
END:STANDARD
END:VTIMEZONE
BEGIN:VEVENT
DTSTART;TZID=Asia/Shanghai:20250121T143000
DTEND;TZID=Asia/Shanghai:20250121T153000
DTSTAMP:20260420T210431
CREATED:20241231T031035Z
LAST-MODIFIED:20250102T092049Z
UID:10020935-1737469800-1737473400@www.dancesoul.com.tw
SUMMARY:兒童MV-(當日Dance Soul IG 限動公布歌曲)-昀珊
DESCRIPTION:
URL:https://www.dancesoul.com.tw/schedule/%e5%85%92%e7%ab%a5mv-%e7%95%b6%e6%97%a5dance-soul-ig-%e9%99%90%e5%8b%95%e5%85%ac%e5%b8%83%e6%ad%8c%e6%9b%b2-%e6%98%80%e7%8f%8a/
CATEGORIES:Popping 初級,兒童MV,兒童課,課程
END:VEVENT
BEGIN:VEVENT
DTSTART;TZID=Asia/Shanghai:20250123T143000
DTEND;TZID=Asia/Shanghai:20250123T153000
DTSTAMP:20260420T210431
CREATED:20241231T031151Z
LAST-MODIFIED:20250102T092522Z
UID:10020936-1737642600-1737646200@www.dancesoul.com.tw
SUMMARY:兒童MV-(當日Dance Soul IG 限動公布歌曲)-蕭蕭
DESCRIPTION:
URL:https://www.dancesoul.com.tw/schedule/%e5%85%92%e7%ab%a5mv-%e7%95%b6%e6%97%a5dance-soul-ig-%e9%99%90%e5%8b%95%e5%85%ac%e5%b8%83%e6%ad%8c%e6%9b%b2-%e8%95%ad%e8%95%ad/
CATEGORIES:Popping 初級,兒童MV,兒童課,課程
END:VEVENT
BEGIN:VEVENT
DTSTART;TZID=Asia/Shanghai:20250125T132000
DTEND;TZID=Asia/Shanghai:20250125T142000
DTSTAMP:20260420T210431
CREATED:20241230T071935Z
LAST-MODIFIED:20241230T071935Z
UID:10020774-1737811200-1737814800@www.dancesoul.com.tw
SUMMARY:兒童街舞-薇臻
DESCRIPTION:
URL:https://www.dancesoul.com.tw/schedule/%e5%85%92%e7%ab%a5%e8%a1%97%e8%88%9e-%e8%96%87%e8%87%bb-14/2025-01-25/
CATEGORIES:Popping 初級,兒童街舞,兒童課,課程
END:VEVENT
BEGIN:VEVENT
DTSTART;TZID=Asia/Shanghai:20250125T143000
DTEND;TZID=Asia/Shanghai:20250125T153000
DTSTAMP:20260420T210431
CREATED:20241230T072047Z
LAST-MODIFIED:20241230T072047Z
UID:10020778-1737815400-1737819000@www.dancesoul.com.tw
SUMMARY:兒童MV-(MEOVV - BODY)-薇臻
DESCRIPTION:
URL:https://www.dancesoul.com.tw/schedule/%e5%85%92%e7%ab%a5mv-meovv-body-%e8%96%87%e8%87%bb/2025-01-25/
CATEGORIES:Popping 初級,兒童MV,兒童課,課程
END:VEVENT
BEGIN:VEVENT
DTSTART;TZID=Asia/Shanghai:20250125T154000
DTEND;TZID=Asia/Shanghai:20250125T164000
DTSTAMP:20260420T210431
CREATED:20241230T072353Z
LAST-MODIFIED:20241230T072353Z
UID:10020782-1737819600-1737823200@www.dancesoul.com.tw
SUMMARY:兒童Krump-Coffee
DESCRIPTION:
URL:https://www.dancesoul.com.tw/schedule/%e5%85%92%e7%ab%a5krump-coffee/2025-01-25/
CATEGORIES:Popping 初級,兒童Krump,兒童課,課程
END:VEVENT
BEGIN:VEVENT
DTSTART;TZID=Asia/Shanghai:20250126T132000
DTEND;TZID=Asia/Shanghai:20250126T142000
DTSTAMP:20260420T210431
CREATED:20241230T073118Z
LAST-MODIFIED:20241230T073118Z
UID:10020802-1737897600-1737901200@www.dancesoul.com.tw
SUMMARY:兒童街舞-羿芃
DESCRIPTION:
URL:https://www.dancesoul.com.tw/schedule/%e5%85%92%e7%ab%a5%e8%a1%97%e8%88%9e-%e7%be%bf%e8%8a%83-13/2025-01-26/
CATEGORIES:Popping 初級,兒童街舞,兒童課,課程
END:VEVENT
BEGIN:VEVENT
DTSTART;TZID=Asia/Shanghai:20250126T143000
DTEND;TZID=Asia/Shanghai:20250126T153000
DTSTAMP:20260420T210431
CREATED:20241230T073451Z
LAST-MODIFIED:20241230T073451Z
UID:10020806-1737901800-1737905400@www.dancesoul.com.tw
SUMMARY:兒童MV-(TWICE - Strategy)-羿芃
DESCRIPTION:
URL:https://www.dancesoul.com.tw/schedule/%e5%85%92%e7%ab%a5mv-twice-strategy-%e7%be%bf%e8%8a%83/2025-01-26/
CATEGORIES:Popping 初級,兒童MV,兒童課,課程
END:VEVENT
BEGIN:VEVENT
DTSTART;TZID=Asia/Shanghai:20250126T154000
DTEND;TZID=Asia/Shanghai:20250126T164000
DTSTAMP:20260420T210431
CREATED:20241230T073526Z
LAST-MODIFIED:20241230T073526Z
UID:10020810-1737906000-1737909600@www.dancesoul.com.tw
SUMMARY:兒童 Street Jazz-傘傘
DESCRIPTION:
URL:https://www.dancesoul.com.tw/schedule/%e5%85%92%e7%ab%a5-street-jazz-%e5%82%98%e5%82%98-5/2025-01-26/
CATEGORIES:Popping 初級,兒童 Street Jazz,兒童課,課程
END:VEVENT
END:VCALENDAR